BEGIN:VCALENDAR
VERSION:2.0
PRODID:-//Glen Lake Chamber of Commerce - ECPv6.15.20//NONSGML v1.0//EN
CALSCALE:GREGORIAN
METHOD:PUBLISH
X-WR-CALNAME:Glen Lake Chamber of Commerce
X-ORIGINAL-URL:https://www.visitglenarbor.com
X-WR-CALDESC:Events for Glen Lake Chamber of Commerce
REFRESH-INTERVAL;VALUE=DURATION:PT1H
X-Robots-Tag:noindex
X-PUBLISHED-TTL:PT1H
BEGIN:VTIMEZONE
TZID:America/Detroit
BEGIN:DAYLIGHT
TZOFFSETFROM:-0500
TZOFFSETTO:-0400
TZNAME:EDT
DTSTART:20200308T070000
END:DAYLIGHT
BEGIN:STANDARD
TZOFFSETFROM:-0400
TZOFFSETTO:-0500
TZNAME:EST
DTSTART:20201101T060000
END:STANDARD
BEGIN:DAYLIGHT
TZOFFSETFROM:-0500
TZOFFSETTO:-0400
TZNAME:EDT
DTSTART:20210314T070000
END:DAYLIGHT
BEGIN:STANDARD
TZOFFSETFROM:-0400
TZOFFSETTO:-0500
TZNAME:EST
DTSTART:20211107T060000
END:STANDARD
BEGIN:DAYLIGHT
TZOFFSETFROM:-0500
TZOFFSETTO:-0400
TZNAME:EDT
DTSTART:20220313T070000
END:DAYLIGHT
BEGIN:STANDARD
TZOFFSETFROM:-0400
TZOFFSETTO:-0500
TZNAME:EST
DTSTART:20221106T060000
END:STANDARD
END:VTIMEZONE
BEGIN:VEVENT
DTSTART;TZID=America/Detroit:20210817T093000
DTEND;TZID=America/Detroit:20210817T120000
DTSTAMP:20260425T110229
CREATED:20210716T171102Z
LAST-MODIFIED:20210716T171102Z
UID:10003142-1629192600-1629201600@www.visitglenarbor.com
SUMMARY:Biking Historic Sleeping Bear
DESCRIPTION:Discover the Historic Side of Sleeping Bear\nCombine the fun of biking with discovery of local lore and history! Ride the rural landscape and get a close-up guided tour of the area’s history imagining life in the early 19th century.\nBiking Historic Sleeping Bear \nTime: 9:30 am – 12:00    Miles:  Approx. 5.5 miles    \nCost: $25 per adult/ $15 per child ages 10-17 \nExplore the cultural landscape of Sleeping Bear and its 19th century heritage as we ride the Heritage Trail and scenic\, rural roads in the heart of Port Oneida past farms and pastures. Enjoy seven stops of interest\, unique views of Lake Michigan\, and get inside some of the farm buildings. On this leisurely paced ride\, hear about folk lore\, harrowing stories of shipwrecks and pirates\, and how the land was used through time. A good balance of stops and narration along the way. The tour starts and ends at the Port Oneida Heritage Center.  Group discount available. (Photo credit: Glen Arbor Sun)
URL:https://www.visitglenarbor.com/event/biking-historic-sleeping-bear/2021-08-17/
LOCATION:Port Oneida Heritage Center\, 3164 W. Harbor Hwy.\, Maple City\, Michigan\, 49630
CATEGORIES:Recreation
ATTACH;FMTTYPE=image/jpeg:https://www.visitglenarbor.com/wp-content/uploads/2021/07/Glen-Arbor-Sun-article-Copy.jpg
END:VEVENT
END:VCALENDAR