BEGIN:VCALENDAR
VERSION:2.0
PRODID:-//Glen Lake Chamber of Commerce - ECPv6.15.20//NONSGML v1.0//EN
CALSCALE:GREGORIAN
METHOD:PUBLISH
X-ORIGINAL-URL:https://www.visitglenarbor.com
X-WR-CALDESC:Events for Glen Lake Chamber of Commerce
REFRESH-INTERVAL;VALUE=DURATION:PT1H
X-Robots-Tag:noindex
X-PUBLISHED-TTL:PT1H
BEGIN:VTIMEZONE
TZID:America/Detroit
BEGIN:DAYLIGHT
TZOFFSETFROM:-0500
TZOFFSETTO:-0400
TZNAME:EDT
DTSTART:20170312T070000
END:DAYLIGHT
BEGIN:STANDARD
TZOFFSETFROM:-0400
TZOFFSETTO:-0500
TZNAME:EST
DTSTART:20171105T060000
END:STANDARD
BEGIN:DAYLIGHT
TZOFFSETFROM:-0500
TZOFFSETTO:-0400
TZNAME:EDT
DTSTART:20180311T070000
END:DAYLIGHT
BEGIN:STANDARD
TZOFFSETFROM:-0400
TZOFFSETTO:-0500
TZNAME:EST
DTSTART:20181104T060000
END:STANDARD
BEGIN:DAYLIGHT
TZOFFSETFROM:-0500
TZOFFSETTO:-0400
TZNAME:EDT
DTSTART:20190310T070000
END:DAYLIGHT
BEGIN:STANDARD
TZOFFSETFROM:-0400
TZOFFSETTO:-0500
TZNAME:EST
DTSTART:20191103T060000
END:STANDARD
END:VTIMEZONE
BEGIN:VEVENT
DTSTART;TZID=America/Detroit:20180804T070000
DTEND;TZID=America/Detroit:20180804T100000
DTSTAMP:20260425T123557
CREATED:20180614T223508Z
LAST-MODIFIED:20200309T054852Z
UID:10003063-1533366000-1533376800@www.visitglenarbor.com
SUMMARY:9th Annual Port Oneida Run/Walk Fundraiser\,
DESCRIPTION:Run to Preserve Historic Buildings and Landscapes in Sleeping Bear Dunes.\nSaturday\, August 4\, 2018 \nRace Organizer: Historic Sleeping Bear Preservation\, official nonprofit partner of Sleeping Bear Dunes National Lakeshore. \nChoose your Race: Farmers Flat and Fast 5K\, Homesteader’s Hardcore 5K\, and Tiller’s 10K. Kid’s Schoolhouse Dash. Walkers welcome. Proud to be a part of Traverse City Track Club’s Grand Prix Series. \nCourses wind through beautiful scenery of Sleeping Bear Dunes National Lakeshore’s Port Oneida Rural Historic District. With its historic farms and barns\, the district is hailed as “one of the most prized historic landscapes in the country”. Afterward\, take a swim on the beautiful beaches just down the road. \nEnjoy chip timing\, station hydration\, unique awards and great edibles! This is a fun community event that draws serious runners\, AND those casual runners\, walkers and families. Enjoy the park – Families can find a place on the lawn to spread a blanket and enjoy the food and post-run celebration \nLocation: Port Oneida Farms Heritage Center at the historic Olsen Farm\, 3164 Harbor Way (M-22) Glen Arbor\, 3 miles north of Glen Arbor\, Michigan. \nPacket Pick-up: 7-8:15 am. and walk-in registration \nRegister: $30 by August 1 st. $35 after that. Walk-ons welcome. Click to register: Port OneidaRegistration. Register by July 12th to be guaranteed a T-Shirt. \nFor more information: www.phsb.org or call 231-334-6103 \n 
URL:https://www.visitglenarbor.com/event/9th-annual-port-oneida-run-walk-fundraiser/
LOCATION:Port Oneida Rural Historic District\, 3164 W Harbor Hwy\, Maple City\, MI\, 49664\, United States
CATEGORIES:Kids + Family Friendly,Race,Recreation
ATTACH;FMTTYPE=image/jpeg:https://www.visitglenarbor.com/wp-content/uploads/2020/03/5394web.jpg
END:VEVENT
BEGIN:VEVENT
DTSTART;TZID=America/Detroit:20180805T110000
DTEND;TZID=America/Detroit:20180805T120000
DTSTAMP:20260425T123557
CREATED:20180804T164845Z
LAST-MODIFIED:20200309T054901Z
UID:10003122-1533466800-1533470400@www.visitglenarbor.com
SUMMARY:Open Gardens : Olsen Farm
DESCRIPTION:August 5     Sunday       Open Gardens for the Family  11-2    \nDrop in to explore the Olsen farm vegetable Garden with fun\, guided activities for all ages. You might discover what’s growing in season\, practice historic planting techniques\, go on an insect safari or explore the wild world of soil!
URL:https://www.visitglenarbor.com/event/open-gardens-olsen-farm/
LOCATION:Olsen Farm/Preserve Historic Sleeping Bear\, 3164 W Harbor Hwy\, Maple City\, MI\, 49664\, United States
CATEGORIES:Education,Recreation
END:VEVENT
BEGIN:VEVENT
DTSTART;TZID=America/Detroit:20180805T140000
DTEND;TZID=America/Detroit:20180805T160000
DTSTAMP:20260425T123557
CREATED:20180804T165202Z
LAST-MODIFIED:20210727T194115Z
UID:10003123-1533477600-1533484800@www.visitglenarbor.com
SUMMARY:Let’s Visit the Neighbors! Port Oneida Bike Tour
DESCRIPTION:August 5\, Sunday     \nLet’s Visit the Neighbors! Port Oneida Bike Tour 2      \nfrom 2-4 pm \nExperience what it was like to drop in on neighbors in and around historic Port Oneida to catch up on all the news! As you travel by bicycles on the Sleeping Bear Heritage Trail\, a gravel road and paved Port Oneida road\, you’ll enjoy interpretive visits with neighbors all along the way. \nYou will visit five historic farms and a historic school on this four-mile ride. Please bring water and wear a helmet! The ride will be held weather permitting. \nAdmission: Free; donations accepted \nLocated at: Port Oneida Rural Historic District\, 3164 W. Harbor Highway\, Maple City\, MI 49664
URL:https://www.visitglenarbor.com/event/lets-visit-the-neighbors-port-oneida-bike-tour/
LOCATION:MI\, United States
CATEGORIES:Recreation
END:VEVENT
BEGIN:VEVENT
DTSTART;TZID=America/Detroit:20180809T093000
DTEND;TZID=America/Detroit:20180809T093000
DTSTAMP:20260425T123557
CREATED:20180804T175026Z
LAST-MODIFIED:20210727T194151Z
UID:10003127-1533807000-1533807000@www.visitglenarbor.com
SUMMARY:Let’s Visit the Neighbors! Port Oneida Bike Tour    
DESCRIPTION:August 9\, Thursday    \nLet’s Visit the Neighbors! Port Oneida Bike Tour     \nat 9:30 am \nExperience what it was like to drop in on neighbors in and around historic Port Oneida to catch up on all the news! As you travel by bicycles on the Sleeping Bear Heritage Trail\, a gravel road and paved Port Oneida road\, you’ll enjoy interpretive visits with neighbors all along the way. \nYou will visit five historic farms and a historic school on this four-mile ride. Please bring water and wear a helmet! The ride will be held weather permitting. \nAdmission: Free; donations accepted. \nLocated at: Port Oneida Rural Historic District\, 3164 W. Harbor Highway\, Maple City\, MI 49664
URL:https://www.visitglenarbor.com/event/lets-visit-the-neighbors-port-oneida-bike-tour-2/
LOCATION:Olsen Farm/Preserve Historic Sleeping Bear\, 3164 W Harbor Hwy\, Maple City\, MI\, 49664\, United States
CATEGORIES:Recreation
END:VEVENT
BEGIN:VEVENT
DTSTART;TZID=America/Detroit:20180809T190000
DTEND;TZID=America/Detroit:20180809T201500
DTSTAMP:20260425T123557
CREATED:20180804T175247Z
LAST-MODIFIED:20200309T054903Z
UID:10003128-1533841200-1533845700@www.visitglenarbor.com
SUMMARY:Evenings in the Garden: Bouquet Making
DESCRIPTION:August 9\, Thursday   \nEvenings in the Garden: Bouquet Making     \n7:00 -8:15 pm \nPart of our Harvest Series of classes designed for budding floral enthusiasts. Enjoy the art of maintaining\, harvesting and designing seasonal blooms and exploring what being in the garden means to you. Enjoy “golden hour” in this beautiful setting as you connect and create in Hattie’s historic garden. \nDonation: $10 per person or $15 per family.
URL:https://www.visitglenarbor.com/event/evenings-in-the-garden-bouquet-making/
LOCATION:Olsen Farm/Preserve Historic Sleeping Bear\, 3164 W Harbor Hwy\, Maple City\, MI\, 49664\, United States
CATEGORIES:Education,Kids + Family Friendly
END:VEVENT
BEGIN:VEVENT
DTSTART;TZID=America/Detroit:20180810T100000
DTEND;TZID=America/Detroit:20180810T160000
DTSTAMP:20260425T123557
CREATED:20180804T175646Z
LAST-MODIFIED:20200309T054903Z
UID:10003129-1533895200-1533916800@www.visitglenarbor.com
SUMMARY:Port Oneida Rural and Cultural Fair 2018
DESCRIPTION:Friday and Saturday\, August 10 & 11\,  \nPort Oneida Rural and Cultural Fair \nfrom 10:00 am – 4 pm \nHistory comes to life at six historic farmsteads and the Port Oneida Schoolhouse in Port Oneida. Presented by Sleeping Bear Dunes National Lakeshore in partnership with Preserve Historic Sleeping Bear. Event is free\, Park pass required.  \nLearn more. If you would like to demonstrate a traditional skill or craft\, or volunteer at the event\, please contact us at phsb@leelana.com
URL:https://www.visitglenarbor.com/event/port-oneida-rural-and-cultural-fair-2018/
LOCATION:Olsen Farm/Preserve Historic Sleeping Bear\, 3164 W Harbor Hwy\, Maple City\, MI\, 49664\, United States
CATEGORIES:Education,Kids + Family Friendly,Recreation
ATTACH;FMTTYPE=image/jpeg:https://www.visitglenarbor.com/wp-content/uploads/2020/03/Dechow-2013.jpg
END:VEVENT
END:VCALENDAR