BEGIN:VCALENDAR
VERSION:2.0
PRODID:-//Glen Lake Chamber of Commerce - ECPv6.15.20//NONSGML v1.0//EN
CALSCALE:GREGORIAN
METHOD:PUBLISH
X-ORIGINAL-URL:https://www.visitglenarbor.com
X-WR-CALDESC:Events for Glen Lake Chamber of Commerce
REFRESH-INTERVAL;VALUE=DURATION:PT1H
X-Robots-Tag:noindex
X-PUBLISHED-TTL:PT1H
BEGIN:VTIMEZONE
TZID:America/Detroit
BEGIN:DAYLIGHT
TZOFFSETFROM:-0500
TZOFFSETTO:-0400
TZNAME:EDT
DTSTART:20170312T070000
END:DAYLIGHT
BEGIN:STANDARD
TZOFFSETFROM:-0400
TZOFFSETTO:-0500
TZNAME:EST
DTSTART:20171105T060000
END:STANDARD
BEGIN:DAYLIGHT
TZOFFSETFROM:-0500
TZOFFSETTO:-0400
TZNAME:EDT
DTSTART:20180311T070000
END:DAYLIGHT
BEGIN:STANDARD
TZOFFSETFROM:-0400
TZOFFSETTO:-0500
TZNAME:EST
DTSTART:20181104T060000
END:STANDARD
BEGIN:DAYLIGHT
TZOFFSETFROM:-0500
TZOFFSETTO:-0400
TZNAME:EDT
DTSTART:20190310T070000
END:DAYLIGHT
BEGIN:STANDARD
TZOFFSETFROM:-0400
TZOFFSETTO:-0500
TZNAME:EST
DTSTART:20191103T060000
END:STANDARD
END:VTIMEZONE
BEGIN:VEVENT
DTSTART;TZID=America/Detroit:20180708T190000
DTEND;TZID=America/Detroit:20180708T190000
DTSTAMP:20260425T123554
CREATED:20180523T200646Z
LAST-MODIFIED:20180523T200646Z
UID:10003051-1531076400-1531076400@www.visitglenarbor.com
SUMMARY:Dune Climb Concert | Manitou Music Festival
DESCRIPTION:Jazz North will rock the Sleeping Bear Dunes with its special blend of jazz and funk at the Glen Arbor Arts Center’s annual Dune Climb concert on Sunday\, July 8\, 7 p.m. The concert is free\, but a National Park pass is required. \nJazz North is a “little” big band comprising the best of acoustic and electric jams of all genre. The horn section gels with the rhythm section to perform everything from funk to swing to rhythm and blues\, from Latin to bebop\, and R&amp;B and rock. Throw in plenty of fresh original arrangements of jazz and funk standards\, and you’ve got a mix that’s delightful for listening and dancing. \nThe concert at the Dune Climb is presented annually by the Glen Arbor Arts Center. Because of the unique venue and incomparable music it routinely draws a large audience. Concert-goers are encouraged to bring a pre-concert picnic. For more information please go to: GlenArborArt.org
URL:https://www.visitglenarbor.com/event/dune-climb-concert-manitou-music-festival/
LOCATION:Dune Climb\, 6478 S. Dune Highway\, Glen Arbor\, MI\, 49636\, United States
CATEGORIES:Kids + Family Friendly,Music
ATTACH;FMTTYPE=:
ORGANIZER;CN="Glen Arbor Arts Center":MAILTO:director@glenarborart.org
END:VEVENT
BEGIN:VEVENT
DTSTART;TZID=America/Detroit:20180714T160000
DTEND;TZID=America/Detroit:20180714T180000
DTSTAMP:20260425T123554
CREATED:20180710T195655Z
LAST-MODIFIED:20200309T054859Z
UID:10002776-1531584000-1531591200@www.visitglenarbor.com
SUMMARY:Star Party July 14 from 4-6pm
DESCRIPTION:The sky is the limit at Sleeping Bear Dunes National Lakeshore.  Join park rangers and astronomers from the Grand Traverse Astronomical Society (GTAS) on Saturday\, July 14 at the Dune Climb parking lot. On that date\, two events will offer you opportunities to focus on the sky. The first event is from 4:00 p.m. to 6:00 p.m. and will allow visitors to safely view our closest star\, the sun\, using a solar telescope. The second event will be from 9:00 p.m. to 11:00 p.m. Feel free to hike up the dunes at the Dune Climb during the event\, watch a sunset at 9:29 p.m.\, and rejoin the rangers and astronomers in the parking lot at the base of the dunes. \nTake advantage of the very young moon to relax under the stars\, view distant celestial objects\, observe Venus\, Jupiter\, and Saturn. Mars will make its appearance around 11:00 p.m. \n \nEach event will feature drop-in stations for you to visit at your leisure. Be sure to stop by the ranger greeter table in the parking lot at the Dune Climb for more information about the stations and their locations. Visit with Friends of Sleeping Bear! We will have a table next to the NPS table.\n \nAt the Dune Climb\, please park in the row furthest from the dunes with your headlights facing M-109. Overflow parking\, within easy walking distance to the Dune Climb\, is in the Great Lakes Picnic Area. The picnic area entrance is located just south of the entrance to the Dune Climb. Follow the Sleeping Bear Heritage Trail from the parking area to the Dune Climb. Volunteers will be assisting with parking at both locations.\n \nAll sky programs offered by the National Lakeshore are free. Participants need only purchase the park entrance pass or have an annual pass displayed in their vehicle to join in the fun. Programs will be cancelled if the sky is not visible due to weather conditions. The decision to cancel is usually made two hours in advance. Please call 231-326-4700\, ext. 5005\, for a voicemail message with the decision. \n \nFor all evening astronomy events\, bring a flashlight for the walk back to your car and bug spray\, if needed. You are welcome to bring your own binoculars\, beach chairs\, and blankets for a more comfortable experience\, and water is always recommended for National Park Service (NPS) programs. Park rangers and GTAS staff will wear red glow necklaces or bracelets at the events. For more information about the GTAS\, go to http://www.gtastro.org\n \nThis event is the perfect opportunity to “Find Your Park” in the stars. Starry night skies and natural darkness are important components of the special places the NPS protects. National parks hold some of the last remaining harbors of darkness and provide an excellent opportunity to experience this endangered resource. 
URL:https://www.visitglenarbor.com/event/star-party-solar-viewing-july-14/
LOCATION:Dune Climb\, 6478 S. Dune Highway\, Glen Arbor\, MI\, 49636\, United States
CATEGORIES:Education,Kids + Family Friendly,Recreation
ATTACH;FMTTYPE=image/jpeg:https://www.visitglenarbor.com/wp-content/uploads/2020/03/Star-Party_Sleeping-Bear-Dunes.jpg
ORGANIZER;CN="Friends of Sleeping Bear Dunes":MAILTO: info@friendsofsleepingbear.org
END:VEVENT
BEGIN:VEVENT
DTSTART;TZID=America/Detroit:20180714T210000
DTEND;TZID=America/Detroit:20180714T230000
DTSTAMP:20260425T123554
CREATED:20180710T195845Z
LAST-MODIFIED:20200309T054859Z
UID:10002778-1531602000-1531609200@www.visitglenarbor.com
SUMMARY:Star Party June 14 from 9 to 11
DESCRIPTION:The sky is the limit at Sleeping Bear Dunes National Lakeshore.  Join park rangers and astronomers from the Grand Traverse Astronomical Society (GTAS) on Saturday\, July 14 at the Dune Climb parking lot. On that date\, two events will offer you opportunities to focus on the sky. The first event is from 4:00 p.m. to 6:00 p.m. and will allow visitors to safely view our closest star\, the sun\, using a solar telescope. The second event will be from 9:00 p.m. to 11:00 p.m. Feel free to hike up the dunes at the Dune Climb during the event\, watch a sunset at 9:29 p.m.\, and rejoin the rangers and astronomers in the parking lot at the base of the dunes. \nTake advantage of the very young moon to relax under the stars\, view distant celestial objects\, observe Venus\, Jupiter\, and Saturn. Mars will make its appearance around 11:00 p.m. \n \nEach event will feature drop-in stations for you to visit at your leisure. Be sure to stop by the ranger greeter table in the parking lot at the Dune Climb for more information about the stations and their locations. Visit with Friends of Sleeping Bear! We will have a table next to the NPS table.\n \nAt the Dune Climb\, please park in the row furthest from the dunes with your headlights facing M-109. Overflow parking\, within easy walking distance to the Dune Climb\, is in the Great Lakes Picnic Area. The picnic area entrance is located just south of the entrance to the Dune Climb. Follow the Sleeping Bear Heritage Trail from the parking area to the Dune Climb. Volunteers will be assisting with parking at both locations.\n \nAll sky programs offered by the National Lakeshore are free. Participants need only purchase the park entrance pass or have an annual pass displayed in their vehicle to join in the fun. Programs will be cancelled if the sky is not visible due to weather conditions. The decision to cancel is usually made two hours in advance. Please call 231-326-4700\, ext. 5005\, for a voicemail message with the decision. \n \nFor all evening astronomy events\, bring a flashlight for the walk back to your car and bug spray\, if needed. You are welcome to bring your own binoculars\, beach chairs\, and blankets for a more comfortable experience\, and water is always recommended for National Park Service (NPS) programs. Park rangers and GTAS staff will wear red glow necklaces or bracelets at the events. For more information about the GTAS\, go to http://www.gtastro.org\n \nThis event is the perfect opportunity to “Find Your Park” in the stars. Starry night skies and natural darkness are important components of the special places the NPS protects. National parks hold some of the last remaining harbors of darkness and provide an excellent opportunity to experience this endangered resource. 
URL:https://www.visitglenarbor.com/event/star-party-june-14-from-9-to-11/
LOCATION:Dune Climb\, 6478 S. Dune Highway\, Glen Arbor\, MI\, 49636\, United States
CATEGORIES:Education,Kids + Family Friendly,Recreation
ATTACH;FMTTYPE=image/jpeg:https://www.visitglenarbor.com/wp-content/uploads/2020/03/Star-Party_Sleeping-Bear-Dunes.jpg
ORGANIZER;CN="Friends of Sleeping Bear Dunes":MAILTO: info@friendsofsleepingbear.org
END:VEVENT
END:VCALENDAR