BEGIN:VCALENDAR
VERSION:2.0
PRODID:-//Glen Lake Chamber of Commerce - ECPv6.15.19//NONSGML v1.0//EN
CALSCALE:GREGORIAN
METHOD:PUBLISH
X-WR-CALNAME:Glen Lake Chamber of Commerce
X-ORIGINAL-URL:https://www.visitglenarbor.com
X-WR-CALDESC:Events for Glen Lake Chamber of Commerce
REFRESH-INTERVAL;VALUE=DURATION:PT1H
X-Robots-Tag:noindex
X-PUBLISHED-TTL:PT1H
BEGIN:VTIMEZONE
TZID:America/Detroit
BEGIN:DAYLIGHT
TZOFFSETFROM:-0500
TZOFFSETTO:-0400
TZNAME:EDT
DTSTART:20210314T070000
END:DAYLIGHT
BEGIN:STANDARD
TZOFFSETFROM:-0400
TZOFFSETTO:-0500
TZNAME:EST
DTSTART:20211107T060000
END:STANDARD
BEGIN:DAYLIGHT
TZOFFSETFROM:-0500
TZOFFSETTO:-0400
TZNAME:EDT
DTSTART:20220313T070000
END:DAYLIGHT
BEGIN:STANDARD
TZOFFSETFROM:-0400
TZOFFSETTO:-0500
TZNAME:EST
DTSTART:20221106T060000
END:STANDARD
BEGIN:DAYLIGHT
TZOFFSETFROM:-0500
TZOFFSETTO:-0400
TZNAME:EDT
DTSTART:20230312T070000
END:DAYLIGHT
BEGIN:STANDARD
TZOFFSETFROM:-0400
TZOFFSETTO:-0500
TZNAME:EST
DTSTART:20231105T060000
END:STANDARD
END:VTIMEZONE
BEGIN:VEVENT
DTSTART;TZID=America/Detroit:20220707T110000
DTEND;TZID=America/Detroit:20220910T121500
DTSTAMP:20260422T180355
CREATED:20220728T160546Z
LAST-MODIFIED:20220801T164729Z
UID:10004667-1657191600-1662812100@www.visitglenarbor.com
SUMMARY:Horse and Wagon Tours
DESCRIPTION:Tuesdays and Thursdays 9:30 am and 11 am \n1.25 hour tour $28 adults $18 children 4-12Clip clop back in time to experience the Port Oneida Rural Historic District the way they did in the late 1800s – early 1900s! Learn about the life of the early pioneers\, and their landscape as we travel by horse and wagon through the fields and side roads of this significant agricultural community of over 100 years\, with beautiful vistas and farmsteads. \nBring your family and friends on this unique\, educational\, narrated experience. \nOur Horses: The stars of the tours are our two Belgium horses Nick and May. You will learn more about the horses on the tour! \nReservations required. PLEASE MAKE YOUR RESERVATIONS EARLY! \nWagon holds 12-14 people. We need a minimum of 7 reservations to conduct the tour. You will receive a confirmation of your tour when the minimum has been reached.
URL:https://www.visitglenarbor.com/event/horse-and-wagon-tours-12/
LOCATION:Port Oneida Heritage Center\, 3164 W. Harbor Hwy.\, Maple City\, Michigan\, 49630
CATEGORIES:Kids + Family Friendly
ATTACH;FMTTYPE=image/jpeg:https://www.visitglenarbor.com/wp-content/uploads/2022/07/Doug-Grosso-horses-1.jpg
END:VEVENT
BEGIN:VEVENT
DTSTART;TZID=America/Detroit:20220726T090000
DTEND;TZID=America/Detroit:20220726T103000
DTSTAMP:20260422T180355
CREATED:20220423T185418Z
LAST-MODIFIED:20220423T192103Z
UID:10004570-1658826000-1658831400@www.visitglenarbor.com
SUMMARY:Running Bear Run
DESCRIPTION:Running Bear Run\nTuesday\, July 26th\, 2022 – Glen Arbor Women’s Club 15th Annual Running Bear 5K Run/Walk and 1/2 mile Kids’ Run\nRun/Walk: 9:00am\, Kids’ Run: 9:05am-Rain or shine. After run celebration and refreshments. Starts/Ends: Cherry Republic\, Lake Street\, Glen Arbor. Registration info online: www.runningbearrun.com. Run/Walk $20\, ($25 day of run)\, Kids’ Run $5. Proceeds go to local scholarships and local charitable organizations. Questions? Call or text 231-409-0514
URL:https://www.visitglenarbor.com/event/running-bear-run/
LOCATION:Cherry Republic
CATEGORIES:Community Events,Kids + Family Friendly,Race
ATTACH;FMTTYPE=image/jpeg:https://www.visitglenarbor.com/wp-content/uploads/2022/04/0050-scaled.jpg
END:VEVENT
END:VCALENDAR