BEGIN:VCALENDAR
VERSION:2.0
PRODID:-//Glen Lake Chamber of Commerce - ECPv6.15.20//NONSGML v1.0//EN
CALSCALE:GREGORIAN
METHOD:PUBLISH
X-WR-CALNAME:Glen Lake Chamber of Commerce
X-ORIGINAL-URL:https://www.visitglenarbor.com
X-WR-CALDESC:Events for Glen Lake Chamber of Commerce
REFRESH-INTERVAL;VALUE=DURATION:PT1H
X-Robots-Tag:noindex
X-PUBLISHED-TTL:PT1H
BEGIN:VTIMEZONE
TZID:America/Detroit
BEGIN:DAYLIGHT
TZOFFSETFROM:-0500
TZOFFSETTO:-0400
TZNAME:EDT
DTSTART:20220313T070000
END:DAYLIGHT
BEGIN:STANDARD
TZOFFSETFROM:-0400
TZOFFSETTO:-0500
TZNAME:EST
DTSTART:20221106T060000
END:STANDARD
BEGIN:DAYLIGHT
TZOFFSETFROM:-0500
TZOFFSETTO:-0400
TZNAME:EDT
DTSTART:20230312T070000
END:DAYLIGHT
BEGIN:STANDARD
TZOFFSETFROM:-0400
TZOFFSETTO:-0500
TZNAME:EST
DTSTART:20231105T060000
END:STANDARD
BEGIN:DAYLIGHT
TZOFFSETFROM:-0500
TZOFFSETTO:-0400
TZNAME:EDT
DTSTART:20240310T070000
END:DAYLIGHT
BEGIN:STANDARD
TZOFFSETFROM:-0400
TZOFFSETTO:-0500
TZNAME:EST
DTSTART:20241103T060000
END:STANDARD
END:VTIMEZONE
BEGIN:VEVENT
DTSTART;TZID=America/Detroit:20230804T170000
DTEND;TZID=America/Detroit:20230804T210000
DTSTAMP:20260425T121705
CREATED:20230508T161227Z
LAST-MODIFIED:20230508T161227Z
UID:10004836-1691168400-1691182800@www.visitglenarbor.com
SUMMARY:Luke Woltanski @ Glen Arbor Wines
DESCRIPTION:Relax and enjoy the music of the incredibly talented Luke Woltanski on the front porch @ Glen Arbor Wines Friday evenings from 7 to 9 p.m. throughout the summer beginning June 9.
URL:https://www.visitglenarbor.com/event/luke-woltanski-glen-arbor-wines/2023-08-04/
LOCATION:Glen Arbor Wines
CATEGORIES:Music
ATTACH;FMTTYPE=image/jpeg:https://www.visitglenarbor.com/wp-content/uploads/2023/05/luke.jpg
ORGANIZER;CN="Glen Arbor Wines":MAILTO:Glenarborwines@gmail.com
END:VEVENT
BEGIN:VEVENT
DTSTART;TZID=America/Detroit:20230805T190000
DTEND;TZID=America/Detroit:20230805T210000
DTSTAMP:20260425T121705
CREATED:20230508T161638Z
LAST-MODIFIED:20230508T161649Z
UID:10004849-1691262000-1691269200@www.visitglenarbor.com
SUMMARY:Levi Britton Live @ Glen Arbor Wines
DESCRIPTION:Levi Britton\, Traverse City’s Indi/Rock legend who has toured with artists such as The Gin Blossoms\, Pat Benatar\, Peter Frampton\, America\, Lighthouse\, and others plays Glen Arbor Wines.
URL:https://www.visitglenarbor.com/event/levi-britton-live-glen-arbor-wines/2023-08-05/
LOCATION:Glen Arbor Wines
CATEGORIES:Music
ATTACH;FMTTYPE=image/jpeg:https://www.visitglenarbor.com/wp-content/uploads/2023/05/levibritton.jpg
ORGANIZER;CN="Glen Arbor Wines":MAILTO:Glenarborwines@gmail.com
END:VEVENT
BEGIN:VEVENT
DTSTART;TZID=America/Detroit:20230812T190000
DTEND;TZID=America/Detroit:20230812T210000
DTSTAMP:20260425T121705
CREATED:20230508T161619Z
LAST-MODIFIED:20230508T161619Z
UID:10004845-1691866800-1691874000@www.visitglenarbor.com
SUMMARY:Rhett & John Live Music @ Glen Arbor Wines
DESCRIPTION:Relax and enjoy the tunes as Rhett belts out an eclectic lineup of acoustic pop.
URL:https://www.visitglenarbor.com/event/rhett-john-live-music-glen-arbor-wines/2023-08-12/
LOCATION:Glen Arbor Wines
CATEGORIES:Music
ATTACH;FMTTYPE=image/jpeg:https://www.visitglenarbor.com/wp-content/uploads/2023/05/rhettjohn.jpg
ORGANIZER;CN="Glen Arbor Wines":MAILTO:Glenarborwines@gmail.com
END:VEVENT
BEGIN:VEVENT
DTSTART;TZID=America/Detroit:20230819T190000
DTEND;TZID=America/Detroit:20230819T210000
DTSTAMP:20260425T121705
CREATED:20230508T161445Z
LAST-MODIFIED:20230508T161445Z
UID:10004839-1692471600-1692478800@www.visitglenarbor.com
SUMMARY:Ol Pal Shayne Plays Glen Arbor Wines
DESCRIPTION:Relax and enjoy the music of Ol Pal Shayne as he play everything from Johnny Cash to the Cranberries on the Front Porch @ Glen Arbor Wines
URL:https://www.visitglenarbor.com/event/ol-pal-shayne-plays-glen-arbor-wines/2023-08-19/
LOCATION:Glen Arbor Wines
CATEGORIES:Music
ATTACH;FMTTYPE=image/jpeg:https://www.visitglenarbor.com/wp-content/uploads/2023/05/shane.jpg
ORGANIZER;CN="Glen Arbor Wines":MAILTO:Glenarborwines@gmail.com
END:VEVENT
BEGIN:VEVENT
DTSTART;TZID=America/Detroit:20230826T190000
DTEND;TZID=America/Detroit:20230826T210000
DTSTAMP:20260425T121705
CREATED:20230508T161619Z
LAST-MODIFIED:20230508T161619Z
UID:10004846-1693076400-1693083600@www.visitglenarbor.com
SUMMARY:Rhett & John Live Music @ Glen Arbor Wines
DESCRIPTION:Relax and enjoy the tunes as Rhett belts out an eclectic lineup of acoustic pop.
URL:https://www.visitglenarbor.com/event/rhett-john-live-music-glen-arbor-wines/2023-08-26/
LOCATION:Glen Arbor Wines
CATEGORIES:Music
ATTACH;FMTTYPE=image/jpeg:https://www.visitglenarbor.com/wp-content/uploads/2023/05/rhettjohn.jpg
ORGANIZER;CN="Glen Arbor Wines":MAILTO:Glenarborwines@gmail.com
END:VEVENT
END:VCALENDAR