BEGIN:VCALENDAR
VERSION:2.0
PRODID:-//Glen Lake Chamber of Commerce - ECPv6.15.20//NONSGML v1.0//EN
CALSCALE:GREGORIAN
METHOD:PUBLISH
X-ORIGINAL-URL:https://www.visitglenarbor.com
X-WR-CALDESC:Events for Glen Lake Chamber of Commerce
REFRESH-INTERVAL;VALUE=DURATION:PT1H
X-Robots-Tag:noindex
X-PUBLISHED-TTL:PT1H
BEGIN:VTIMEZONE
TZID:America/Detroit
BEGIN:DAYLIGHT
TZOFFSETFROM:-0500
TZOFFSETTO:-0400
TZNAME:EDT
DTSTART:20220313T070000
END:DAYLIGHT
BEGIN:STANDARD
TZOFFSETFROM:-0400
TZOFFSETTO:-0500
TZNAME:EST
DTSTART:20221106T060000
END:STANDARD
BEGIN:DAYLIGHT
TZOFFSETFROM:-0500
TZOFFSETTO:-0400
TZNAME:EDT
DTSTART:20230312T070000
END:DAYLIGHT
BEGIN:STANDARD
TZOFFSETFROM:-0400
TZOFFSETTO:-0500
TZNAME:EST
DTSTART:20231105T060000
END:STANDARD
BEGIN:DAYLIGHT
TZOFFSETFROM:-0500
TZOFFSETTO:-0400
TZNAME:EDT
DTSTART:20240310T070000
END:DAYLIGHT
BEGIN:STANDARD
TZOFFSETFROM:-0400
TZOFFSETTO:-0500
TZNAME:EST
DTSTART:20241103T060000
END:STANDARD
END:VTIMEZONE
BEGIN:VEVENT
DTSTART;TZID=America/Detroit:20230701T190000
DTEND;TZID=America/Detroit:20230701T210000
DTSTAMP:20260425T180815
CREATED:20230508T161619Z
LAST-MODIFIED:20230508T161619Z
UID:10004842-1688238000-1688245200@www.visitglenarbor.com
SUMMARY:Rhett & John Live Music @ Glen Arbor Wines
DESCRIPTION:Relax and enjoy the tunes as Rhett belts out an eclectic lineup of acoustic pop.
URL:https://www.visitglenarbor.com/event/rhett-john-live-music-glen-arbor-wines/2023-07-01/
LOCATION:Glen Arbor Wines
CATEGORIES:Music
ATTACH;FMTTYPE=image/jpeg:https://www.visitglenarbor.com/wp-content/uploads/2023/05/rhettjohn.jpg
ORGANIZER;CN="Glen Arbor Wines":MAILTO:Glenarborwines@gmail.com
END:VEVENT
BEGIN:VEVENT
DTSTART;TZID=America/Detroit:20230707T160000
DTEND;TZID=America/Detroit:20230707T190000
DTSTAMP:20260425T180815
CREATED:20230707T203614Z
LAST-MODIFIED:20230707T203614Z
UID:10005127-1688745600-1688756400@www.visitglenarbor.com
SUMMARY:French Valley Summer Music
DESCRIPTION:Live music every Monday & Thursday at French Valley Vineyard! \n  \n 
URL:https://www.visitglenarbor.com/event/french-valley-summer-music/2023-07-07/
LOCATION:French Valley Vineyard\, 3655 South French Road\, cedar\, MI\, 49621\, United States
CATEGORIES:Music
ATTACH;FMTTYPE=image/jpeg:https://www.visitglenarbor.com/wp-content/uploads/2023/07/FVV-1_1-1.jpg
ORGANIZER;CN="French Valley Vineyard":MAILTO:info@fvvineyard.com
END:VEVENT
BEGIN:VEVENT
DTSTART;TZID=America/Detroit:20230707T170000
DTEND;TZID=America/Detroit:20230707T210000
DTSTAMP:20260425T180815
CREATED:20230508T161227Z
LAST-MODIFIED:20230508T161227Z
UID:10004833-1688749200-1688763600@www.visitglenarbor.com
SUMMARY:Luke Woltanski @ Glen Arbor Wines
DESCRIPTION:Relax and enjoy the music of the incredibly talented Luke Woltanski on the front porch @ Glen Arbor Wines Friday evenings from 7 to 9 p.m. throughout the summer beginning June 9.
URL:https://www.visitglenarbor.com/event/luke-woltanski-glen-arbor-wines/2023-07-07/
LOCATION:Glen Arbor Wines
CATEGORIES:Music
ATTACH;FMTTYPE=image/jpeg:https://www.visitglenarbor.com/wp-content/uploads/2023/05/luke.jpg
ORGANIZER;CN="Glen Arbor Wines":MAILTO:Glenarborwines@gmail.com
END:VEVENT
BEGIN:VEVENT
DTSTART;TZID=America/Detroit:20230710T160000
DTEND;TZID=America/Detroit:20230710T190000
DTSTAMP:20260425T180815
CREATED:20230707T203614Z
LAST-MODIFIED:20230707T203614Z
UID:10005128-1689004800-1689015600@www.visitglenarbor.com
SUMMARY:French Valley Summer Music
DESCRIPTION:Live music every Monday & Thursday at French Valley Vineyard! \n  \n 
URL:https://www.visitglenarbor.com/event/french-valley-summer-music/2023-07-10/
LOCATION:French Valley Vineyard\, 3655 South French Road\, cedar\, MI\, 49621\, United States
CATEGORIES:Music
ATTACH;FMTTYPE=image/jpeg:https://www.visitglenarbor.com/wp-content/uploads/2023/07/FVV-1_1-1.jpg
ORGANIZER;CN="French Valley Vineyard":MAILTO:info@fvvineyard.com
END:VEVENT
BEGIN:VEVENT
DTSTART;TZID=America/Detroit:20230713T160000
DTEND;TZID=America/Detroit:20230713T190000
DTSTAMP:20260425T180815
CREATED:20230707T203614Z
LAST-MODIFIED:20230707T203614Z
UID:10005129-1689264000-1689274800@www.visitglenarbor.com
SUMMARY:French Valley Summer Music
DESCRIPTION:Live music every Monday & Thursday at French Valley Vineyard! \n  \n 
URL:https://www.visitglenarbor.com/event/french-valley-summer-music/2023-07-13/
LOCATION:French Valley Vineyard\, 3655 South French Road\, cedar\, MI\, 49621\, United States
CATEGORIES:Music
ATTACH;FMTTYPE=image/jpeg:https://www.visitglenarbor.com/wp-content/uploads/2023/07/FVV-1_1-1.jpg
ORGANIZER;CN="French Valley Vineyard":MAILTO:info@fvvineyard.com
END:VEVENT
BEGIN:VEVENT
DTSTART;TZID=America/Detroit:20230714T170000
DTEND;TZID=America/Detroit:20230714T210000
DTSTAMP:20260425T180815
CREATED:20230508T161227Z
LAST-MODIFIED:20230508T161227Z
UID:10004834-1689354000-1689368400@www.visitglenarbor.com
SUMMARY:Luke Woltanski @ Glen Arbor Wines
DESCRIPTION:Relax and enjoy the music of the incredibly talented Luke Woltanski on the front porch @ Glen Arbor Wines Friday evenings from 7 to 9 p.m. throughout the summer beginning June 9.
URL:https://www.visitglenarbor.com/event/luke-woltanski-glen-arbor-wines/2023-07-14/
LOCATION:Glen Arbor Wines
CATEGORIES:Music
ATTACH;FMTTYPE=image/jpeg:https://www.visitglenarbor.com/wp-content/uploads/2023/05/luke.jpg
ORGANIZER;CN="Glen Arbor Wines":MAILTO:Glenarborwines@gmail.com
END:VEVENT
BEGIN:VEVENT
DTSTART;TZID=America/Detroit:20230715T190000
DTEND;TZID=America/Detroit:20230715T210000
DTSTAMP:20260425T180815
CREATED:20230508T161619Z
LAST-MODIFIED:20230508T161619Z
UID:10004843-1689447600-1689454800@www.visitglenarbor.com
SUMMARY:Rhett & John Live Music @ Glen Arbor Wines
DESCRIPTION:Relax and enjoy the tunes as Rhett belts out an eclectic lineup of acoustic pop.
URL:https://www.visitglenarbor.com/event/rhett-john-live-music-glen-arbor-wines/2023-07-15/
LOCATION:Glen Arbor Wines
CATEGORIES:Music
ATTACH;FMTTYPE=image/jpeg:https://www.visitglenarbor.com/wp-content/uploads/2023/05/rhettjohn.jpg
ORGANIZER;CN="Glen Arbor Wines":MAILTO:Glenarborwines@gmail.com
END:VEVENT
BEGIN:VEVENT
DTSTART;TZID=America/Detroit:20230717T160000
DTEND;TZID=America/Detroit:20230717T190000
DTSTAMP:20260425T180815
CREATED:20230707T203614Z
LAST-MODIFIED:20230707T203614Z
UID:10005130-1689609600-1689620400@www.visitglenarbor.com
SUMMARY:French Valley Summer Music
DESCRIPTION:Live music every Monday & Thursday at French Valley Vineyard! \n  \n 
URL:https://www.visitglenarbor.com/event/french-valley-summer-music/2023-07-17/
LOCATION:French Valley Vineyard\, 3655 South French Road\, cedar\, MI\, 49621\, United States
CATEGORIES:Music
ATTACH;FMTTYPE=image/jpeg:https://www.visitglenarbor.com/wp-content/uploads/2023/07/FVV-1_1-1.jpg
ORGANIZER;CN="French Valley Vineyard":MAILTO:info@fvvineyard.com
END:VEVENT
BEGIN:VEVENT
DTSTART;TZID=America/Detroit:20230720T160000
DTEND;TZID=America/Detroit:20230720T190000
DTSTAMP:20260425T180815
CREATED:20230707T203614Z
LAST-MODIFIED:20230707T203614Z
UID:10005131-1689868800-1689879600@www.visitglenarbor.com
SUMMARY:French Valley Summer Music
DESCRIPTION:Live music every Monday & Thursday at French Valley Vineyard! \n  \n 
URL:https://www.visitglenarbor.com/event/french-valley-summer-music/2023-07-20/
LOCATION:French Valley Vineyard\, 3655 South French Road\, cedar\, MI\, 49621\, United States
CATEGORIES:Music
ATTACH;FMTTYPE=image/jpeg:https://www.visitglenarbor.com/wp-content/uploads/2023/07/FVV-1_1-1.jpg
ORGANIZER;CN="French Valley Vineyard":MAILTO:info@fvvineyard.com
END:VEVENT
BEGIN:VEVENT
DTSTART;TZID=America/Detroit:20230721T170000
DTEND;TZID=America/Detroit:20230721T210000
DTSTAMP:20260425T180815
CREATED:20230508T161227Z
LAST-MODIFIED:20230508T161227Z
UID:10004835-1689958800-1689973200@www.visitglenarbor.com
SUMMARY:Luke Woltanski @ Glen Arbor Wines
DESCRIPTION:Relax and enjoy the music of the incredibly talented Luke Woltanski on the front porch @ Glen Arbor Wines Friday evenings from 7 to 9 p.m. throughout the summer beginning June 9.
URL:https://www.visitglenarbor.com/event/luke-woltanski-glen-arbor-wines/2023-07-21/
LOCATION:Glen Arbor Wines
CATEGORIES:Music
ATTACH;FMTTYPE=image/jpeg:https://www.visitglenarbor.com/wp-content/uploads/2023/05/luke.jpg
ORGANIZER;CN="Glen Arbor Wines":MAILTO:Glenarborwines@gmail.com
END:VEVENT
BEGIN:VEVENT
DTSTART;TZID=America/Detroit:20230722T190000
DTEND;TZID=America/Detroit:20230722T210000
DTSTAMP:20260425T180815
CREATED:20230508T161445Z
LAST-MODIFIED:20230508T161445Z
UID:10004838-1690052400-1690059600@www.visitglenarbor.com
SUMMARY:Ol Pal Shayne Plays Glen Arbor Wines
DESCRIPTION:Relax and enjoy the music of Ol Pal Shayne as he play everything from Johnny Cash to the Cranberries on the Front Porch @ Glen Arbor Wines
URL:https://www.visitglenarbor.com/event/ol-pal-shayne-plays-glen-arbor-wines/2023-07-22/
LOCATION:Glen Arbor Wines
CATEGORIES:Music
ATTACH;FMTTYPE=image/jpeg:https://www.visitglenarbor.com/wp-content/uploads/2023/05/shane.jpg
ORGANIZER;CN="Glen Arbor Wines":MAILTO:Glenarborwines@gmail.com
END:VEVENT
BEGIN:VEVENT
DTSTART;TZID=America/Detroit:20230724T160000
DTEND;TZID=America/Detroit:20230724T190000
DTSTAMP:20260425T180815
CREATED:20230707T203614Z
LAST-MODIFIED:20230707T203614Z
UID:10005132-1690214400-1690225200@www.visitglenarbor.com
SUMMARY:French Valley Summer Music
DESCRIPTION:Live music every Monday & Thursday at French Valley Vineyard! \n  \n 
URL:https://www.visitglenarbor.com/event/french-valley-summer-music/2023-07-24/
LOCATION:French Valley Vineyard\, 3655 South French Road\, cedar\, MI\, 49621\, United States
CATEGORIES:Music
ATTACH;FMTTYPE=image/jpeg:https://www.visitglenarbor.com/wp-content/uploads/2023/07/FVV-1_1-1.jpg
ORGANIZER;CN="French Valley Vineyard":MAILTO:info@fvvineyard.com
END:VEVENT
BEGIN:VEVENT
DTSTART;TZID=America/Detroit:20230727T160000
DTEND;TZID=America/Detroit:20230727T190000
DTSTAMP:20260425T180815
CREATED:20230707T203614Z
LAST-MODIFIED:20230707T203614Z
UID:10005133-1690473600-1690484400@www.visitglenarbor.com
SUMMARY:French Valley Summer Music
DESCRIPTION:Live music every Monday & Thursday at French Valley Vineyard! \n  \n 
URL:https://www.visitglenarbor.com/event/french-valley-summer-music/2023-07-27/
LOCATION:French Valley Vineyard\, 3655 South French Road\, cedar\, MI\, 49621\, United States
CATEGORIES:Music
ATTACH;FMTTYPE=image/jpeg:https://www.visitglenarbor.com/wp-content/uploads/2023/07/FVV-1_1-1.jpg
ORGANIZER;CN="French Valley Vineyard":MAILTO:info@fvvineyard.com
END:VEVENT
BEGIN:VEVENT
DTSTART;TZID=America/Detroit:20230729T190000
DTEND;TZID=America/Detroit:20230729T210000
DTSTAMP:20260425T180815
CREATED:20230508T161619Z
LAST-MODIFIED:20230508T161619Z
UID:10004844-1690657200-1690664400@www.visitglenarbor.com
SUMMARY:Rhett & John Live Music @ Glen Arbor Wines
DESCRIPTION:Relax and enjoy the tunes as Rhett belts out an eclectic lineup of acoustic pop.
URL:https://www.visitglenarbor.com/event/rhett-john-live-music-glen-arbor-wines/2023-07-29/
LOCATION:Glen Arbor Wines
CATEGORIES:Music
ATTACH;FMTTYPE=image/jpeg:https://www.visitglenarbor.com/wp-content/uploads/2023/05/rhettjohn.jpg
ORGANIZER;CN="Glen Arbor Wines":MAILTO:Glenarborwines@gmail.com
END:VEVENT
BEGIN:VEVENT
DTSTART;TZID=America/Detroit:20230731T160000
DTEND;TZID=America/Detroit:20230731T190000
DTSTAMP:20260425T180815
CREATED:20230707T203614Z
LAST-MODIFIED:20230707T203614Z
UID:10005134-1690819200-1690830000@www.visitglenarbor.com
SUMMARY:French Valley Summer Music
DESCRIPTION:Live music every Monday & Thursday at French Valley Vineyard! \n  \n 
URL:https://www.visitglenarbor.com/event/french-valley-summer-music/2023-07-31/
LOCATION:French Valley Vineyard\, 3655 South French Road\, cedar\, MI\, 49621\, United States
CATEGORIES:Music
ATTACH;FMTTYPE=image/jpeg:https://www.visitglenarbor.com/wp-content/uploads/2023/07/FVV-1_1-1.jpg
ORGANIZER;CN="French Valley Vineyard":MAILTO:info@fvvineyard.com
END:VEVENT
END:VCALENDAR