BEGIN:VCALENDAR
VERSION:2.0
PRODID:-//Glen Lake Chamber of Commerce - ECPv6.15.20//NONSGML v1.0//EN
CALSCALE:GREGORIAN
METHOD:PUBLISH
X-WR-CALNAME:Glen Lake Chamber of Commerce
X-ORIGINAL-URL:https://www.visitglenarbor.com
X-WR-CALDESC:Events for Glen Lake Chamber of Commerce
REFRESH-INTERVAL;VALUE=DURATION:PT1H
X-Robots-Tag:noindex
X-PUBLISHED-TTL:PT1H
BEGIN:VTIMEZONE
TZID:America/Detroit
BEGIN:DAYLIGHT
TZOFFSETFROM:-0500
TZOFFSETTO:-0400
TZNAME:EDT
DTSTART:20230312T070000
END:DAYLIGHT
BEGIN:STANDARD
TZOFFSETFROM:-0400
TZOFFSETTO:-0500
TZNAME:EST
DTSTART:20231105T060000
END:STANDARD
BEGIN:DAYLIGHT
TZOFFSETFROM:-0500
TZOFFSETTO:-0400
TZNAME:EDT
DTSTART:20240310T070000
END:DAYLIGHT
BEGIN:STANDARD
TZOFFSETFROM:-0400
TZOFFSETTO:-0500
TZNAME:EST
DTSTART:20241103T060000
END:STANDARD
BEGIN:DAYLIGHT
TZOFFSETFROM:-0500
TZOFFSETTO:-0400
TZNAME:EDT
DTSTART:20250309T070000
END:DAYLIGHT
BEGIN:STANDARD
TZOFFSETFROM:-0400
TZOFFSETTO:-0500
TZNAME:EST
DTSTART:20251102T060000
END:STANDARD
END:VTIMEZONE
BEGIN:VEVENT
DTSTART;TZID=America/Detroit:20241005T150000
DTEND;TZID=America/Detroit:20241005T170000
DTSTAMP:20260425T160203
CREATED:20240226T214828Z
LAST-MODIFIED:20240226T214828Z
UID:10005373-1728140400-1728147600@www.visitglenarbor.com
SUMMARY:Live Music at the M22 Wine Patio Ft. André Villoch
DESCRIPTION:Join us for Live Music at the M22 Wine Patio with André Villoch on Saturday\, October 5th from 3-5pm.\nEnjoy a large pour or flight of our M22 Wines while listening to live music! With 15 wines\, hard cider\, and non-alcoholic options available\, there is something for everyone!\nAndré is a local singer-songwriter/comedian who has been playing in the area since 1998. A mix of original and cover songs conducive to sipping wine!\nHave a fun and relaxing evening with great music\, friends and family\, and wine with live music at the M22 Wine Patio with André Villoch.
URL:https://www.visitglenarbor.com/event/live-music-at-the-m22-wine-patio-ft-andre-villoch-2/
LOCATION:M22 Outdoor Wine Patio\, 6298 W. Western Ave\, Glen Arbor\, MI\, 49636\, United States
CATEGORIES:Kids + Family Friendly,Music
ATTACH;FMTTYPE=image/png:https://www.visitglenarbor.com/wp-content/uploads/2024/02/Screenshot-2024-02-15-at-12.08.26 PM-12.png
END:VEVENT
BEGIN:VEVENT
DTSTART;TZID=America/Detroit:20241012T150000
DTEND;TZID=America/Detroit:20241012T170000
DTSTAMP:20260425T160203
CREATED:20240425T152658Z
LAST-MODIFIED:20240425T152658Z
UID:10005416-1728745200-1728752400@www.visitglenarbor.com
SUMMARY:Live Music at the M22 Wine Patio with Shelby and David
DESCRIPTION:Join us at the M22 Wine Patio Saturday\, October 12th from 3-5pm for live music featuring Shelby and Loren \nThey play a variety of music and with an appreciation for every genre\, their sets are always a good time for everyone! \nGrab a flight or glass of wine\, sit back and enjoy an afternoon of fun in Glen Arbor!
URL:https://www.visitglenarbor.com/event/live-music-at-the-m22-wine-patio-with-shelby-and-david-4/
LOCATION:M22 Outdoor Wine Patio\, 6298 W. Western Ave\, Glen Arbor\, MI\, 49636\, United States
CATEGORIES:Music
ATTACH;FMTTYPE=image/png:https://www.visitglenarbor.com/wp-content/uploads/2024/04/Screenshot-2024-04-09-at-2.03.41 PM-2.png
END:VEVENT
BEGIN:VEVENT
DTSTART;TZID=America/Detroit:20241019T150000
DTEND;TZID=America/Detroit:20241019T170000
DTSTAMP:20260425T160203
CREATED:20240226T214818Z
LAST-MODIFIED:20240226T214818Z
UID:10004177-1729350000-1729357200@www.visitglenarbor.com
SUMMARY:Live Music at the M22 Wine Patio Ft. André Villoch
DESCRIPTION:Join us for Live Music at the M22 Wine Patio with André Villoch on Saturday\, October 19th from 3-5pm.\nEnjoy a large pour or flight of our M22 Wines while listening to live music! With 15 wines\, hard cider\, and non-alcoholic options available\, there is something for everyone!\nAndré is a local singer-songwriter/comedian who has been playing in the area since 1998. A mix of original and cover songs conducive to sipping wine!\nHave a fun and relaxing evening with great music\, friends and family\, and wine with live music at the M22 Wine Patio with André Villoch.
URL:https://www.visitglenarbor.com/event/live-music-at-the-m22-wine-patio-ft-andre-villoch/
LOCATION:M22 Outdoor Wine Patio\, 6298 W. Western Ave\, Glen Arbor\, MI\, 49636\, United States
CATEGORIES:Kids + Family Friendly,Music
ATTACH;FMTTYPE=image/png:https://www.visitglenarbor.com/wp-content/uploads/2024/02/Screenshot-2024-02-15-at-12.08.26 PM-13.png
END:VEVENT
END:VCALENDAR