BEGIN:VCALENDAR
VERSION:2.0
PRODID:-//Glen Lake Chamber of Commerce - ECPv6.15.19//NONSGML v1.0//EN
CALSCALE:GREGORIAN
METHOD:PUBLISH
X-ORIGINAL-URL:https://www.visitglenarbor.com
X-WR-CALDESC:Events for Glen Lake Chamber of Commerce
REFRESH-INTERVAL;VALUE=DURATION:PT1H
X-Robots-Tag:noindex
X-PUBLISHED-TTL:PT1H
BEGIN:VTIMEZONE
TZID:America/Detroit
BEGIN:DAYLIGHT
TZOFFSETFROM:-0500
TZOFFSETTO:-0400
TZNAME:EDT
DTSTART:20180311T070000
END:DAYLIGHT
BEGIN:STANDARD
TZOFFSETFROM:-0400
TZOFFSETTO:-0500
TZNAME:EST
DTSTART:20181104T060000
END:STANDARD
BEGIN:DAYLIGHT
TZOFFSETFROM:-0500
TZOFFSETTO:-0400
TZNAME:EDT
DTSTART:20190310T070000
END:DAYLIGHT
BEGIN:STANDARD
TZOFFSETFROM:-0400
TZOFFSETTO:-0500
TZNAME:EST
DTSTART:20191103T060000
END:STANDARD
BEGIN:DAYLIGHT
TZOFFSETFROM:-0500
TZOFFSETTO:-0400
TZNAME:EDT
DTSTART:20200308T070000
END:DAYLIGHT
BEGIN:STANDARD
TZOFFSETFROM:-0400
TZOFFSETTO:-0500
TZNAME:EST
DTSTART:20201101T060000
END:STANDARD
END:VTIMEZONE
BEGIN:VEVENT
DTSTART;TZID=America/Detroit:20190804T200000
DTEND;TZID=America/Detroit:20190804T200000
DTSTAMP:20260419T155030
CREATED:20190705T231919Z
LAST-MODIFIED:20200309T054955Z
UID:10004050-1564948800-1564948800@www.visitglenarbor.com
SUMMARY:Manitou Music: Chatham Rabbits
DESCRIPTION:Sunday\, August 4 Chatham Rabbits | 8pm \nThe Chatham Rabbits hop onto the Studio Stage on Sunday\, August 4\, 8 pm in the next Manitou Music concert. \nAustin McCombie and Sarah Osborne crossed paths in 2013 when he spotted her onstage opening for Mandolin Orange. He didn’t know much about old-time music and she didn’t know much about him\, but they figured it out. Together they’ve played smoky bars\, summer festivals\, busked on the streets of Nashville ‘til voices wore out\, and led churches in old-time hymns way past time for Sunday lunch. \nManitou Music is a project of the Glen Arbor Arts Center. Tickets: $20 nonmembers\, $18 GAAC members\, and people under age 18 are free. The concert venue is Lake Street Studios Studio Stage\, 6023 S. Lake St.\, Glen Arbor. In the event of rain\, the concert moves to the Glen Arbor Town Hall\, 6394 W. Western Avenue/M-22\, Glen Arbor. \nFor more information and to order tickets\, go to GlenArborArt.org
URL:https://www.visitglenarbor.com/event/manitou-music-chatham-rabbits/
LOCATION:Studio Stage at Lake Street Studios\, 6023 Lake St.\, Glen Arbor\, MI\, 49636\, United States
CATEGORIES:Community Events,Kids + Family Friendly,Music
ATTACH;FMTTYPE=image/jpeg:https://www.visitglenarbor.com/wp-content/uploads/2020/03/2019-MMF-Chatham-Rabbits-e1562352269778.jpg
ORGANIZER;CN="Glen Arbor Arts Center":MAILTO:director@glenarborart.org
END:VEVENT
END:VCALENDAR