BEGIN:VCALENDAR
VERSION:2.0
PRODID:-//Glen Lake Chamber of Commerce - ECPv6.15.19//NONSGML v1.0//EN
CALSCALE:GREGORIAN
METHOD:PUBLISH
X-ORIGINAL-URL:https://www.visitglenarbor.com
X-WR-CALDESC:Events for Glen Lake Chamber of Commerce
REFRESH-INTERVAL;VALUE=DURATION:PT1H
X-Robots-Tag:noindex
X-PUBLISHED-TTL:PT1H
BEGIN:VTIMEZONE
TZID:America/Detroit
BEGIN:DAYLIGHT
TZOFFSETFROM:-0500
TZOFFSETTO:-0400
TZNAME:EDT
DTSTART:20180311T070000
END:DAYLIGHT
BEGIN:STANDARD
TZOFFSETFROM:-0400
TZOFFSETTO:-0500
TZNAME:EST
DTSTART:20181104T060000
END:STANDARD
BEGIN:DAYLIGHT
TZOFFSETFROM:-0500
TZOFFSETTO:-0400
TZNAME:EDT
DTSTART:20190310T070000
END:DAYLIGHT
BEGIN:STANDARD
TZOFFSETFROM:-0400
TZOFFSETTO:-0500
TZNAME:EST
DTSTART:20191103T060000
END:STANDARD
BEGIN:DAYLIGHT
TZOFFSETFROM:-0500
TZOFFSETTO:-0400
TZNAME:EDT
DTSTART:20200308T070000
END:DAYLIGHT
BEGIN:STANDARD
TZOFFSETFROM:-0400
TZOFFSETTO:-0500
TZNAME:EST
DTSTART:20201101T060000
END:STANDARD
END:VTIMEZONE
BEGIN:VEVENT
DTSTART;TZID=America/Detroit:20190728T200000
DTEND;TZID=America/Detroit:20190728T200000
DTSTAMP:20260420T093414
CREATED:20190705T230837Z
LAST-MODIFIED:20200309T054955Z
UID:10004048-1564344000-1564344000@www.visitglenarbor.com
SUMMARY:Manitou Music: May Erlewine
DESCRIPTION:Sunday\, July 28 May Erlewine | 8 pm \nMay Erlewine is a contemporary folk singer and songwriter based in Michigan whose pastoral\, socially conscious music has won a sizable and growing following throughout the Midwest and beyond. Erlewine performs on Studio Stage as part of the Glen Arbor Arts Center’s Manitou Music series on Sunday\, July 28\, 8 pm.  \nErlewine has a rich variety of musical influences\, including blues\, traditional folk\, R&B\, and bluegrass\, which are recognizable elements of her own songs. \nManitou Music is a project of the Glen Arbor Arts Center. Tickets: $20 nonmembers\, $18 for GAAC members\, and people under age 18 are free. The concert venue is Lake Street Studios Studio Stage\, 6023 S. Lake St.\, Glen Arbor. In the event of rain\, the concert moves to the Glen Arbor Town Hall\, 6394 W. Western Avenue/M-22\, Glen Arbor. For more information and to order tickets\, go to GlenArborArt.org
URL:https://www.visitglenarbor.com/event/manitou-music-may-erlewine/
LOCATION:Studio Stage at Lake Street Studios\, 6023 Lake St.\, Glen Arbor\, MI\, 49636\, United States
CATEGORIES:Community Events,Kids + Family Friendly,Music
ATTACH;FMTTYPE=image/jpeg:https://www.visitglenarbor.com/wp-content/uploads/2020/03/2019-MMF-May-Erlewine.jpg
ORGANIZER;CN="Glen Arbor Arts Center":MAILTO:director@glenarborart.org
END:VEVENT
END:VCALENDAR