BEGIN:VCALENDAR
VERSION:2.0
PRODID:-//Glen Lake Chamber of Commerce - ECPv6.15.19//NONSGML v1.0//EN
CALSCALE:GREGORIAN
METHOD:PUBLISH
X-ORIGINAL-URL:https://www.visitglenarbor.com
X-WR-CALDESC:Events for Glen Lake Chamber of Commerce
REFRESH-INTERVAL;VALUE=DURATION:PT1H
X-Robots-Tag:noindex
X-PUBLISHED-TTL:PT1H
BEGIN:VTIMEZONE
TZID:America/Detroit
BEGIN:DAYLIGHT
TZOFFSETFROM:-0500
TZOFFSETTO:-0400
TZNAME:EDT
DTSTART:20180311T070000
END:DAYLIGHT
BEGIN:STANDARD
TZOFFSETFROM:-0400
TZOFFSETTO:-0500
TZNAME:EST
DTSTART:20181104T060000
END:STANDARD
BEGIN:DAYLIGHT
TZOFFSETFROM:-0500
TZOFFSETTO:-0400
TZNAME:EDT
DTSTART:20190310T070000
END:DAYLIGHT
BEGIN:STANDARD
TZOFFSETFROM:-0400
TZOFFSETTO:-0500
TZNAME:EST
DTSTART:20191103T060000
END:STANDARD
BEGIN:DAYLIGHT
TZOFFSETFROM:-0500
TZOFFSETTO:-0400
TZNAME:EDT
DTSTART:20200308T070000
END:DAYLIGHT
BEGIN:STANDARD
TZOFFSETFROM:-0400
TZOFFSETTO:-0500
TZNAME:EST
DTSTART:20201101T060000
END:STANDARD
END:VTIMEZONE
BEGIN:VEVENT
DTSTART;TZID=America/Detroit:20190724T200000
DTEND;TZID=America/Detroit:20190724T200000
DTSTAMP:20260423T183542
CREATED:20190705T230505Z
LAST-MODIFIED:20200309T054955Z
UID:10004047-1563998400-1563998400@www.visitglenarbor.com
SUMMARY:Manitou Music: Ruth and Max Bloomquist
DESCRIPTION:Wednesday\, July 24 Ruth and Max Bloomquist | 8 pm \nRuth and Max Bloomquist celebrate 40 years of performing their style of Acoustic Americana\, with roots in folk\, bluegrass\, and traditional music. They bring those decades and more to Studio Stage as part of the Manitou Music series on Wednesday\, July 24\, 8 pm.  \nRuth is well known for her songwriting as well as her striking alto voice. The pair have been making music together since they met in 1975 and discovered their shared love for music made with acoustic instruments and featuring lyrics from the heart. \nManitou Music is a project of the Glen Arbor Arts Center. Tickets: $20 nonmembers\, $18 for GAAC members\, and people under age 18 are free. The concert venue is Lake Street Studios Studio Stage\, 6023 S. Lake St.\, Glen Arbor. The rain location is Glen Arbor Town Hall\, 6394 W. Western Avenue/M-22\, Glen Arbor. For more information and to order tickets\, go to GlenArborArt.org
URL:https://www.visitglenarbor.com/event/manitou-music-ruth-max-bloomquist/
LOCATION:Studio Stage at Lake Street Studios\, 6023 Lake St.\, Glen Arbor\, MI\, 49636\, United States
CATEGORIES:Community Events,Kids + Family Friendly,Music
ATTACH;FMTTYPE=image/jpeg:https://www.visitglenarbor.com/wp-content/uploads/2020/03/2019-MMF-Ruth-and-Max-Bloomquist.jpg
ORGANIZER;CN="Glen Arbor Arts Center":MAILTO:director@glenarborart.org
END:VEVENT
END:VCALENDAR