BEGIN:VCALENDAR
VERSION:2.0
PRODID:-//Glen Lake Chamber of Commerce - ECPv6.15.20//NONSGML v1.0//EN
CALSCALE:GREGORIAN
METHOD:PUBLISH
X-WR-CALNAME:Glen Lake Chamber of Commerce
X-ORIGINAL-URL:https://www.visitglenarbor.com
X-WR-CALDESC:Events for Glen Lake Chamber of Commerce
REFRESH-INTERVAL;VALUE=DURATION:PT1H
X-Robots-Tag:noindex
X-PUBLISHED-TTL:PT1H
BEGIN:VTIMEZONE
TZID:America/Detroit
BEGIN:DAYLIGHT
TZOFFSETFROM:-0500
TZOFFSETTO:-0400
TZNAME:EDT
DTSTART:20180311T070000
END:DAYLIGHT
BEGIN:STANDARD
TZOFFSETFROM:-0400
TZOFFSETTO:-0500
TZNAME:EST
DTSTART:20181104T060000
END:STANDARD
BEGIN:DAYLIGHT
TZOFFSETFROM:-0500
TZOFFSETTO:-0400
TZNAME:EDT
DTSTART:20190310T070000
END:DAYLIGHT
BEGIN:STANDARD
TZOFFSETFROM:-0400
TZOFFSETTO:-0500
TZNAME:EST
DTSTART:20191103T060000
END:STANDARD
BEGIN:DAYLIGHT
TZOFFSETFROM:-0500
TZOFFSETTO:-0400
TZNAME:EDT
DTSTART:20200308T070000
END:DAYLIGHT
BEGIN:STANDARD
TZOFFSETFROM:-0400
TZOFFSETTO:-0500
TZNAME:EST
DTSTART:20201101T060000
END:STANDARD
END:VTIMEZONE
BEGIN:VEVENT
DTSTART;TZID=America/Detroit:20190721T200000
DTEND;TZID=America/Detroit:20190721T200000
DTSTAMP:20260424T150812
CREATED:20190705T224555Z
LAST-MODIFIED:20200309T054954Z
UID:10004046-1563739200-1563739200@www.visitglenarbor.com
SUMMARY:Manitou Music: Jazz North
DESCRIPTION:Sunday\, July 21 Jazz North | 8 pm \nJazz North is a “little” big band. And on Sunday\, July 21 Jazz North occupies Studio Stage in the next Manitou Music concert. The concert begins at 8 pm. \nThe horn section in this regional conglomerate gels with the rhythm section to perform everything from funk to swing to rhythm and blues\, from Latin to bebop. These experienced musicians have played together for many years\, creating a tight musical camaraderie and demonstrating their love of playing music for anyone with a toe to tap. \nManitou Music concerts are a project of the Glen Arbor Arts Center. Tickets: $20 nonmembers\, $18 for GAAC members\, and people under age 18 are free. The concert venue is Lake Street Studios Studio Stage\, 6023 S. Lake St.\, Glen Arbor. Rain location for this concert is Glen Arbor Town Hall\, 6394 W. Western Avenue/M-22\, Glen Arbor. \nFor more information and to order tickets\, go to GlenArborArt.org
URL:https://www.visitglenarbor.com/event/manitou-music-jazz-north/
LOCATION:Studio Stage at Lake Street Studios\, 6023 Lake St.\, Glen Arbor\, MI\, 49636\, United States
CATEGORIES:Community Events,Kids + Family Friendly,Music
ATTACH;FMTTYPE=image/jpeg:https://www.visitglenarbor.com/wp-content/uploads/2020/03/2018-Dune-Climb-Jazz-North-e1562352258783.jpg
ORGANIZER;CN="Glen Arbor Arts Center":MAILTO:director@glenarborart.org
END:VEVENT
END:VCALENDAR