BEGIN:VCALENDAR
VERSION:2.0
PRODID:-//Glen Lake Chamber of Commerce - ECPv6.15.19//NONSGML v1.0//EN
CALSCALE:GREGORIAN
METHOD:PUBLISH
X-ORIGINAL-URL:https://www.visitglenarbor.com
X-WR-CALDESC:Events for Glen Lake Chamber of Commerce
REFRESH-INTERVAL;VALUE=DURATION:PT1H
X-Robots-Tag:noindex
X-PUBLISHED-TTL:PT1H
BEGIN:VTIMEZONE
TZID:America/Detroit
BEGIN:DAYLIGHT
TZOFFSETFROM:-0500
TZOFFSETTO:-0400
TZNAME:EDT
DTSTART:20220313T070000
END:DAYLIGHT
BEGIN:STANDARD
TZOFFSETFROM:-0400
TZOFFSETTO:-0500
TZNAME:EST
DTSTART:20221106T060000
END:STANDARD
BEGIN:DAYLIGHT
TZOFFSETFROM:-0500
TZOFFSETTO:-0400
TZNAME:EDT
DTSTART:20230312T070000
END:DAYLIGHT
BEGIN:STANDARD
TZOFFSETFROM:-0400
TZOFFSETTO:-0500
TZNAME:EST
DTSTART:20231105T060000
END:STANDARD
BEGIN:DAYLIGHT
TZOFFSETFROM:-0500
TZOFFSETTO:-0400
TZNAME:EDT
DTSTART:20240310T070000
END:DAYLIGHT
BEGIN:STANDARD
TZOFFSETFROM:-0400
TZOFFSETTO:-0500
TZNAME:EST
DTSTART:20241103T060000
END:STANDARD
END:VTIMEZONE
BEGIN:VEVENT
DTSTART;TZID=America/Detroit:20230108T120000
DTEND;TZID=America/Detroit:20230108T170000
DTSTAMP:20260420T194728
CREATED:20230106T145812Z
LAST-MODIFIED:20230106T145812Z
UID:10004762-1673179200-1673197200@www.visitglenarbor.com
SUMMARY:Soup Sunday at French Valley
DESCRIPTION:Warm up after hitting our 2.5 miles of groomed trails with a bowl of our hot soup of the day! Every Sunday in January.
URL:https://www.visitglenarbor.com/event/soup-sunday-at-french-valley/2023-01-08/
LOCATION:French Valley Vineyard\, 3655 South French Road\, cedar\, MI\, 49621\, United States
CATEGORIES:Food/Dining Event,Kids + Family Friendly,Local Business Event,Recreation
ATTACH;FMTTYPE=image/jpeg:https://www.visitglenarbor.com/wp-content/uploads/2023/01/SUNDAY-SOUP-1_1-copy-1.jpg
ORGANIZER;CN="French Valley Vineyard":MAILTO:info@fvvineyard.com
END:VEVENT
BEGIN:VEVENT
DTSTART;TZID=America/Detroit:20230115T120000
DTEND;TZID=America/Detroit:20230115T170000
DTSTAMP:20260420T194728
CREATED:20230106T145812Z
LAST-MODIFIED:20230106T145812Z
UID:10004763-1673784000-1673802000@www.visitglenarbor.com
SUMMARY:Soup Sunday at French Valley
DESCRIPTION:Warm up after hitting our 2.5 miles of groomed trails with a bowl of our hot soup of the day! Every Sunday in January.
URL:https://www.visitglenarbor.com/event/soup-sunday-at-french-valley/2023-01-15/
LOCATION:French Valley Vineyard\, 3655 South French Road\, cedar\, MI\, 49621\, United States
CATEGORIES:Food/Dining Event,Kids + Family Friendly,Local Business Event,Recreation
ATTACH;FMTTYPE=image/jpeg:https://www.visitglenarbor.com/wp-content/uploads/2023/01/SUNDAY-SOUP-1_1-copy-1.jpg
ORGANIZER;CN="French Valley Vineyard":MAILTO:info@fvvineyard.com
END:VEVENT
BEGIN:VEVENT
DTSTART;TZID=America/Detroit:20230122T120000
DTEND;TZID=America/Detroit:20230122T170000
DTSTAMP:20260420T194728
CREATED:20230106T145812Z
LAST-MODIFIED:20230106T145812Z
UID:10004764-1674388800-1674406800@www.visitglenarbor.com
SUMMARY:Soup Sunday at French Valley
DESCRIPTION:Warm up after hitting our 2.5 miles of groomed trails with a bowl of our hot soup of the day! Every Sunday in January.
URL:https://www.visitglenarbor.com/event/soup-sunday-at-french-valley/2023-01-22/
LOCATION:French Valley Vineyard\, 3655 South French Road\, cedar\, MI\, 49621\, United States
CATEGORIES:Food/Dining Event,Kids + Family Friendly,Local Business Event,Recreation
ATTACH;FMTTYPE=image/jpeg:https://www.visitglenarbor.com/wp-content/uploads/2023/01/SUNDAY-SOUP-1_1-copy-1.jpg
ORGANIZER;CN="French Valley Vineyard":MAILTO:info@fvvineyard.com
END:VEVENT
BEGIN:VEVENT
DTSTART;TZID=America/Detroit:20230129T120000
DTEND;TZID=America/Detroit:20230129T170000
DTSTAMP:20260420T194728
CREATED:20230106T145812Z
LAST-MODIFIED:20230106T145812Z
UID:10004765-1674993600-1675011600@www.visitglenarbor.com
SUMMARY:Soup Sunday at French Valley
DESCRIPTION:Warm up after hitting our 2.5 miles of groomed trails with a bowl of our hot soup of the day! Every Sunday in January.
URL:https://www.visitglenarbor.com/event/soup-sunday-at-french-valley/2023-01-29/
LOCATION:French Valley Vineyard\, 3655 South French Road\, cedar\, MI\, 49621\, United States
CATEGORIES:Food/Dining Event,Kids + Family Friendly,Local Business Event,Recreation
ATTACH;FMTTYPE=image/jpeg:https://www.visitglenarbor.com/wp-content/uploads/2023/01/SUNDAY-SOUP-1_1-copy-1.jpg
ORGANIZER;CN="French Valley Vineyard":MAILTO:info@fvvineyard.com
END:VEVENT
END:VCALENDAR