BEGIN:VCALENDAR
VERSION:2.0
PRODID:-//Glen Lake Chamber of Commerce - ECPv6.15.20//NONSGML v1.0//EN
CALSCALE:GREGORIAN
METHOD:PUBLISH
X-WR-CALNAME:Glen Lake Chamber of Commerce
X-ORIGINAL-URL:https://www.visitglenarbor.com
X-WR-CALDESC:Events for Glen Lake Chamber of Commerce
REFRESH-INTERVAL;VALUE=DURATION:PT1H
X-Robots-Tag:noindex
X-PUBLISHED-TTL:PT1H
BEGIN:VTIMEZONE
TZID:America/Detroit
BEGIN:DAYLIGHT
TZOFFSETFROM:-0500
TZOFFSETTO:-0400
TZNAME:EDT
DTSTART:20220313T070000
END:DAYLIGHT
BEGIN:STANDARD
TZOFFSETFROM:-0400
TZOFFSETTO:-0500
TZNAME:EST
DTSTART:20221106T060000
END:STANDARD
BEGIN:DAYLIGHT
TZOFFSETFROM:-0500
TZOFFSETTO:-0400
TZNAME:EDT
DTSTART:20230312T070000
END:DAYLIGHT
BEGIN:STANDARD
TZOFFSETFROM:-0400
TZOFFSETTO:-0500
TZNAME:EST
DTSTART:20231105T060000
END:STANDARD
BEGIN:DAYLIGHT
TZOFFSETFROM:-0500
TZOFFSETTO:-0400
TZNAME:EDT
DTSTART:20240310T070000
END:DAYLIGHT
BEGIN:STANDARD
TZOFFSETFROM:-0400
TZOFFSETTO:-0500
TZNAME:EST
DTSTART:20241103T060000
END:STANDARD
END:VTIMEZONE
BEGIN:VEVENT
DTSTART;VALUE=DATE:20230428
DTEND;VALUE=DATE:20230507
DTSTAMP:20260425T155920
CREATED:20230215T144106Z
LAST-MODIFIED:20230427T122108Z
UID:10004783-1682640000-1683417599@www.visitglenarbor.com
SUMMARY:Glen Lake Restaurant Week 2023
DESCRIPTION:Glen Lake Restaurant Week offers an array of dining options “from French Fries to French Cuisine.”\n\nFriday\, April 28th – Saturday\, May 6th\, 2023\nDon’t miss enjoying special menus offered by participating restaurants during this delicious annual event! Each establishment will offer a mouthwatering prix-fixe menu designed for Restaurant Week\, ranging in price point\, with some offering breakfast & lunch specials too! We recommend contacting participating businesses to get their hours of operation\, to make a reservation\, or ask if they’ll be offering RW Menu’s for take-out. Menu’s and details below… \nFollow event updates on Facebook: @Eat Glen Arbor \n\nList of Participants:\nArt’s Tavern\n> RESTAURANT WEEK MENU \nDine-in or Take-out; No reservations. Open 7 days a week. Cash only. \n(231)334-3754\n\n6487 Western Ave\, Glen Arbor\, MI \n\nBlu\n> RESTAURANT WEEK MENU \nMake your reservations online now. Open Tuesday-Saturday for the season beginning April 14th. \n(231)334-2530\n\n5705 S Lake St\, Glen Arbor\, MI \n\n\nBroomstack Kitchen & Taphouse\n> RESTAURANT WEEK MENU \n(231)228-8869\n\n172 W Burdickville Rd\, Maple City\, MI \n\n\n\nCherry Public House\n> RESTAURANT WEEK MENU\nOpen Thursday – Sunday 11am-8pm. RW Menu available for dine-in or take-out. \n(231)226-3033 \n6026 S. Lake Street\, Glen Arbor\, MI \n\n\nFunistrada\n> RESTAURANT WEEK MENU \n(231)334-3900\n\n4566 W MacFarlane Rd\, Maple City\, MI 49664 \n\n\n\nGood Harbor Grill\n> RESTAURANT WEEK LUNCH MENU\nOpen for breakfast from 8-11:30am and Lunch from 11:30-3pm. \n(231)334-3555 \n\n6584 Western Ave\, Glen Arbor\, MI \n\nInn & Trail Gourmet\n> RESTAURANT WEEK BREAKFAST & LUNCH SPECIALS \n(231)835-2535 \n6453 Western Ave. Glen Arbor\, MI 49636 \n\n\n\n\n\n\nLa Bécasse\n> RESTAURANT WEEK MENU  \nReservations for dinner beginning at 5pm. Regular menu\, Restaurant Week Menu and Drink Menu offered. \n(231)334-3944\n\n9001 S Dunns Farm Rd\, Maple City\, MI \n\n\n\nNonna’s Italian Ristorante\n> RESTAURANT WEEK MENU\nOpen 5-10pm during Restaurant Week for dine-in service. Reservations encouraged. \n(231)334.5222 \nThe Homestead Resort\, Glen Arbor\, MI 49636 \n\nWestern Avenue Grill\n> RESTAURANT WEEK MENU \nWe will be closed 4/28-30 and opening on 5/1\, Monday – Friday 4-9pm\, Open Saturday 12-9pm. No take-out\, reservations recommended\, but not required. \n(231) 334-3362 \n6410 Western Ave\, Glen Arbor\, MI \n\n\n\n\nThank you! Sponsors…\n \n \n \n  \n\nThe Glen Lake Chamber of Commerce is a 501c6 organization dedicated to promoting local business in the Glen Lake region. A special Thank You to our generous Sponsors and Participants for helping make the marketing of this delicious event possible! \nRestaurants\, Wineries and Specialty Food purveyours in the Glen Lake region are invited to participate. Interested in becoming a Sponsor? See our Participant/Sponsorship Form for details. \n\nMarketing Materials: View the Event Poster 
URL:https://www.visitglenarbor.com/event/glen-lake-restaurant-week-2023/
LOCATION:MI\, United States
CATEGORIES:Food/Dining Event,Local Business Event
ATTACH;FMTTYPE=image/png:https://www.visitglenarbor.com/wp-content/uploads/2023/02/Photo-graphic-Restaurant-week-design-2023-e1679440870397.png
END:VEVENT
BEGIN:VEVENT
DTSTART;VALUE=DATE:20230519
DTEND;VALUE=DATE:20230522
DTSTAMP:20260425T155920
CREATED:20230215T144951Z
LAST-MODIFIED:20230526T165849Z
UID:10004784-1684454400-1684713599@www.visitglenarbor.com
SUMMARY:Glen Arbor's Season Opener
DESCRIPTION:Kick off the season with a fun “spend local campaign” from Friday\, May 19th-Sunday\, May 21st\, 2023.\nAll are invited to “step up to the plate” and “take a swing” during Glen Arbor’s Season Opener. Event “Batter Cards” will be available at M22 Glen Arbor and Cottonseed Apparel. Take your card around town and “run the bases” while supporting local businesses and seeing what’s new and open for the season. Stop by any six participating businesses in the area to see if you can score a home run! Purchases are encouraged but not required. 1st\, 2nd and 3rd place winners will be selected to receive “Glen Arbor Bucks.” \nHow it works:\nThe event will take place at your leisure from Friday to Sunday\, May 19th\, 20th and 21st. Participants are to pick up their batter card at M22 Glen Arbor or Cottonseed. The card has six spaces (or bases) to get stamped. As you spend the weekend in Glen Arbor\, ask local businesses to stamp your card. Purchases are encouraged but not required during this “shop small\, eat local” campaign. Once all six bases have been stamped\, participants should drop off their completed batter card to M22 Glen Arbor or Cottonseed. No more than 2 cards per person. 3 winners will be selected to receive “Glen Arbor Bucks.” Winners will be announced via the Glen Lake Chamber’s social media pages and email newsletter. \n\nThis year’s event winners:\nThank you for “shopping small and eating local!” Congrats to this year’s Season Opener winners: 1st: Sherri Schoeremann (Glen Arbor)\, 2nd: Lisa Fedewa (Portland MI)\, 3rd: Lisa Swihart (Lansing). Each will recieve “Glen Arbor Bucks” to spend in and around Glen Arbor in the 2023 calendar year. \n\n 
URL:https://www.visitglenarbor.com/event/season-opener-2023/
LOCATION:Downtown Glen Arbor\, Glen Arbor\, MI\, 49636\, United States
CATEGORIES:Community Events,Food/Dining Event,Local Business Event,Shopping
ATTACH;FMTTYPE=image/png:https://www.visitglenarbor.com/wp-content/uploads/2023/02/season-opener-2023-graphic-cover.png
END:VEVENT
END:VCALENDAR