BEGIN:VCALENDAR
VERSION:2.0
PRODID:-//Glen Lake Chamber of Commerce - ECPv6.15.20//NONSGML v1.0//EN
CALSCALE:GREGORIAN
METHOD:PUBLISH
X-WR-CALNAME:Glen Lake Chamber of Commerce
X-ORIGINAL-URL:https://www.visitglenarbor.com
X-WR-CALDESC:Events for Glen Lake Chamber of Commerce
REFRESH-INTERVAL;VALUE=DURATION:PT1H
X-Robots-Tag:noindex
X-PUBLISHED-TTL:PT1H
BEGIN:VTIMEZONE
TZID:America/Detroit
BEGIN:DAYLIGHT
TZOFFSETFROM:-0500
TZOFFSETTO:-0400
TZNAME:EDT
DTSTART:20220313T070000
END:DAYLIGHT
BEGIN:STANDARD
TZOFFSETFROM:-0400
TZOFFSETTO:-0500
TZNAME:EST
DTSTART:20221106T060000
END:STANDARD
BEGIN:DAYLIGHT
TZOFFSETFROM:-0500
TZOFFSETTO:-0400
TZNAME:EDT
DTSTART:20230312T070000
END:DAYLIGHT
BEGIN:STANDARD
TZOFFSETFROM:-0400
TZOFFSETTO:-0500
TZNAME:EST
DTSTART:20231105T060000
END:STANDARD
BEGIN:DAYLIGHT
TZOFFSETFROM:-0500
TZOFFSETTO:-0400
TZNAME:EDT
DTSTART:20240310T070000
END:DAYLIGHT
BEGIN:STANDARD
TZOFFSETFROM:-0400
TZOFFSETTO:-0500
TZNAME:EST
DTSTART:20241103T060000
END:STANDARD
END:VTIMEZONE
BEGIN:VEVENT
DTSTART;TZID=America/Detroit:20231117T170000
DTEND;TZID=America/Detroit:20231117T190000
DTSTAMP:20260424T141908
CREATED:20231020T152805Z
LAST-MODIFIED:20231024T231013Z
UID:10004110-1700240400-1700247600@www.visitglenarbor.com
SUMMARY:Glen Arbor Arts Center-Holiday Open House
DESCRIPTION:Join us for our Holiday Open house on November 17\, 5–7 PM. Enjoy live music from the Suttons Bay Ukulele Orchestra. Find that perfect gift with our Small Works exhibition with over 120 local art works\, refreshments\, a bonfire\, and a special Holiday Popup Store with handmade gifts!
URL:https://www.visitglenarbor.com/event/glen-arbor-arts-center-holiday-open-house/
LOCATION:Glen Arbor Arts Center\, 6031 S. Lake Street\, Glen Arbor\, MI\, 49636
CATEGORIES:Art/Gallery/Exhibit,Community Events,Kids + Family Friendly,Music
ATTACH;FMTTYPE=image/jpeg:https://www.visitglenarbor.com/wp-content/uploads/2023/10/SmallWorks2023_Holiday-Open-house.jpg
ORGANIZER;CN="Glen Arbor Arts Center":MAILTO:director@glenarborart.org
END:VEVENT
BEGIN:VEVENT
DTSTART;TZID=America/Detroit:20231124T070000
DTEND;TZID=America/Detroit:20231124T090000
DTSTAMP:20260424T141908
CREATED:20230929T165311Z
LAST-MODIFIED:20231117T145908Z
UID:10005282-1700809200-1700816400@www.visitglenarbor.com
SUMMARY:PJ Party “Better than Black Friday” 2023
DESCRIPTION:Join us for this fun #shopsmall event Thanksgiving weekend\, on Friday\, November 24th\, 2023. The PJ Party is an annual tradition in the Glen Arbor business district\, where you are invited to wear your pajamas and come out for special sales and offers with participating local merchants for a “Better than Black Friday” shopping experience. Select businesses open early\, this year from 7-9am* to feature specials and sales only offered during this time. \nAfterward\, watch the Bed Parade down part of Western Ave from 9-9:30am then grab a drink or breakfast treat. Shops continue Thanksgiving weekend sales during their normal hours of operation the rest of the day/weekend. \n*Check with individual merchants for their own offerings and hours of operation. \nVisit these participating businesses…\n• Coastal:Open at 6am offering exclusive holiday deals! \n• M22 Glen Arbor: Open at 6am offering exclusive holiday deals! \n• Leelanau Coffee Roasting Company \n• Inn and Trail Gourmet: Open starting at 8 am! Tasty specials going on all day! \n• Cottonseed Apparel: From 7am-9am ONLY\, the store will be 50% off everything! Then\, 10am-6pm the store will be 20% off everything! \n• Cottage Book Shop \n• Cherry Republic Retail Store: From 7am-9am enjoy taking 20% off everything in the store (excludes wine and shipping costs). Then\, from 10am-7pm be the first to shop their Black Friday Special: first 150 customers to spend $75 or more will receive a $15 gift card (one per customer). \n• The Totem Shop \n\nWant to participate in this event? Questions about the event? Contact us at info@visitglenarbor.com \n\nVisit our Business Directory for local listings
URL:https://www.visitglenarbor.com/event/pj-party-better-than-black-friday-shopping/
CATEGORIES:Chamber Events,Community Events,Local Business Event,Shopping
ATTACH;FMTTYPE=image/jpeg:https://www.visitglenarbor.com/wp-content/uploads/2021/10/IMG_8654-scaled-e1637086628331.jpeg
END:VEVENT
BEGIN:VEVENT
DTSTART;TZID=America/Detroit:20231124T090000
DTEND;TZID=America/Detroit:20231124T093000
DTSTAMP:20260424T141908
CREATED:20230929T165715Z
LAST-MODIFIED:20230929T165755Z
UID:10004098-1700816400-1700818200@www.visitglenarbor.com
SUMMARY:Bed Parade
DESCRIPTION:In it’s 6th year\, the fun and quirky Bed Parade returns the day after Thanksgiving\, among other holiday traditions in Glen Arbor. You’re invited to simply view the spectacle from the curb and cheer on participants as they roll their festively decorated bed on wheels down Western Avenue\, or join in the fun with your own festively decorated bed! \nWant to participate?\nRally your troops and haul your creativity to town for a 9am parade start time on Friday\, November 24th\, 2023. The “parade” will begin just outside the Pine Cone and complete at the Post Office. Join other participants for a post-parade treat from Leelanau Coffee Roasters or Art’s Tavern\, which will be open for breakfast. \nThis event is open to everyone. No registration required. Sponsored by Becky Thatcher Designs\, Contact Michael Lyons for questions: (630)776-0036 michaell@worthathousandwords.com
URL:https://www.visitglenarbor.com/event/bed-parade/
CATEGORIES:Community Events,Kids + Family Friendly
ATTACH;FMTTYPE=image/jpeg:https://www.visitglenarbor.com/wp-content/uploads/2021/11/Bed-Parade_Glen-Arbor_IMG_2639-scaled-e1637086424201.jpg
END:VEVENT
BEGIN:VEVENT
DTSTART;TZID=America/Detroit:20231125T100000
DTEND;TZID=America/Detroit:20231125T160000
DTSTAMP:20260424T141908
CREATED:20230928T205217Z
LAST-MODIFIED:20230929T125201Z
UID:10005279-1700906400-1700928000@www.visitglenarbor.com
SUMMARY:Empire Artisan Market
DESCRIPTION:Empire Artisan Marketplace – Saturday after Thanksgiving in Empire\, MI from 10am-4pm.\n\nTabletop Space Available $50. For Application\, Contact Linda Payment at empireareacommunitycenter@gmail.com
URL:https://www.visitglenarbor.com/event/empire-artisan-market-2023/
LOCATION:Empire Township Hall\, 10088 W. Front Street\, Empire\, MI \, Empire\, MI\, 49630\, United States
CATEGORIES:Art/Gallery/Exhibit,Community Events,Kids + Family Friendly
ATTACH;FMTTYPE=image/jpeg:https://www.visitglenarbor.com/wp-content/uploads/2023/09/Artisan-Marketplace18C-empire-mi-scaled-e1695934327875.jpg
END:VEVENT
END:VCALENDAR