BEGIN:VCALENDAR
VERSION:2.0
PRODID:-//Glen Lake Chamber of Commerce - ECPv6.15.19//NONSGML v1.0//EN
CALSCALE:GREGORIAN
METHOD:PUBLISH
X-ORIGINAL-URL:https://www.visitglenarbor.com
X-WR-CALDESC:Events for Glen Lake Chamber of Commerce
REFRESH-INTERVAL;VALUE=DURATION:PT1H
X-Robots-Tag:noindex
X-PUBLISHED-TTL:PT1H
BEGIN:VTIMEZONE
TZID:America/Detroit
BEGIN:DAYLIGHT
TZOFFSETFROM:-0500
TZOFFSETTO:-0400
TZNAME:EDT
DTSTART:20250309T070000
END:DAYLIGHT
BEGIN:STANDARD
TZOFFSETFROM:-0400
TZOFFSETTO:-0500
TZNAME:EST
DTSTART:20251102T060000
END:STANDARD
BEGIN:DAYLIGHT
TZOFFSETFROM:-0500
TZOFFSETTO:-0400
TZNAME:EDT
DTSTART:20260308T070000
END:DAYLIGHT
BEGIN:STANDARD
TZOFFSETFROM:-0400
TZOFFSETTO:-0500
TZNAME:EST
DTSTART:20261101T060000
END:STANDARD
BEGIN:DAYLIGHT
TZOFFSETFROM:-0500
TZOFFSETTO:-0400
TZNAME:EDT
DTSTART:20270314T070000
END:DAYLIGHT
BEGIN:STANDARD
TZOFFSETFROM:-0400
TZOFFSETTO:-0500
TZNAME:EST
DTSTART:20271107T060000
END:STANDARD
END:VTIMEZONE
BEGIN:VEVENT
DTSTART;TZID=America/Detroit:20260221T080000
DTEND;TZID=America/Detroit:20260221T170000
DTSTAMP:20260423T061518
CREATED:20260119T150555Z
LAST-MODIFIED:20260119T150729Z
UID:10008554-1771660800-1771693200@www.visitglenarbor.com
SUMMARY:Snowshoe: A Sip of History
DESCRIPTION:A Guided Winter Trek\, Hot Cocoa\, and a Flavor of History \nFebruary 21\, 2026\n10 am – 12 pm\nPort Oneida Heritage Center\, 3164 W. Harbor Hwy (M-22)\, Maple City \nDiscover Port Oneida’s past on snow-covered paths with your history guide. Your adventure begins and ends at the historic Olsen House where after a gentle trek\, you will gather in the kitchen for a hot cocoa bar with all the fixings\, and warm cookies\, using Hattie Olsen’s own recipe. Visit this cozy\, charming home during the winter season and get a unique snowy view of the Olsen farmstead and surrounding landscapes. \nIf conditions do not allow for snowshoeing\, we will take a winter hike. Bring your own snowshoes and a change of shoes for inside the Olsen House. \nThis event is for adults and children over 12. This is a free event and donations are welcome. Registration is requested so we can prepare enough cocoa and bake enough cookies!
URL:https://www.visitglenarbor.com/event/snowshoe-a-sip-of-history/2026-02-21/1/
LOCATION:Port Oneida Heritage Center\, 3164 W. Harbor Hwy.\, Maple City\, Michigan\, 49630
CATEGORIES:Community Events,Recreation
ATTACH;FMTTYPE=image/png:https://www.visitglenarbor.com/wp-content/uploads/2026/01/Snowshoe-Event-FB-Square.png
END:VEVENT
BEGIN:VEVENT
DTSTART;TZID=America/Detroit:20260221T100000
DTEND;TZID=America/Detroit:20260221T120000
DTSTAMP:20260423T061518
CREATED:20260119T150555Z
LAST-MODIFIED:20260119T150729Z
UID:10008555-1771668000-1771675200@www.visitglenarbor.com
SUMMARY:Snowshoe: A Sip of History
DESCRIPTION:A Guided Winter Trek\, Hot Cocoa\, and a Flavor of History \nFebruary 21\, 2026\n10 am – 12 pm\nPort Oneida Heritage Center\, 3164 W. Harbor Hwy (M-22)\, Maple City \nDiscover Port Oneida’s past on snow-covered paths with your history guide. Your adventure begins and ends at the historic Olsen House where after a gentle trek\, you will gather in the kitchen for a hot cocoa bar with all the fixings\, and warm cookies\, using Hattie Olsen’s own recipe. Visit this cozy\, charming home during the winter season and get a unique snowy view of the Olsen farmstead and surrounding landscapes. \nIf conditions do not allow for snowshoeing\, we will take a winter hike. Bring your own snowshoes and a change of shoes for inside the Olsen House. \nThis event is for adults and children over 12. This is a free event and donations are welcome. Registration is requested so we can prepare enough cocoa and bake enough cookies!
URL:https://www.visitglenarbor.com/event/snowshoe-a-sip-of-history/2026-02-21/2/
LOCATION:Port Oneida Heritage Center\, 3164 W. Harbor Hwy.\, Maple City\, Michigan\, 49630
CATEGORIES:Community Events,Recreation
ATTACH;FMTTYPE=image/png:https://www.visitglenarbor.com/wp-content/uploads/2026/01/Snowshoe-Event-FB-Square.png
END:VEVENT
END:VCALENDAR