BEGIN:VCALENDAR
VERSION:2.0
PRODID:-//Glen Lake Chamber of Commerce - ECPv6.15.20//NONSGML v1.0//EN
CALSCALE:GREGORIAN
METHOD:PUBLISH
X-ORIGINAL-URL:https://www.visitglenarbor.com
X-WR-CALDESC:Events for Glen Lake Chamber of Commerce
REFRESH-INTERVAL;VALUE=DURATION:PT1H
X-Robots-Tag:noindex
X-PUBLISHED-TTL:PT1H
BEGIN:VTIMEZONE
TZID:America/Detroit
BEGIN:DAYLIGHT
TZOFFSETFROM:-0500
TZOFFSETTO:-0400
TZNAME:EDT
DTSTART:20220313T070000
END:DAYLIGHT
BEGIN:STANDARD
TZOFFSETFROM:-0400
TZOFFSETTO:-0500
TZNAME:EST
DTSTART:20221106T060000
END:STANDARD
BEGIN:DAYLIGHT
TZOFFSETFROM:-0500
TZOFFSETTO:-0400
TZNAME:EDT
DTSTART:20230312T070000
END:DAYLIGHT
BEGIN:STANDARD
TZOFFSETFROM:-0400
TZOFFSETTO:-0500
TZNAME:EST
DTSTART:20231105T060000
END:STANDARD
BEGIN:DAYLIGHT
TZOFFSETFROM:-0500
TZOFFSETTO:-0400
TZNAME:EDT
DTSTART:20240310T070000
END:DAYLIGHT
BEGIN:STANDARD
TZOFFSETFROM:-0400
TZOFFSETTO:-0500
TZNAME:EST
DTSTART:20241103T060000
END:STANDARD
END:VTIMEZONE
BEGIN:VEVENT
DTSTART;TZID=America/Detroit:20230803T130000
DTEND;TZID=America/Detroit:20230803T131500
DTSTAMP:20260425T001527
CREATED:20230703T185009Z
LAST-MODIFIED:20230703T185009Z
UID:10004018-1691067600-1691068500@www.visitglenarbor.com
SUMMARY:Lyle Gun Demonstration
DESCRIPTION:The Lyle Gun is the only canon ever designed to save lives\, not take them. Watch the demonstration to find out more about this life-saving tool. The program lasts about 15 minutes. Arrive early as the program starts promptly at 1 pm.
URL:https://www.visitglenarbor.com/event/lyle-gun-demonstration/2023-08-03/
LOCATION:Coast Guard Station Maritime Museum\, Sleeping Bear Dunes Rd\, Glen Arbor \, MI\, 49664
CATEGORIES:Kids + Family Friendly
ATTACH;FMTTYPE=image/jpeg:https://www.visitglenarbor.com/wp-content/uploads/2023/07/Matt-Mohrman_Lyle-Gun-scaled.jpg
ORGANIZER;CN="Sleeping Bear Dunes National Lakeshore":MAILTO:SLBE_programs@nps.gov
END:VEVENT
BEGIN:VEVENT
DTSTART;TZID=America/Detroit:20230803T131500
DTEND;TZID=America/Detroit:20230803T150000
DTSTAMP:20260425T001527
CREATED:20230703T185019Z
LAST-MODIFIED:20230703T185019Z
UID:10004028-1691068500-1691074800@www.visitglenarbor.com
SUMMARY:Stations of the Storm
DESCRIPTION:Do you have what it takes to be a surfman of the US Lifesaving Service? To find out\, join park rangers on Thursdays from 1:15-3 pm at the Maritime Museum to complete a series of stations as part of the rescue duties of the surfman stationed the Sleeping Bear Point Station. \nStations will set up around the grounds of the Maritime Museum in Glen Haven where potential surfmen and women of all ages can try their hand at tossing out a lifering\, doing a lookout for potential ships in distress\, and participate in the Breeches Buoy demonstration to do a mock shipwreck rescue. \nMove through the stations at your own pace\, but expect to spend about 30 minutes (or more) if you would like to complete each activity.
URL:https://www.visitglenarbor.com/event/stations-of-the-storm/2023-08-03/
LOCATION:Coast Guard Station Maritime Museum\, Sleeping Bear Dunes Rd\, Glen Arbor \, MI\, 49664
CATEGORIES:Kids + Family Friendly
ATTACH;FMTTYPE=image/jpeg:https://www.visitglenarbor.com/wp-content/uploads/2023/07/Heroes-Program-15-with-Whip-Line-scaled.jpg
ORGANIZER;CN="Sleeping Bear Dunes National Lakeshore":MAILTO:SLBE_programs@nps.gov
END:VEVENT
BEGIN:VEVENT
DTSTART;TZID=America/Detroit:20230811T100000
DTEND;TZID=America/Detroit:20230811T160000
DTSTAMP:20260425T001527
CREATED:20230703T185039Z
LAST-MODIFIED:20230703T185039Z
UID:10004033-1691748000-1691769600@www.visitglenarbor.com
SUMMARY:Port Oneida Fair
DESCRIPTION:Step back in time at the Port Oneida Fair and experience life as it was in the late 1800’s and early 1900’s. Imagine the life of the pioneers as you help bale hay or watch a broom-maker at work. Learn about spinning\, basket weaving\, soap making\, butter making\, candle dipping\, and fur trapping. Listen as park rangers and local history experts share the area’s history. Watch as teams of oxen and horses cut\, load\, and haul hay and artists and craftsmen demonstrate their skills. \nThe fair is held at six of the historic farmsteads in Port Oneida. Each farm has a variety of artists\, crafts\, food\, and activities for visitors. Click on the farm names below to see what’s happening at each farm. A shuttle bus runs between the farms on a regular schedule during the fair\, so you can park your car and easily get around to the different venues. \nArrive anytime between the hours of 10 am and 4 pm. Most people spend 3-4 hours at the fair.
URL:https://www.visitglenarbor.com/event/port-oneida-fair/2023-08-11/
LOCATION:Port Oneida Rural Historic District\, 3164 W Harbor Hwy\, Maple City\, MI\, 49664\, United States
CATEGORIES:Community Events,Kids + Family Friendly
ATTACH;FMTTYPE=image/jpeg:https://www.visitglenarbor.com/wp-content/uploads/2023/07/POF-scaled.jpg
ORGANIZER;CN="Sleeping Bear Dunes National Lakeshore":MAILTO:SLBE_programs@nps.gov
END:VEVENT
BEGIN:VEVENT
DTSTART;TZID=America/Detroit:20230812T100000
DTEND;TZID=America/Detroit:20230812T160000
DTSTAMP:20260425T001527
CREATED:20230703T185039Z
LAST-MODIFIED:20230703T185039Z
UID:10004034-1691834400-1691856000@www.visitglenarbor.com
SUMMARY:Port Oneida Fair
DESCRIPTION:Step back in time at the Port Oneida Fair and experience life as it was in the late 1800’s and early 1900’s. Imagine the life of the pioneers as you help bale hay or watch a broom-maker at work. Learn about spinning\, basket weaving\, soap making\, butter making\, candle dipping\, and fur trapping. Listen as park rangers and local history experts share the area’s history. Watch as teams of oxen and horses cut\, load\, and haul hay and artists and craftsmen demonstrate their skills. \nThe fair is held at six of the historic farmsteads in Port Oneida. Each farm has a variety of artists\, crafts\, food\, and activities for visitors. Click on the farm names below to see what’s happening at each farm. A shuttle bus runs between the farms on a regular schedule during the fair\, so you can park your car and easily get around to the different venues. \nArrive anytime between the hours of 10 am and 4 pm. Most people spend 3-4 hours at the fair.
URL:https://www.visitglenarbor.com/event/port-oneida-fair/2023-08-12/
LOCATION:Port Oneida Rural Historic District\, 3164 W Harbor Hwy\, Maple City\, MI\, 49664\, United States
CATEGORIES:Community Events,Kids + Family Friendly
ATTACH;FMTTYPE=image/jpeg:https://www.visitglenarbor.com/wp-content/uploads/2023/07/POF-scaled.jpg
ORGANIZER;CN="Sleeping Bear Dunes National Lakeshore":MAILTO:SLBE_programs@nps.gov
END:VEVENT
BEGIN:VEVENT
DTSTART;TZID=America/Detroit:20230813T130000
DTEND;TZID=America/Detroit:20230813T200000
DTSTAMP:20260425T001527
CREATED:20230805T152755Z
LAST-MODIFIED:20230805T152806Z
UID:10004066-1691931600-1691956800@www.visitglenarbor.com
SUMMARY:Glen Lake Alumni Share and Care
DESCRIPTION:Open Invite – REMINDER: \nGlen Lake Alumni \nShare & Care Gathering \nOpen Invite to Glen Lake Area Community & Non-profit Groups! \nfor Sunday\, August 13\, 2023 \nGlen Arbor Twp Hall\, 1pm to ~ 8pm \n· Free\, Open public invite meet & greet for old friends and to find out about non-profit causes around the Glen Lake Community. All Glen Lake Alumni and area non-profit groups are invited to gather for a ½ day on Sunday (at the conclusion of the Port Oneida Fair weekend) in the Glen Arbor Town Hall. \n· GO LAKERS! Glen Lake Alumni\, Classes & Staff: including memorial boards during the gathering for a tribute to our past teachers and lost class-mates\, esp veterans who had served. (i.e. Reunion Tables set-up for the 50’s & 60’s\, 70’s & 80’s\, etc. ) Memorial letters and photos are welcome & encouraged! Alumni band\, sports\, clubs\, any creative way you want to contribute! \n· Meet & Greet: Non-profit causes back in the home area that could be joined or donated to\, as a way to give forward something back to our original home communities. – Help be the change you want to see. \n· Food or drink brought in is the responsibility of the group involved. Kitchen sink available but please help clean afterwards. (No alcohol).
URL:https://www.visitglenarbor.com/event/glen-lake-alumni-share-care/
LOCATION:Glen Arbor Township Hall
CATEGORIES:Community Events
ATTACH;FMTTYPE=image/png:https://www.visitglenarbor.com/wp-content/uploads/2023/08/download-1.png
ORGANIZER;CN="Glen Arbor Township":MAILTO:glenarbor@glenarbortownship.com
END:VEVENT
BEGIN:VEVENT
DTSTART;TZID=America/Detroit:20230817T130000
DTEND;TZID=America/Detroit:20230817T131500
DTSTAMP:20260425T001527
CREATED:20230703T185009Z
LAST-MODIFIED:20230703T185009Z
UID:10004019-1692277200-1692278100@www.visitglenarbor.com
SUMMARY:Lyle Gun Demonstration
DESCRIPTION:The Lyle Gun is the only canon ever designed to save lives\, not take them. Watch the demonstration to find out more about this life-saving tool. The program lasts about 15 minutes. Arrive early as the program starts promptly at 1 pm.
URL:https://www.visitglenarbor.com/event/lyle-gun-demonstration/2023-08-17/
LOCATION:Coast Guard Station Maritime Museum\, Sleeping Bear Dunes Rd\, Glen Arbor \, MI\, 49664
CATEGORIES:Kids + Family Friendly
ATTACH;FMTTYPE=image/jpeg:https://www.visitglenarbor.com/wp-content/uploads/2023/07/Matt-Mohrman_Lyle-Gun-scaled.jpg
ORGANIZER;CN="Sleeping Bear Dunes National Lakeshore":MAILTO:SLBE_programs@nps.gov
END:VEVENT
BEGIN:VEVENT
DTSTART;TZID=America/Detroit:20230817T131500
DTEND;TZID=America/Detroit:20230817T150000
DTSTAMP:20260425T001527
CREATED:20230703T185019Z
LAST-MODIFIED:20230703T185019Z
UID:10004029-1692278100-1692284400@www.visitglenarbor.com
SUMMARY:Stations of the Storm
DESCRIPTION:Do you have what it takes to be a surfman of the US Lifesaving Service? To find out\, join park rangers on Thursdays from 1:15-3 pm at the Maritime Museum to complete a series of stations as part of the rescue duties of the surfman stationed the Sleeping Bear Point Station. \nStations will set up around the grounds of the Maritime Museum in Glen Haven where potential surfmen and women of all ages can try their hand at tossing out a lifering\, doing a lookout for potential ships in distress\, and participate in the Breeches Buoy demonstration to do a mock shipwreck rescue. \nMove through the stations at your own pace\, but expect to spend about 30 minutes (or more) if you would like to complete each activity.
URL:https://www.visitglenarbor.com/event/stations-of-the-storm/2023-08-17/
LOCATION:Coast Guard Station Maritime Museum\, Sleeping Bear Dunes Rd\, Glen Arbor \, MI\, 49664
CATEGORIES:Kids + Family Friendly
ATTACH;FMTTYPE=image/jpeg:https://www.visitglenarbor.com/wp-content/uploads/2023/07/Heroes-Program-15-with-Whip-Line-scaled.jpg
ORGANIZER;CN="Sleeping Bear Dunes National Lakeshore":MAILTO:SLBE_programs@nps.gov
END:VEVENT
BEGIN:VEVENT
DTSTART;TZID=America/Detroit:20230824T130000
DTEND;TZID=America/Detroit:20230824T131500
DTSTAMP:20260425T001527
CREATED:20230703T185009Z
LAST-MODIFIED:20230703T185009Z
UID:10004020-1692882000-1692882900@www.visitglenarbor.com
SUMMARY:Lyle Gun Demonstration
DESCRIPTION:The Lyle Gun is the only canon ever designed to save lives\, not take them. Watch the demonstration to find out more about this life-saving tool. The program lasts about 15 minutes. Arrive early as the program starts promptly at 1 pm.
URL:https://www.visitglenarbor.com/event/lyle-gun-demonstration/2023-08-24/
LOCATION:Coast Guard Station Maritime Museum\, Sleeping Bear Dunes Rd\, Glen Arbor \, MI\, 49664
CATEGORIES:Kids + Family Friendly
ATTACH;FMTTYPE=image/jpeg:https://www.visitglenarbor.com/wp-content/uploads/2023/07/Matt-Mohrman_Lyle-Gun-scaled.jpg
ORGANIZER;CN="Sleeping Bear Dunes National Lakeshore":MAILTO:SLBE_programs@nps.gov
END:VEVENT
BEGIN:VEVENT
DTSTART;TZID=America/Detroit:20230824T131500
DTEND;TZID=America/Detroit:20230824T150000
DTSTAMP:20260425T001527
CREATED:20230703T185019Z
LAST-MODIFIED:20230703T185019Z
UID:10004030-1692882900-1692889200@www.visitglenarbor.com
SUMMARY:Stations of the Storm
DESCRIPTION:Do you have what it takes to be a surfman of the US Lifesaving Service? To find out\, join park rangers on Thursdays from 1:15-3 pm at the Maritime Museum to complete a series of stations as part of the rescue duties of the surfman stationed the Sleeping Bear Point Station. \nStations will set up around the grounds of the Maritime Museum in Glen Haven where potential surfmen and women of all ages can try their hand at tossing out a lifering\, doing a lookout for potential ships in distress\, and participate in the Breeches Buoy demonstration to do a mock shipwreck rescue. \nMove through the stations at your own pace\, but expect to spend about 30 minutes (or more) if you would like to complete each activity.
URL:https://www.visitglenarbor.com/event/stations-of-the-storm/2023-08-24/
LOCATION:Coast Guard Station Maritime Museum\, Sleeping Bear Dunes Rd\, Glen Arbor \, MI\, 49664
CATEGORIES:Kids + Family Friendly
ATTACH;FMTTYPE=image/jpeg:https://www.visitglenarbor.com/wp-content/uploads/2023/07/Heroes-Program-15-with-Whip-Line-scaled.jpg
ORGANIZER;CN="Sleeping Bear Dunes National Lakeshore":MAILTO:SLBE_programs@nps.gov
END:VEVENT
BEGIN:VEVENT
DTSTART;TZID=America/Detroit:20230831T130000
DTEND;TZID=America/Detroit:20230831T131500
DTSTAMP:20260425T001527
CREATED:20230703T185009Z
LAST-MODIFIED:20230703T185009Z
UID:10004021-1693486800-1693487700@www.visitglenarbor.com
SUMMARY:Lyle Gun Demonstration
DESCRIPTION:The Lyle Gun is the only canon ever designed to save lives\, not take them. Watch the demonstration to find out more about this life-saving tool. The program lasts about 15 minutes. Arrive early as the program starts promptly at 1 pm.
URL:https://www.visitglenarbor.com/event/lyle-gun-demonstration/2023-08-31/
LOCATION:Coast Guard Station Maritime Museum\, Sleeping Bear Dunes Rd\, Glen Arbor \, MI\, 49664
CATEGORIES:Kids + Family Friendly
ATTACH;FMTTYPE=image/jpeg:https://www.visitglenarbor.com/wp-content/uploads/2023/07/Matt-Mohrman_Lyle-Gun-scaled.jpg
ORGANIZER;CN="Sleeping Bear Dunes National Lakeshore":MAILTO:SLBE_programs@nps.gov
END:VEVENT
BEGIN:VEVENT
DTSTART;TZID=America/Detroit:20230831T131500
DTEND;TZID=America/Detroit:20230831T150000
DTSTAMP:20260425T001527
CREATED:20230703T185019Z
LAST-MODIFIED:20230703T185019Z
UID:10004031-1693487700-1693494000@www.visitglenarbor.com
SUMMARY:Stations of the Storm
DESCRIPTION:Do you have what it takes to be a surfman of the US Lifesaving Service? To find out\, join park rangers on Thursdays from 1:15-3 pm at the Maritime Museum to complete a series of stations as part of the rescue duties of the surfman stationed the Sleeping Bear Point Station. \nStations will set up around the grounds of the Maritime Museum in Glen Haven where potential surfmen and women of all ages can try their hand at tossing out a lifering\, doing a lookout for potential ships in distress\, and participate in the Breeches Buoy demonstration to do a mock shipwreck rescue. \nMove through the stations at your own pace\, but expect to spend about 30 minutes (or more) if you would like to complete each activity.
URL:https://www.visitglenarbor.com/event/stations-of-the-storm/2023-08-31/
LOCATION:Coast Guard Station Maritime Museum\, Sleeping Bear Dunes Rd\, Glen Arbor \, MI\, 49664
CATEGORIES:Kids + Family Friendly
ATTACH;FMTTYPE=image/jpeg:https://www.visitglenarbor.com/wp-content/uploads/2023/07/Heroes-Program-15-with-Whip-Line-scaled.jpg
ORGANIZER;CN="Sleeping Bear Dunes National Lakeshore":MAILTO:SLBE_programs@nps.gov
END:VEVENT
END:VCALENDAR