BEGIN:VCALENDAR
VERSION:2.0
PRODID:-//Glen Lake Chamber of Commerce - ECPv6.15.19//NONSGML v1.0//EN
CALSCALE:GREGORIAN
METHOD:PUBLISH
X-WR-CALNAME:Glen Lake Chamber of Commerce
X-ORIGINAL-URL:https://www.visitglenarbor.com
X-WR-CALDESC:Events for Glen Lake Chamber of Commerce
REFRESH-INTERVAL;VALUE=DURATION:PT1H
X-Robots-Tag:noindex
X-PUBLISHED-TTL:PT1H
BEGIN:VTIMEZONE
TZID:America/Detroit
BEGIN:DAYLIGHT
TZOFFSETFROM:-0500
TZOFFSETTO:-0400
TZNAME:EDT
DTSTART:20170312T070000
END:DAYLIGHT
BEGIN:STANDARD
TZOFFSETFROM:-0400
TZOFFSETTO:-0500
TZNAME:EST
DTSTART:20171105T060000
END:STANDARD
BEGIN:DAYLIGHT
TZOFFSETFROM:-0500
TZOFFSETTO:-0400
TZNAME:EDT
DTSTART:20180311T070000
END:DAYLIGHT
BEGIN:STANDARD
TZOFFSETFROM:-0400
TZOFFSETTO:-0500
TZNAME:EST
DTSTART:20181104T060000
END:STANDARD
BEGIN:DAYLIGHT
TZOFFSETFROM:-0500
TZOFFSETTO:-0400
TZNAME:EDT
DTSTART:20190310T070000
END:DAYLIGHT
BEGIN:STANDARD
TZOFFSETFROM:-0400
TZOFFSETTO:-0500
TZNAME:EST
DTSTART:20191103T060000
END:STANDARD
END:VTIMEZONE
BEGIN:VEVENT
DTSTART;TZID=America/Detroit:20180704T160000
DTEND;TZID=America/Detroit:20180704T160000
DTSTAMP:20260419T163028
CREATED:20180628T202748Z
LAST-MODIFIED:20200309T054856Z
UID:10003097-1530720000-1530720000@www.visitglenarbor.com
SUMMARY:4th of July Boat Parade on Glen Lake
DESCRIPTION:4th of July Boat Parade\nJoin the community for some fun in the sun\, on the water! All boats welcome on Glen Lake. The more the merrier. Decorations encouraged but not required! \nTime: 4:00 pm \nMeet: In Front of the Glen Lake Yacht Club ( 6617 Sunset Drive\, Glen Arbor ) \nFollow the “On the Narrows Marina” lead boat along the shore of Glen Lake\, through the bridge & Little Glen and back…Then drop anchor where a water volleyball net will be set up! Visit with other boaters – Play some volleyball – Celebrate the 4th!
URL:https://www.visitglenarbor.com/event/4th-of-july-boat-parade-on-glen-lake/
CATEGORIES:Kids + Family Friendly,Recreation
ATTACH;FMTTYPE=image/jpeg:https://www.visitglenarbor.com/wp-content/uploads/2020/03/Boat-Parade_4th-of-July_Glen-Lake-Glen-Arbor-MI.jpg
ORGANIZER;CN="Glen Lake Yacht Club":MAILTO:commodore@glenlakeyachtclub.com
END:VEVENT
END:VCALENDAR