BEGIN:VCALENDAR
VERSION:2.0
PRODID:-//Glen Lake Chamber of Commerce - ECPv6.15.20//NONSGML v1.0//EN
CALSCALE:GREGORIAN
METHOD:PUBLISH
X-WR-CALNAME:Glen Lake Chamber of Commerce
X-ORIGINAL-URL:https://www.visitglenarbor.com
X-WR-CALDESC:Events for Glen Lake Chamber of Commerce
REFRESH-INTERVAL;VALUE=DURATION:PT1H
X-Robots-Tag:noindex
X-PUBLISHED-TTL:PT1H
BEGIN:VTIMEZONE
TZID:America/Detroit
BEGIN:DAYLIGHT
TZOFFSETFROM:-0500
TZOFFSETTO:-0400
TZNAME:EDT
DTSTART:20240310T070000
END:DAYLIGHT
BEGIN:STANDARD
TZOFFSETFROM:-0400
TZOFFSETTO:-0500
TZNAME:EST
DTSTART:20241103T060000
END:STANDARD
BEGIN:DAYLIGHT
TZOFFSETFROM:-0500
TZOFFSETTO:-0400
TZNAME:EDT
DTSTART:20250309T070000
END:DAYLIGHT
BEGIN:STANDARD
TZOFFSETFROM:-0400
TZOFFSETTO:-0500
TZNAME:EST
DTSTART:20251102T060000
END:STANDARD
BEGIN:DAYLIGHT
TZOFFSETFROM:-0500
TZOFFSETTO:-0400
TZNAME:EDT
DTSTART:20260308T070000
END:DAYLIGHT
BEGIN:STANDARD
TZOFFSETFROM:-0400
TZOFFSETTO:-0500
TZNAME:EST
DTSTART:20261101T060000
END:STANDARD
END:VTIMEZONE
BEGIN:VEVENT
DTSTART;TZID=America/Detroit:20250704T150000
DTEND;TZID=America/Detroit:20250704T170000
DTSTAMP:20260425T180305
CREATED:20250627T175718Z
LAST-MODIFIED:20250627T175718Z
UID:10008066-1751641200-1751648400@www.visitglenarbor.com
SUMMARY:Wild Card @ Glen Arbor Wines
DESCRIPTION:Celebrate the 4th of July with the best soft rock/jazz band in the North!
URL:https://www.visitglenarbor.com/event/wild-card-glen-arbor-wines/
LOCATION:Glen Arbor Wines
ATTACH;FMTTYPE=image/jpeg:https://www.visitglenarbor.com/wp-content/uploads/2025/05/472231624_1119704773494436_2913620505887301780_n-2.jpg
END:VEVENT
BEGIN:VEVENT
DTSTART;TZID=America/Detroit:20250705T190000
DTEND;TZID=America/Detroit:20250705T210000
DTSTAMP:20260425T180305
CREATED:20250619T222733Z
LAST-MODIFIED:20250619T222733Z
UID:10008041-1751742000-1751749200@www.visitglenarbor.com
SUMMARY:Levi Britton @ Glen Arbor Wines
DESCRIPTION:Northern Michigan’s legendary balladeer sings us to the moon and back! Don’t miss this evening that promises to be as inspiring as it is relaxing.
URL:https://www.visitglenarbor.com/event/levi-britton-glen-arbor-wines/2025-07-05/
LOCATION:Glen Arbor Wines
ATTACH;FMTTYPE=image/jpeg:https://www.visitglenarbor.com/wp-content/uploads/2025/06/levi-britton-07112-cropped.jpg
ORGANIZER;CN="Glen Arbor Wines":MAILTO:Glenarborwines@gmail.com
END:VEVENT
BEGIN:VEVENT
DTSTART;TZID=America/Detroit:20250711T190000
DTEND;TZID=America/Detroit:20250711T210000
DTSTAMP:20260425T180305
CREATED:20250627T173846Z
LAST-MODIFIED:20250627T173846Z
UID:10008065-1752260400-1752267600@www.visitglenarbor.com
SUMMARY:Captain Dirk @ Glen Arbor Wines
DESCRIPTION:From Mississippi to the Great Lakes Sailing Company\, Captain Dirk has entertained with his eclectic repertoire of folk\, blues\, a bit of country\, B-side rarities and deep cuts. We are so excited to hear what he dishes up when he plays Glen Arbor Wines!
URL:https://www.visitglenarbor.com/event/captain-dirk-glen-arbor-wines/
CATEGORIES:Music
ATTACH;FMTTYPE=image/jpeg:https://www.visitglenarbor.com/wp-content/uploads/2025/06/captdirk.jpg
ORGANIZER;CN="Glen Arbor Wines":MAILTO:Glenarborwines@gmail.com
END:VEVENT
BEGIN:VEVENT
DTSTART;TZID=America/Detroit:20250724T190000
DTEND;TZID=America/Detroit:20250724T210000
DTSTAMP:20260425T180305
CREATED:20250627T170244Z
LAST-MODIFIED:20250627T170244Z
UID:10008063-1753383600-1753390800@www.visitglenarbor.com
SUMMARY:Chris Smith @ Glen Arbor Wines
DESCRIPTION:Ever since we heard him play in Traverse City we’ve been cajoling Chris to play at Glen Arbor Wines. A former Young American who has played all over the world\, Chris’s one-man band solo-act mixes sweet vocals\, tasty guitar playing and intricate live-looping that will keep you glued to your Adirondack chair.
URL:https://www.visitglenarbor.com/event/chris-smith-glen-arbor-wines-2/
LOCATION:Glen Arbor Wines
CATEGORIES:Music
ATTACH;FMTTYPE=image/jpeg:https://www.visitglenarbor.com/wp-content/uploads/2025/06/ChrisSmith.jpg
ORGANIZER;CN="Glen Arbor Wines":MAILTO:Glenarborwines@gmail.com
END:VEVENT
END:VCALENDAR