BEGIN:VCALENDAR
VERSION:2.0
PRODID:-//Glen Lake Chamber of Commerce - ECPv6.15.20//NONSGML v1.0//EN
CALSCALE:GREGORIAN
METHOD:PUBLISH
X-WR-CALNAME:Glen Lake Chamber of Commerce
X-ORIGINAL-URL:https://www.visitglenarbor.com
X-WR-CALDESC:Events for Glen Lake Chamber of Commerce
REFRESH-INTERVAL;VALUE=DURATION:PT1H
X-Robots-Tag:noindex
X-PUBLISHED-TTL:PT1H
BEGIN:VTIMEZONE
TZID:America/Detroit
BEGIN:DAYLIGHT
TZOFFSETFROM:-0500
TZOFFSETTO:-0400
TZNAME:EDT
DTSTART:20200308T070000
END:DAYLIGHT
BEGIN:STANDARD
TZOFFSETFROM:-0400
TZOFFSETTO:-0500
TZNAME:EST
DTSTART:20201101T060000
END:STANDARD
BEGIN:DAYLIGHT
TZOFFSETFROM:-0500
TZOFFSETTO:-0400
TZNAME:EDT
DTSTART:20210314T070000
END:DAYLIGHT
BEGIN:STANDARD
TZOFFSETFROM:-0400
TZOFFSETTO:-0500
TZNAME:EST
DTSTART:20211107T060000
END:STANDARD
BEGIN:DAYLIGHT
TZOFFSETFROM:-0500
TZOFFSETTO:-0400
TZNAME:EDT
DTSTART:20220313T070000
END:DAYLIGHT
BEGIN:STANDARD
TZOFFSETFROM:-0400
TZOFFSETTO:-0500
TZNAME:EST
DTSTART:20221106T060000
END:STANDARD
END:VTIMEZONE
BEGIN:VEVENT
DTSTART;TZID=America/Detroit:20210704T103000
DTEND;TZID=America/Detroit:20210704T140000
DTSTAMP:20260425T233251
CREATED:20210619T161034Z
LAST-MODIFIED:20210619T161512Z
UID:10004315-1625394600-1625407200@www.visitglenarbor.com
SUMMARY:4th of July Parade
DESCRIPTION:Yes! The 59th Fourth of July Parade\, from Glen Haven to Glen Arbor will happen on Sunday\, July 4th!\n10:30am and after on the 4th\, all will be welcomed to Glen Haven to line up and get ready to go. Vehicle line-up is organized into “groups” in Glen Haven by our volunteers in RED SHIRTS\, and Stan Brubaker in his usual YELLOW. If you’re a walker joining the parade\, enter the parade via Forest Haven. \n12pm the line up will roar slowly out of Glen Haven to make their way into Glen Arbor. \nNote: This we the community relied on our Governor’s decision. On may 20th 2021\, she announced “Michigan will fully lift outdoor capacity limits on June 1 and starting July 1\, end indoor gathering caps that were put in place to curb Covid-19.” We take that to mean\, since we are “outdoors” and “gathering” we can therefore have our parade! We hope you agree. Parade attendees/watchers should stay on the sidewalks and out of the street. Please be respectful\, safe. \n\n			\n				\n			\n				\n				carrying the American flag\n				\n			\n				\n			\n				\n				military vehicles in the parade\n				\n			\n				\n			\n				\n				mom and child watching the parade\n				\n			\n				\n			\n				\n				sleeping bear dunesmobile\n				\n			\n				\n			\n				\n				camp kohana\n				\n			\n				\n			\n				\n				GLFD in the parade\n				\n		\n\nRemember: No organization is in charge of this parade. It’s simply a bunch of Americans showing their gratitude and patriotism in an old-fashions\, small town way. This parade celebration would not work without our volunteers\, sweepers. We always could use more. Thank you America\, paraders\, volunteers\, Glen Lake Fire Department\, Sheriff’s Dept. and supporters. \n\nGlen Arbor Parade photos by Raquel Jackson\, Rockwell Art & Design
URL:https://www.visitglenarbor.com/event/4th-of-july-parade/
LOCATION:Downtown Glen Arbor\, Glen Arbor\, MI\, 49636\, United States
CATEGORIES:Community Events,Kids + Family Friendly,Recreation
ATTACH;FMTTYPE=image/jpeg:https://www.visitglenarbor.com/wp-content/uploads/2020/03/IMG_7454-scaled-e1579547746362.jpg
END:VEVENT
BEGIN:VEVENT
DTSTART;TZID=America/Detroit:20210727T090000
DTEND;TZID=America/Detroit:20210727T100000
DTSTAMP:20260425T233251
CREATED:20210327T194801Z
LAST-MODIFIED:20210610T151618Z
UID:10004297-1627376400-1627380000@www.visitglenarbor.com
SUMMARY:2021 Running Bear Run
DESCRIPTION:Glen Arbor Women’s Club hosts the 14th Annual Running Bear 5K Run/Walk and 1/2 mile Kids’ Run on Tuesday\, July 27th\, 2021. \nRun/Walk at 9:00am\, Kids’ Run at 9:05am. After the run\, enjoy celebration and refreshments. Starts/Ends: Cherry Republic on Lake Street in Glen Arbor\, MI.  Registration info online: www.runningbearrun.com \nRun/Walk $20\, ($25 day of run) \nKids’ Run $5 \nProceeds go to local scholarships and community projects. Questions? Call or text 231-409-0514
URL:https://www.visitglenarbor.com/event/2021-running-bear-run/
LOCATION:Cherry Republic
CATEGORIES:Community Events,Kids + Family Friendly
ATTACH;FMTTYPE=image/jpeg:https://www.visitglenarbor.com/wp-content/uploads/2021/03/0050.jpg-scaled.jpg
END:VEVENT
END:VCALENDAR