BEGIN:VCALENDAR
VERSION:2.0
PRODID:-//Glen Lake Chamber of Commerce - ECPv6.15.19//NONSGML v1.0//EN
CALSCALE:GREGORIAN
METHOD:PUBLISH
X-ORIGINAL-URL:https://www.visitglenarbor.com
X-WR-CALDESC:Events for Glen Lake Chamber of Commerce
REFRESH-INTERVAL;VALUE=DURATION:PT1H
X-Robots-Tag:noindex
X-PUBLISHED-TTL:PT1H
BEGIN:VTIMEZONE
TZID:America/Detroit
BEGIN:DAYLIGHT
TZOFFSETFROM:-0500
TZOFFSETTO:-0400
TZNAME:EDT
DTSTART:20230312T070000
END:DAYLIGHT
BEGIN:STANDARD
TZOFFSETFROM:-0400
TZOFFSETTO:-0500
TZNAME:EST
DTSTART:20231105T060000
END:STANDARD
BEGIN:DAYLIGHT
TZOFFSETFROM:-0500
TZOFFSETTO:-0400
TZNAME:EDT
DTSTART:20240310T070000
END:DAYLIGHT
BEGIN:STANDARD
TZOFFSETFROM:-0400
TZOFFSETTO:-0500
TZNAME:EST
DTSTART:20241103T060000
END:STANDARD
BEGIN:DAYLIGHT
TZOFFSETFROM:-0500
TZOFFSETTO:-0400
TZNAME:EDT
DTSTART:20250309T070000
END:DAYLIGHT
BEGIN:STANDARD
TZOFFSETFROM:-0400
TZOFFSETTO:-0500
TZNAME:EST
DTSTART:20251102T060000
END:STANDARD
END:VTIMEZONE
BEGIN:VEVENT
DTSTART;TZID=America/Detroit:20240929T130000
DTEND;TZID=America/Detroit:20240929T140000
DTSTAMP:20260419T220910
CREATED:20240619T164312Z
LAST-MODIFIED:20240619T164312Z
UID:10005435-1727614800-1727618400@www.visitglenarbor.com
SUMMARY:Coffee with the Authors: An Artist's Pilgrimage
DESCRIPTION:Frankfort painter Ellie Harold traveled to Paris in 2022\, a pilgrimage to view an exhibition of paintings by Impressionist Claude Monet and Abstract Expressionist Joan Mitchell. The souvenirs from that trip weren’t T-shirts and tote bags\, but questions\, including: What does it mean to be a “real” artist? Harold explores that question in the resulting book\, Monet\, Mitchell & Me: A Painter’s Pilgrimage. She talks about how she answered that question at the September 29 Coffee With The Authors conversation\, 1 pm at the Glen Arbor Arts Center. \nHarold’s book is a meditation on her struggles with creative block\, about practice\, process\, and why she’d rather make work than look at it in a museum. Monet\, Mitchell & Me is the story of Harold’s journey into the valley of art historical giants\, and the side trips into the interior of her own\, artistic country. \nCoffee With The Authors is a series of conversational interviews with local and regional authors about the craft and process of writing. This program is offered as part of the GAAC’s Shrines + Altars\, an exhibition that explores what we hold sacred: To whom are we building shrines? At what altars are we worshipping? The program is free. For more information go to GlenArborArt.org /EVENTS.
URL:https://www.visitglenarbor.com/event/coffee-with-the-authors-an-artists-pilgrimage/
LOCATION:Glen Arbor Arts Center\, 6031 S. Lake Street\, Glen Arbor\, MI\, 49636
CATEGORIES:Art/Gallery/Exhibit,Community Events
ATTACH;FMTTYPE=image/jpeg:https://www.visitglenarbor.com/wp-content/uploads/2024/05/Harold_Ellie-scaled.jpg
ORGANIZER;CN="Glen Arbor Arts Center":MAILTO:director@glenarborart.org
END:VEVENT
END:VCALENDAR