BEGIN:VCALENDAR
VERSION:2.0
PRODID:-//Glen Lake Chamber of Commerce - ECPv6.15.19//NONSGML v1.0//EN
CALSCALE:GREGORIAN
METHOD:PUBLISH
X-ORIGINAL-URL:https://www.visitglenarbor.com
X-WR-CALDESC:Events for Glen Lake Chamber of Commerce
REFRESH-INTERVAL;VALUE=DURATION:PT1H
X-Robots-Tag:noindex
X-PUBLISHED-TTL:PT1H
BEGIN:VTIMEZONE
TZID:America/Detroit
BEGIN:DAYLIGHT
TZOFFSETFROM:-0500
TZOFFSETTO:-0400
TZNAME:EDT
DTSTART:20220313T070000
END:DAYLIGHT
BEGIN:STANDARD
TZOFFSETFROM:-0400
TZOFFSETTO:-0500
TZNAME:EST
DTSTART:20221106T060000
END:STANDARD
BEGIN:DAYLIGHT
TZOFFSETFROM:-0500
TZOFFSETTO:-0400
TZNAME:EDT
DTSTART:20230312T070000
END:DAYLIGHT
BEGIN:STANDARD
TZOFFSETFROM:-0400
TZOFFSETTO:-0500
TZNAME:EST
DTSTART:20231105T060000
END:STANDARD
BEGIN:DAYLIGHT
TZOFFSETFROM:-0500
TZOFFSETTO:-0400
TZNAME:EDT
DTSTART:20240310T070000
END:DAYLIGHT
BEGIN:STANDARD
TZOFFSETFROM:-0400
TZOFFSETTO:-0500
TZNAME:EST
DTSTART:20241103T060000
END:STANDARD
END:VTIMEZONE
BEGIN:VEVENT
DTSTART;TZID=America/Detroit:20230714T100000
DTEND;TZID=America/Detroit:20230714T140000
DTSTAMP:20260419T204501
CREATED:20230714T150452Z
LAST-MODIFIED:20230714T150452Z
UID:10005194-1689328800-1689343200@www.visitglenarbor.com
SUMMARY:Junior Ranger Angler Program
DESCRIPTION:Always wanted to learn to fish? Curious about local fish species? Need more information about fishing regulations\, or preventing the spread of aquatic invasive species? The wait is over! Stop by Sleeping Bear Dunes National Lakeshore for a day of festivities aiming to provide safe and barrier-free opportunities to engage youth (primarily K-5th graders) in fishing! \nBetween 10:00 a.m. and 2:00 p.m.\, collect a Junior Angler booklet from the Mobile Visitor Center (Bear Force One) and complete all activity stations to learn about aquatic food webs\, water safety\, Leave No Trace\, the importance of fishing to the Anishinaabek\, etc. Once the Junior Angler booklet is complete\, return it to Bear Force One to earn a Junior Angler badge and other goodies! \nCompleting the Junior Angler booklet and activities takes about one hour\, so please plan on arriving to Loon Lake by 1:00 p.m. to ensure there is enough time to complete all stations. This event is the first of several Junior Angler Day events funded by a generous grant from the National Park Foundation that will be happening at Sleeping Bear Dunes National Lakeshore this summer.
URL:https://www.visitglenarbor.com/event/junior-ranger-angler-program-2/
LOCATION:Loon Lake Picnic Area\, N Scenic Hwy\, Honor\, MI\, 49640\, United States
CATEGORIES:Education,Recreation
ATTACH;FMTTYPE=image/jpeg:https://www.visitglenarbor.com/wp-content/uploads/2023/07/JR-Angler-1-scaled.jpg
ORGANIZER;CN="Sleeping Bear Dunes National Lakeshore":MAILTO:SLBE_programs@nps.gov
END:VEVENT
BEGIN:VEVENT
DTSTART;TZID=America/Detroit:20230728T100000
DTEND;TZID=America/Detroit:20230728T140000
DTSTAMP:20260419T204501
CREATED:20230723T210443Z
LAST-MODIFIED:20230723T210443Z
UID:10005227-1690538400-1690552800@www.visitglenarbor.com
SUMMARY:Junior Ranger Angler Program
DESCRIPTION:Always wanted to learn to fish? Curious about local fish species? Need more information about fishing regulations\, or preventing the spread of aquatic invasive species? The wait is over! Stop by Sleeping Bear Dunes National Lakeshore for a day of festivities aiming to provide safe and barrier-free opportunities to engage youth (primarily K-5th graders) in fishing! \nBetween 10:00 a.m. and 2:00 p.m.\, collect a Junior Angler booklet from the Mobile Visitor Center (Bear Force One) and complete all activity stations to learn about aquatic food webs\, water safety\, Leave No Trace\, the importance of fishing to the Anishinaabek\, etc. Once the Junior Angler booklet is complete\, return it to Bear Force One to earn a Junior Angler badge and other goodies! \nCompleting the Junior Angler booklet and activities takes about one hour\, so please plan on arriving to Loon Lake by 1:00 p.m. to ensure there is enough time to complete all stations. This event is the first of several Junior Angler Day events funded by a generous grant from the National Park Foundation that will be happening at Sleeping Bear Dunes National Lakeshore this summer.
URL:https://www.visitglenarbor.com/event/junior-ranger-angler-program-3/2023-07-28/
LOCATION:Loon Lake Picnic Area\, N Scenic Hwy\, Honor\, MI\, 49640\, United States
CATEGORIES:Education,Kids + Family Friendly,Recreation
ATTACH;FMTTYPE=image/jpeg:https://www.visitglenarbor.com/wp-content/uploads/2023/07/JR-Angler-2-scaled.jpg
ORGANIZER;CN="Sleeping Bear Dunes National Lakeshore":MAILTO:SLBE_programs@nps.gov
END:VEVENT
BEGIN:VEVENT
DTSTART;TZID=America/Detroit:20230729T170000
DTEND;TZID=America/Detroit:20230729T230000
DTSTAMP:20260419T204501
CREATED:20230703T185049Z
LAST-MODIFIED:20230728T180258Z
UID:10004035-1690650000-1690671600@www.visitglenarbor.com
SUMMARY:Star Parties
DESCRIPTION:At the Dune Climb\, please park in the row furthest from the dunes with your headlights facing M-109. Volunteers will be assisting with parking. Drop-in telescope and information stations will be available for you to visit at your leisure. Be sure to stop by the ranger greeter table in the parking lot at the Dune Climb for more information about the stations and their locations. \nFor all evening astronomy events\, bring a flashlight for the walk back to your car and bug spray\, if needed. You are welcome to bring your own binoculars\, beach chairs\, and blankets for a more comfortable experience\, and water is always recommended for National Park Service (NPS) programs. Park rangers and GTAS staff will wear red glow pins or bracelets at the events. \nThis event is the perfect opportunity to “Find Your Park” in the stars. Starry night skies and natural darkness are important components of the special places the NPS protects. National parks hold some of the last remaining harbors of darkness and provide an excellent opportunity to experience this endangered resource. \nAll sky programs offered by the National Lakeshore are free. Participants need only purchase the park entrance pass or have an annual pass displayed in their vehicle to join in the fun. Programs will be cancelled if the sky is not visible due to weather conditions. The decision to cancel is usually made two hours in advance. Please call 231-326-4700\, ext. 5005\, for a voicemail message with the decision.
URL:https://www.visitglenarbor.com/event/star-parties/2023-07-29/
LOCATION:Dune Climb\, 6748 S. Dune Highway\, Empire\, MI\, 49630\, United States
CATEGORIES:Education,Kids + Family Friendly
ATTACH;FMTTYPE=image/jpeg:https://www.visitglenarbor.com/wp-content/uploads/2023/07/Star-Party-scaled.jpg
ORGANIZER;CN="Sleeping Bear Dunes National Lakeshore":MAILTO:SLBE_programs@nps.gov
END:VEVENT
END:VCALENDAR