BEGIN:VCALENDAR
VERSION:2.0
PRODID:-//Glen Lake Chamber of Commerce - ECPv6.15.19//NONSGML v1.0//EN
CALSCALE:GREGORIAN
METHOD:PUBLISH
X-WR-CALNAME:Glen Lake Chamber of Commerce
X-ORIGINAL-URL:https://www.visitglenarbor.com
X-WR-CALDESC:Events for Glen Lake Chamber of Commerce
REFRESH-INTERVAL;VALUE=DURATION:PT1H
X-Robots-Tag:noindex
X-PUBLISHED-TTL:PT1H
BEGIN:VTIMEZONE
TZID:America/Detroit
BEGIN:DAYLIGHT
TZOFFSETFROM:-0500
TZOFFSETTO:-0400
TZNAME:EDT
DTSTART:20200308T070000
END:DAYLIGHT
BEGIN:STANDARD
TZOFFSETFROM:-0400
TZOFFSETTO:-0500
TZNAME:EST
DTSTART:20201101T060000
END:STANDARD
BEGIN:DAYLIGHT
TZOFFSETFROM:-0500
TZOFFSETTO:-0400
TZNAME:EDT
DTSTART:20210314T070000
END:DAYLIGHT
BEGIN:STANDARD
TZOFFSETFROM:-0400
TZOFFSETTO:-0500
TZNAME:EST
DTSTART:20211107T060000
END:STANDARD
BEGIN:DAYLIGHT
TZOFFSETFROM:-0500
TZOFFSETTO:-0400
TZNAME:EDT
DTSTART:20220313T070000
END:DAYLIGHT
BEGIN:STANDARD
TZOFFSETFROM:-0400
TZOFFSETTO:-0500
TZNAME:EST
DTSTART:20221106T060000
END:STANDARD
END:VTIMEZONE
BEGIN:VEVENT
DTSTART;TZID=America/Detroit:20210807T173000
DTEND;TZID=America/Detroit:20210807T190000
DTSTAMP:20260420T005403
CREATED:20210714T190135Z
LAST-MODIFIED:20210714T190135Z
UID:10003136-1628357400-1628362800@www.visitglenarbor.com
SUMMARY:Plein Air Weekend: Paint Out exhibit and sale
DESCRIPTION:The Glen Arbor Arts Center’s 12th annual Plein Air Weekend opens August 6 with the Quick Draw. Artists will fan out around Glen Arbor and create in a designated two-hour period of time work to this year’s theme: “Capturing Village Life: Images of Empire and Glen Arbor.” The public is welcome to watch the artists in action. \n\nThe weekend’s culminating event\, the Paint Out exhibit and sale\, is Saturday\, August 7. It features work by 70 artists who registered early to be included in this all-day painting event. The evening viewing and sale is 5:30 – 7 pm at the Glen Arbor Township Hall. More than 100 works of art will be exhibited and offered for sale on a first-come basis (at the sound of the gong at 5:45).  Margaret Tvedten\, artist and owner of Tvedten Fine Art gallery in Harbor Springs\, will judge and award cash prizes for the paintings including the Amy L. Clark-Carels $1\,000 first place prize. Entry to Saturday evening’s show and sale is ticketed. Tickets will be $10 and and available at the door. Children under 12 free. \nThe Plein Air Weekend is a major fundraising event for the Glen Arbor Art Center. Proceeds from the sale of the paintings benefit the participating artist and the GAAC. For more information go to GlenArborArt.org. \nMany thanks to our sponsors: Northwoods Hardware Home & Garden\, Sleeping Bear Gallery\, Becky Thatcher\, Crystal River Outfitters\, Leelanau Vacation Rentals\, and Serbin Real Estate.
URL:https://www.visitglenarbor.com/event/plein-air-weekend-paint-out-exhibit-and-sale/
LOCATION:Glen Arbor Township Hall
CATEGORIES:Art/Gallery/Exhibit,Kids + Family Friendly,Shopping
ATTACH;FMTTYPE=image/jpeg:https://www.visitglenarbor.com/wp-content/uploads/2020/04/GAAC_Paint-Out-Cherrie-Stege-plein-air-sale-artists-reception.jpg
ORGANIZER;CN="Glen Arbor Arts Center":MAILTO:director@glenarborart.org
END:VEVENT
END:VCALENDAR