BEGIN:VCALENDAR
VERSION:2.0
PRODID:-//Glen Lake Chamber of Commerce - ECPv6.15.19//NONSGML v1.0//EN
CALSCALE:GREGORIAN
METHOD:PUBLISH
X-ORIGINAL-URL:https://www.visitglenarbor.com
X-WR-CALDESC:Events for Glen Lake Chamber of Commerce
REFRESH-INTERVAL;VALUE=DURATION:PT1H
X-Robots-Tag:noindex
X-PUBLISHED-TTL:PT1H
BEGIN:VTIMEZONE
TZID:America/Detroit
BEGIN:DAYLIGHT
TZOFFSETFROM:-0500
TZOFFSETTO:-0400
TZNAME:EDT
DTSTART:20200308T070000
END:DAYLIGHT
BEGIN:STANDARD
TZOFFSETFROM:-0400
TZOFFSETTO:-0500
TZNAME:EST
DTSTART:20201101T060000
END:STANDARD
BEGIN:DAYLIGHT
TZOFFSETFROM:-0500
TZOFFSETTO:-0400
TZNAME:EDT
DTSTART:20210314T070000
END:DAYLIGHT
BEGIN:STANDARD
TZOFFSETFROM:-0400
TZOFFSETTO:-0500
TZNAME:EST
DTSTART:20211107T060000
END:STANDARD
BEGIN:DAYLIGHT
TZOFFSETFROM:-0500
TZOFFSETTO:-0400
TZNAME:EDT
DTSTART:20220313T070000
END:DAYLIGHT
BEGIN:STANDARD
TZOFFSETFROM:-0400
TZOFFSETTO:-0500
TZNAME:EST
DTSTART:20221106T060000
END:STANDARD
END:VTIMEZONE
BEGIN:VEVENT
DTSTART;TZID=America/Detroit:20210806T170000
DTEND;TZID=America/Detroit:20210806T183000
DTSTAMP:20260419T212422
CREATED:20210714T185703Z
LAST-MODIFIED:20210714T190327Z
UID:10003134-1628269200-1628274600@www.visitglenarbor.com
SUMMARY:Plein Air Weekend: Quick Draw
DESCRIPTION:The Glen Arbor Arts Center’s 12th annual Plein Air Weekend opens August 6 with the Quick Draw. Artists will fan out around Glen Arbor and create in a designated two-hour period of time work to this year’s theme: “Capturing Village Life: Images of Empire and Glen Arbor.” The public is welcome to watch the artists in action. \nFinished Quick Draw paintings will be on view and for sale at the Glen Arbor Town Hall\, 6394 W. Western Avenue/M-22\, on Friday\, August 6th\, 2021 from 5 – 6:30pm. Glen Arbor artist Hank Feeley will judge the paintings. The event is free and open to the public. \nFor more information about all of the Glen Arbor Arts Center’s Plein Air Weekend events\, go to GlenArborArt.org. Proceeds from the sale benefit the participating artist and the GAAC. \nMany thanks to our sponsors: Northwoods Hardware Home & Garden\, Sleeping Bear Gallery\, Becky Thatcher\, Crystal River Outfitters\, Leelanau Vacation Rentals\, and Serbin Real Estate
URL:https://www.visitglenarbor.com/event/plein-air-weekend-quick-draw/
LOCATION:Glen Arbor Township Hall
CATEGORIES:Art/Gallery/Exhibit,Shopping
ATTACH;FMTTYPE=image/jpeg:https://www.visitglenarbor.com/wp-content/uploads/2020/04/GAAC_Quick-Draw-paint-palette-plein-air-weekend.jpg
ORGANIZER;CN="Glen Arbor Arts Center":MAILTO:director@glenarborart.org
END:VEVENT
END:VCALENDAR