BEGIN:VCALENDAR
VERSION:2.0
PRODID:-//Glen Lake Chamber of Commerce - ECPv6.15.20//NONSGML v1.0//EN
CALSCALE:GREGORIAN
METHOD:PUBLISH
X-ORIGINAL-URL:https://www.visitglenarbor.com
X-WR-CALDESC:Events for Glen Lake Chamber of Commerce
REFRESH-INTERVAL;VALUE=DURATION:PT1H
X-Robots-Tag:noindex
X-PUBLISHED-TTL:PT1H
BEGIN:VTIMEZONE
TZID:America/Detroit
BEGIN:DAYLIGHT
TZOFFSETFROM:-0500
TZOFFSETTO:-0400
TZNAME:EDT
DTSTART:20170312T070000
END:DAYLIGHT
BEGIN:STANDARD
TZOFFSETFROM:-0400
TZOFFSETTO:-0500
TZNAME:EST
DTSTART:20171105T060000
END:STANDARD
BEGIN:DAYLIGHT
TZOFFSETFROM:-0500
TZOFFSETTO:-0400
TZNAME:EDT
DTSTART:20180311T070000
END:DAYLIGHT
BEGIN:STANDARD
TZOFFSETFROM:-0400
TZOFFSETTO:-0500
TZNAME:EST
DTSTART:20181104T060000
END:STANDARD
BEGIN:DAYLIGHT
TZOFFSETFROM:-0500
TZOFFSETTO:-0400
TZNAME:EDT
DTSTART:20190310T070000
END:DAYLIGHT
BEGIN:STANDARD
TZOFFSETFROM:-0400
TZOFFSETTO:-0500
TZNAME:EST
DTSTART:20191103T060000
END:STANDARD
END:VTIMEZONE
BEGIN:VEVENT
DTSTART;TZID=America/Detroit:20180704T100000
DTEND;TZID=America/Detroit:20180704T110000
DTSTAMP:20260426T001236
CREATED:20180607T001933Z
LAST-MODIFIED:20200309T054851Z
UID:10002757-1530698400-1530702000@www.visitglenarbor.com
SUMMARY:Flag Raising Ceremony July 4 2018
DESCRIPTION:“Remember\, Appreciate\, Celebrate.” \n  \nCelebrate the founding of our nation in a patriotic\, joyous ceremony with community members of all ages. The Flag Raising will be performed by VFW Post 2780 and American Legion Post 33 followed by an invocation by Pastor Dockery. Jerry Pearson will share thoughtful comments about the Declaration of Independence\, titled Remember\, Appreciate\, and Celebrate. A singalong of well-loved and familiar patriotic songs will be led by the Summer Singers. \nCookies and lemonade immediately following. Flags will be distributed to all children. \nThe Flag Raising Ceremony begins at 10 am\, July 4th\, at the Old Settlers Picnic Grounds\, located on the south eastern shore of Glen Lake near the corner of Dunn’s Farm Rd. (CR 675) and Burdickville Rd (CR 616). Please bring your own lawn chairs. Event sponsored by Glen Lake Woman’s Club. \n\nOrganized by the Glen Lake Woman’s Club. For more information contact Pat Smith at pls45@centurytel.net or 231-334-3301 \n\n>> 4th of July Parade Info
URL:https://www.visitglenarbor.com/event/flag-raising-ceremony-july-4-2018/
LOCATION:Old Settler’s Park\, South Dunns Farm Road (County Road 675)\, Empire Township\, MI\, United States
CATEGORIES:Community Events,Kids + Family Friendly,Recreation
ATTACH;FMTTYPE=image/jpeg:https://www.visitglenarbor.com/wp-content/uploads/2020/03/4th-of-July_Glen-Arbor_old-settlers-Vic-Theis_Kathy-Baad.jpg
END:VEVENT
END:VCALENDAR