BEGIN:VCALENDAR
VERSION:2.0
PRODID:-//Glen Lake Chamber of Commerce - ECPv6.15.19//NONSGML v1.0//EN
CALSCALE:GREGORIAN
METHOD:PUBLISH
X-WR-CALNAME:Glen Lake Chamber of Commerce
X-ORIGINAL-URL:https://www.visitglenarbor.com
X-WR-CALDESC:Events for Glen Lake Chamber of Commerce
REFRESH-INTERVAL;VALUE=DURATION:PT1H
X-Robots-Tag:noindex
X-PUBLISHED-TTL:PT1H
BEGIN:VTIMEZONE
TZID:America/Detroit
BEGIN:DAYLIGHT
TZOFFSETFROM:-0500
TZOFFSETTO:-0400
TZNAME:EDT
DTSTART:20230312T070000
END:DAYLIGHT
BEGIN:STANDARD
TZOFFSETFROM:-0400
TZOFFSETTO:-0500
TZNAME:EST
DTSTART:20231105T060000
END:STANDARD
BEGIN:DAYLIGHT
TZOFFSETFROM:-0500
TZOFFSETTO:-0400
TZNAME:EDT
DTSTART:20240310T070000
END:DAYLIGHT
BEGIN:STANDARD
TZOFFSETFROM:-0400
TZOFFSETTO:-0500
TZNAME:EST
DTSTART:20241103T060000
END:STANDARD
BEGIN:DAYLIGHT
TZOFFSETFROM:-0500
TZOFFSETTO:-0400
TZNAME:EDT
DTSTART:20250309T070000
END:DAYLIGHT
BEGIN:STANDARD
TZOFFSETFROM:-0400
TZOFFSETTO:-0500
TZNAME:EST
DTSTART:20251102T060000
END:STANDARD
END:VTIMEZONE
BEGIN:VEVENT
DTSTART;TZID=America/Detroit:20240829T150000
DTEND;TZID=America/Detroit:20240829T170000
DTSTAMP:20260420T125018
CREATED:20240226T214914Z
LAST-MODIFIED:20240226T214914Z
UID:10004185-1724943600-1724950800@www.visitglenarbor.com
SUMMARY:Live Music at the M22 Wine Patio with Jesse Jefferson
DESCRIPTION:Join us out on the M22 Wine Patio for live music featuring Jesse Jefferson Thursday\, August 29th\, from 3-5pm! \nJesse’s sound is a combination of gritty soul and Acoustic accompaniment bringing a unique twist to a wide range of popular songs. Jesse’s repertoire is built up with an acoustic variety including Rock\, pop\, hip-hop\, country\, oldies\, and popular classics. \ninstagram: @jessejefferson49 \nFacebook:Jessejeffersonmusic \nGrab a glass or flight of M22 Wine and enjoy an afternoon in Glen Arbor!
URL:https://www.visitglenarbor.com/event/live-music-at-the-m22-wine-patio-with-jesse-jefferson/
LOCATION:M22 Outdoor Wine Patio\, 6298 W. Western Ave\, Glen Arbor\, MI\, 49636\, United States
CATEGORIES:Kids + Family Friendly,Music
ATTACH;FMTTYPE=image/jpeg:https://www.visitglenarbor.com/wp-content/uploads/2024/02/Jesse-Jefferson-2.jpg
END:VEVENT
END:VCALENDAR