BEGIN:VCALENDAR
VERSION:2.0
PRODID:-//Glen Lake Chamber of Commerce - ECPv6.15.19//NONSGML v1.0//EN
CALSCALE:GREGORIAN
METHOD:PUBLISH
X-WR-CALNAME:Glen Lake Chamber of Commerce
X-ORIGINAL-URL:https://www.visitglenarbor.com
X-WR-CALDESC:Events for Glen Lake Chamber of Commerce
REFRESH-INTERVAL;VALUE=DURATION:PT1H
X-Robots-Tag:noindex
X-PUBLISHED-TTL:PT1H
BEGIN:VTIMEZONE
TZID:America/Detroit
BEGIN:DAYLIGHT
TZOFFSETFROM:-0500
TZOFFSETTO:-0400
TZNAME:EDT
DTSTART:20220313T070000
END:DAYLIGHT
BEGIN:STANDARD
TZOFFSETFROM:-0400
TZOFFSETTO:-0500
TZNAME:EST
DTSTART:20221106T060000
END:STANDARD
BEGIN:DAYLIGHT
TZOFFSETFROM:-0500
TZOFFSETTO:-0400
TZNAME:EDT
DTSTART:20230312T070000
END:DAYLIGHT
BEGIN:STANDARD
TZOFFSETFROM:-0400
TZOFFSETTO:-0500
TZNAME:EST
DTSTART:20231105T060000
END:STANDARD
BEGIN:DAYLIGHT
TZOFFSETFROM:-0500
TZOFFSETTO:-0400
TZNAME:EDT
DTSTART:20240310T070000
END:DAYLIGHT
BEGIN:STANDARD
TZOFFSETFROM:-0400
TZOFFSETTO:-0500
TZNAME:EST
DTSTART:20241103T060000
END:STANDARD
END:VTIMEZONE
BEGIN:VEVENT
DTSTART;TZID=America/Detroit:20231011T170000
DTEND;TZID=America/Detroit:20231011T190000
DTSTAMP:20260424T053113
CREATED:20230926T153533Z
LAST-MODIFIED:20231003T141458Z
UID:10005272-1697043600-1697050800@www.visitglenarbor.com
SUMMARY:Chamber Connect: Annual Meeting and Board Elections
DESCRIPTION:Members of local businesses and organizations are invited to connect with the Glen Lake Chamber on Wednesday\, October 11th\, 5-7pm\, graciously hosted at Broomstack Kitchen & Taphouse. This Chamber Connect will include a social hour from 5-5:30pm (cash bar)\, with the annual meeting + Board elections from 5:30-6pm\, followed by dinner from 6-7pm. A taco bar will be offered for $20 a person (includes tax + gratuity). Please RSVP by Monday Oct. 9th and plan on joining us! \nOpen to Chamber and Non-Chamber members. Free to attend.  Already a member? You’re encouraged to attend and invite a non-member\, neighbor\, friend\, or colleague. If you’re interested in becoming a board member or officer in the future\, learn more here\, and please contact us. We’d love to hear from you. \n \nLeft to Right: Rebecca Benedict (director)\, Kaitlyn Springsdorf (director)\, Nancy Miller (director)\, Stephen Brotschul (co-president)\, Lizzie Gray (director)\, TJ Shimek (treasurer)\, Brooke Hazael-Massieux (director)\, Darci Ricker (co-president)\, Raquel Jackson (marketing director)\, Mara Miller (secretary)
URL:https://www.visitglenarbor.com/event/chamber-connect-annual-meeting-board-elections-2023/
LOCATION:Broomstack Kitchen & Taphouse\, 172 W Burdickville Rd\, Maple City\, MI\, 49664
CATEGORIES:Chamber Events
ATTACH;FMTTYPE=image/webp:https://www.visitglenarbor.com/wp-content/uploads/2023/09/taco-bar-up-close-stock-photo-e1695742525219.webp
END:VEVENT
END:VCALENDAR