BEGIN:VCALENDAR
VERSION:2.0
PRODID:-//Glen Lake Chamber of Commerce - ECPv6.15.20//NONSGML v1.0//EN
CALSCALE:GREGORIAN
METHOD:PUBLISH
X-ORIGINAL-URL:https://www.visitglenarbor.com
X-WR-CALDESC:Events for Glen Lake Chamber of Commerce
REFRESH-INTERVAL;VALUE=DURATION:PT1H
X-Robots-Tag:noindex
X-PUBLISHED-TTL:PT1H
BEGIN:VTIMEZONE
TZID:America/Detroit
BEGIN:DAYLIGHT
TZOFFSETFROM:-0500
TZOFFSETTO:-0400
TZNAME:EDT
DTSTART:20170312T070000
END:DAYLIGHT
BEGIN:STANDARD
TZOFFSETFROM:-0400
TZOFFSETTO:-0500
TZNAME:EST
DTSTART:20171105T060000
END:STANDARD
BEGIN:DAYLIGHT
TZOFFSETFROM:-0500
TZOFFSETTO:-0400
TZNAME:EDT
DTSTART:20180311T070000
END:DAYLIGHT
BEGIN:STANDARD
TZOFFSETFROM:-0400
TZOFFSETTO:-0500
TZNAME:EST
DTSTART:20181104T060000
END:STANDARD
BEGIN:DAYLIGHT
TZOFFSETFROM:-0500
TZOFFSETTO:-0400
TZNAME:EDT
DTSTART:20190310T070000
END:DAYLIGHT
BEGIN:STANDARD
TZOFFSETFROM:-0400
TZOFFSETTO:-0500
TZNAME:EST
DTSTART:20191103T060000
END:STANDARD
END:VTIMEZONE
BEGIN:VEVENT
DTSTART;TZID=America/Detroit:20180612T180000
DTEND;TZID=America/Detroit:20180612T193000
DTSTAMP:20260425T225824
CREATED:20180606T203241Z
LAST-MODIFIED:20200309T054850Z
UID:10004255-1528826400-1528831800@www.visitglenarbor.com
SUMMARY:Glen Lake Chamber Member Meeting in June
DESCRIPTION:Please join us for a Glen Lake Chamber Member meeting\, a meeting and a “toast to the season\,” held on \nTuesday\, June 12th • 6pm \nHosted at Glen Arbor Wines\, located on South Lake Street in Glen Arbor\, MI \nAll members are welcome to attend. Bring a colleague or friend! 
URL:https://www.visitglenarbor.com/event/glen-lake-chamber-member-meeting-in-june/
LOCATION:MI\, United States
CATEGORIES:Chamber Events,Wine/Beer or Tasting Event
ATTACH;FMTTYPE=image/jpeg:https://www.visitglenarbor.com/wp-content/uploads/2020/03/Glen-Arbor-Wines_tasting-room-flowery-vintage-exterior.jpg
END:VEVENT
END:VCALENDAR