BEGIN:VCALENDAR
VERSION:2.0
PRODID:-//Glen Lake Chamber of Commerce - ECPv6.15.20//NONSGML v1.0//EN
CALSCALE:GREGORIAN
METHOD:PUBLISH
X-ORIGINAL-URL:https://www.visitglenarbor.com
X-WR-CALDESC:Events for Glen Lake Chamber of Commerce
REFRESH-INTERVAL;VALUE=DURATION:PT1H
X-Robots-Tag:noindex
X-PUBLISHED-TTL:PT1H
BEGIN:VTIMEZONE
TZID:America/Detroit
BEGIN:DAYLIGHT
TZOFFSETFROM:-0500
TZOFFSETTO:-0400
TZNAME:EDT
DTSTART:20140309T070000
END:DAYLIGHT
BEGIN:STANDARD
TZOFFSETFROM:-0400
TZOFFSETTO:-0500
TZNAME:EST
DTSTART:20141102T060000
END:STANDARD
BEGIN:DAYLIGHT
TZOFFSETFROM:-0500
TZOFFSETTO:-0400
TZNAME:EDT
DTSTART:20150308T070000
END:DAYLIGHT
BEGIN:STANDARD
TZOFFSETFROM:-0400
TZOFFSETTO:-0500
TZNAME:EST
DTSTART:20151101T060000
END:STANDARD
BEGIN:DAYLIGHT
TZOFFSETFROM:-0500
TZOFFSETTO:-0400
TZNAME:EDT
DTSTART:20160313T070000
END:DAYLIGHT
BEGIN:STANDARD
TZOFFSETFROM:-0400
TZOFFSETTO:-0500
TZNAME:EST
DTSTART:20161106T060000
END:STANDARD
END:VTIMEZONE
BEGIN:VEVENT
DTSTART;TZID=America/Detroit:20150711T160000
DTEND;TZID=America/Detroit:20150711T183000
DTSTAMP:20260425T233654
CREATED:20150709T185058Z
LAST-MODIFIED:20150709T185058Z
UID:10002411-1436630400-1436639400@www.visitglenarbor.com
SUMMARY:Anderson's Market Summer Tasting Series: Banfi Wines
DESCRIPTION:Join us throughout the summer for wine\, beer & spirit tastings from local to international wineries\, breweries and distilleries! Our tasting series is a chance to sample some new and delightful flavors in a laid back environment\, and learn more about the flavor profiles and pairing suggestions for every beverage you try. \nSummer Tasting Series Schedule: \nFriday\, July 10 & 11: Banfi Wines – 3-6pm Friday\, 4-6:30pm Saturday \nFriday\, July 17: Short’s Brewing Company\, 4-7pm \nFriday\, July 24: Founder’s Brewing Company\, 3-6pm \nMore summer dates TBA \nEvents often run a little after their end times…so as long as there are those willing to sip\, we are willing to pour a bit longer!
URL:https://www.visitglenarbor.com/event/andersons-market-summer-tasting-series-banfi-wines-2/
LOCATION:Anderson’s Market
CATEGORIES:Local Business Event
ATTACH;FMTTYPE=:
END:VEVENT
END:VCALENDAR