BEGIN:VCALENDAR
VERSION:2.0
PRODID:-//Glen Lake Chamber of Commerce - ECPv6.15.19//NONSGML v1.0//EN
CALSCALE:GREGORIAN
METHOD:PUBLISH
X-ORIGINAL-URL:https://www.visitglenarbor.com
X-WR-CALDESC:Events for Glen Lake Chamber of Commerce
REFRESH-INTERVAL;VALUE=DURATION:PT1H
X-Robots-Tag:noindex
X-PUBLISHED-TTL:PT1H
BEGIN:VTIMEZONE
TZID:America/Detroit
BEGIN:DAYLIGHT
TZOFFSETFROM:-0500
TZOFFSETTO:-0400
TZNAME:EDT
DTSTART:20220313T070000
END:DAYLIGHT
BEGIN:STANDARD
TZOFFSETFROM:-0400
TZOFFSETTO:-0500
TZNAME:EST
DTSTART:20221106T060000
END:STANDARD
BEGIN:DAYLIGHT
TZOFFSETFROM:-0500
TZOFFSETTO:-0400
TZNAME:EDT
DTSTART:20230312T070000
END:DAYLIGHT
BEGIN:STANDARD
TZOFFSETFROM:-0400
TZOFFSETTO:-0500
TZNAME:EST
DTSTART:20231105T060000
END:STANDARD
BEGIN:DAYLIGHT
TZOFFSETFROM:-0500
TZOFFSETTO:-0400
TZNAME:EDT
DTSTART:20240310T070000
END:DAYLIGHT
BEGIN:STANDARD
TZOFFSETFROM:-0400
TZOFFSETTO:-0500
TZNAME:EST
DTSTART:20241103T060000
END:STANDARD
END:VTIMEZONE
BEGIN:VEVENT
DTSTART;TZID=America/Detroit:20230804T170000
DTEND;TZID=America/Detroit:20230805T190000
DTSTAMP:20260422T202011
CREATED:20230720T030620Z
LAST-MODIFIED:20230720T144651Z
UID:10005225-1691168400-1691262000@www.visitglenarbor.com
SUMMARY:Plein Air Weekend
DESCRIPTION:Painters from across Michigan and the Midwest will converge on Glen Arbor August 4 and 5 for the Glen Arbor Arts Center’s 14th Plein Air Weekend. \nThis year the event will be highlighted by two outdoor painting competitions and exhibitions of original work. The Quick Draw is Friday\, August 4. This year’s theme is BRANCHING OUT: Honoring the Trees of the Glen Arbor Area. The public is welcome to watch the artists in action. Quick Draw paintings will be on view and for sale at the Glen Arbor Town Hall\, 6394 W. Western Avenue/M-22\, on Friday\, August 4\, 5 – 6:30 pm. Glen Arbor Arts Center board member and local studio artist Mark Mehaffey will be judging the Quick Draw. \nThe Paint Out exhibit and sale is Saturday\, August 5. It features work by over 70 artists who registered early to be included in this all-day painting event. The evening viewing and sale is 5:30 – 7:00 pm at the Glen Arbor Town Hall. The works of art will be exhibited and offered for sale on a first-come basis. Conor Fagan\, a visual arts instructor at Interlochen\, will be judging the Paint Out and awarding cash prizes for the paintings including the Amy L. Clark-Carels $1\,000 first place prize. Entry to Saturday evening’s show and sale is ticketed. Tickets will be $10 and and available at the door. Children under 12 are free. \nThe Plein Air Weekend is a major fundraising event for the Glen Arbor Art Center. Proceeds from the sale of the paintings benefit the participating artists and the GAAC. For more information go to GlenArborArt.org
URL:https://www.visitglenarbor.com/event/plein-air-weekend-3/
LOCATION:Glen Arbor Township Hall
CATEGORIES:Art/Gallery/Exhibit
ATTACH;FMTTYPE=image/jpeg:https://www.visitglenarbor.com/wp-content/uploads/2023/07/PAW2023_B_Webslide.jpg
ORGANIZER;CN="Glen Arbor Arts Center":MAILTO:director@glenarborart.org
END:VEVENT
END:VCALENDAR