BEGIN:VCALENDAR
VERSION:2.0
PRODID:-//Glen Lake Chamber of Commerce - ECPv6.15.19//NONSGML v1.0//EN
CALSCALE:GREGORIAN
METHOD:PUBLISH
X-WR-CALNAME:Glen Lake Chamber of Commerce
X-ORIGINAL-URL:https://www.visitglenarbor.com
X-WR-CALDESC:Events for Glen Lake Chamber of Commerce
REFRESH-INTERVAL;VALUE=DURATION:PT1H
X-Robots-Tag:noindex
X-PUBLISHED-TTL:PT1H
BEGIN:VTIMEZONE
TZID:America/Detroit
BEGIN:DAYLIGHT
TZOFFSETFROM:-0500
TZOFFSETTO:-0400
TZNAME:EDT
DTSTART:20190310T070000
END:DAYLIGHT
BEGIN:STANDARD
TZOFFSETFROM:-0400
TZOFFSETTO:-0500
TZNAME:EST
DTSTART:20191103T060000
END:STANDARD
BEGIN:DAYLIGHT
TZOFFSETFROM:-0500
TZOFFSETTO:-0400
TZNAME:EDT
DTSTART:20200308T070000
END:DAYLIGHT
BEGIN:STANDARD
TZOFFSETFROM:-0400
TZOFFSETTO:-0500
TZNAME:EST
DTSTART:20201101T060000
END:STANDARD
BEGIN:DAYLIGHT
TZOFFSETFROM:-0500
TZOFFSETTO:-0400
TZNAME:EDT
DTSTART:20210314T070000
END:DAYLIGHT
BEGIN:STANDARD
TZOFFSETFROM:-0400
TZOFFSETTO:-0500
TZNAME:EST
DTSTART:20211107T060000
END:STANDARD
END:VTIMEZONE
BEGIN:VEVENT
DTSTART;TZID=America/Detroit:20200701T190000
DTEND;TZID=America/Detroit:20200701T200000
DTSTAMP:20260423T201244
CREATED:20200409T193409Z
LAST-MODIFIED:20200513T124755Z
UID:10004261-1593630000-1593633600@www.visitglenarbor.com
SUMMARY:CANCELLED: NMC Concert Band performs Patriotic Music
DESCRIPTION:Due to the corona virus and social distancing restrictions\, this event has been cancelled. \nManitou Music kicks off another season of outdoor concerts on Wednesday\, July 1 with an evening of patriotic music performed by the NMC Concert Band. This free\, family-friendly concert will be held at the Old School House lawn\, 6363 W. Western Ave.\, Glen Arbor\, at 7 pm. Bring a lawn chair and arrive early to find a seat.
URL:https://www.visitglenarbor.com/event/nmc-concert-band-performs-patriotic-music/
LOCATION:Old School Lawn\, Glen Arbor\, MI\, 49684\, United States
CATEGORIES:Kids + Family Friendly,Music
ATTACH;FMTTYPE=image/jpeg:https://www.visitglenarbor.com/wp-content/uploads/2020/03/2019-MMF-NMC-Concert-band_2.jpeg
ORGANIZER;CN="Glen Arbor Arts Center":MAILTO:director@glenarborart.org
END:VEVENT
BEGIN:VEVENT
DTSTART;TZID=America/Detroit:20200704T120000
DTEND;TZID=America/Detroit:20200704T140000
DTSTAMP:20260423T201244
CREATED:20200121T001623Z
LAST-MODIFIED:20200521T130637Z
UID:10004237-1593864000-1593871200@www.visitglenarbor.com
SUMMARY:4th of July Parade - CANCELLED
DESCRIPTION:Due to the corona virus and social distancing restrictions\, this event is cancelled. Look for a virtual parade on social media.\n\n4th of July Parade in Glen Arbor\nHead on down to Glen Arbor and shop/dine – most places are open for at least half the day for visitors. Grab a spot and enjoy the big 4th of July Parade downtown Glen Arbor\, beginning at 12pm. The parade leaves from Glen Haven making its way through to the North/East end of town. This year’s parade Marshal is _TBD_. \nParticipate…\nEveryone is welcome and “anything goes!” \nWant to participate in the parade? Cyclists (kids and families) and Walkers can join in the parade starting at the Christian Science Church. Cars and Floats participating in the parade\, please meet at Glen Haven to line up 45 min prior to the parade start time. The parade begins at Noon.  \nWant a front row seat? Volunteer! We always need as many parade volunteers as possible. Bring your own broom to help walk with the parade and sweep the candy back towards the crowd\, to keep kids off the street and safe. \nEnjoy the area…\nMost shops and restaurants are open part of the day for you! Please make sure to come to town early to park and enjoy shopping the lovely retailers and art galleries. Whether you’ll end up back where you’re staying or head back home\, there’s a beach or lake or trail for you to enjoy some outdoor recreation the remainder of the holiday. \nIf you’re a boater\, you can join in on the boat parade 4th of July evening on the Glen Lake beginning at 4pm in front of the Yacht Club. \nMore to celebrate on the 4th…\n>>Flag Raising Ceremony | Old Settlers Park @ 10am\n>>Boat Parade | On the Glen Lakes @4pm\n>>Pancake Breakfast | Sunday\, July 5th 8am -12pm at the Town Hall\n\nParade photos courtesy of Raquel Jackson \n#4thofJuly #glenarbor #parade #thingstodo #summertime #glenlake \n \n   \n  
URL:https://www.visitglenarbor.com/event/4th-of-july-parade-2020-2/
LOCATION:Downtown Glen Arbor\, Glen Arbor\, MI\, 49636\, United States
CATEGORIES:Community Events,Kids + Family Friendly,Recreation
ATTACH;FMTTYPE=image/jpeg:https://www.visitglenarbor.com/wp-content/uploads/2020/03/IMG_7454-scaled-e1579547746362.jpg
END:VEVENT
BEGIN:VEVENT
DTSTART;TZID=America/Detroit:20200705T080000
DTEND;TZID=America/Detroit:20200705T120000
DTSTAMP:20260423T201244
CREATED:20200219T204622Z
LAST-MODIFIED:20200630T163322Z
UID:10004252-1593936000-1593950400@www.visitglenarbor.com
SUMMARY:CANCELLED: Pancake Breakfast
DESCRIPTION:Sorry\, this event has been cancelled.\n\nThe Glen Lake Fire and Rescue Association will be hosting a pancake breakfast! Proceeds will go to the Glen Arbor Fire & Rescue Association to assist the Glen Lake Fire Department with funding for training and equipment purchases. Come on out to enjoy a great breakfast with friends and family. Thank you for your support!  \nWhen: Sunday July 5th\, 2020 \n8am – 12:00pm \nWhere: Glen Arbor Township Hall\, 6394 W. Western Avenue\, Glen Arbor\, MI \nCost: $8.00/person\, Children 5 and under free \nThe Glen Lake Fire and Rescue Association is a non-profit 501 (c)(3) corporation.
URL:https://www.visitglenarbor.com/event/pancake-breakfast-glfd-2020/
LOCATION:Glen Arbor Township Hall
CATEGORIES:Community Events
ATTACH;FMTTYPE=:
END:VEVENT
END:VCALENDAR