BEGIN:VCALENDAR
VERSION:2.0
PRODID:-//Glen Lake Chamber of Commerce - ECPv6.15.19//NONSGML v1.0//EN
CALSCALE:GREGORIAN
METHOD:PUBLISH
X-ORIGINAL-URL:https://www.visitglenarbor.com
X-WR-CALDESC:Events for Glen Lake Chamber of Commerce
REFRESH-INTERVAL;VALUE=DURATION:PT1H
X-Robots-Tag:noindex
X-PUBLISHED-TTL:PT1H
BEGIN:VTIMEZONE
TZID:America/Detroit
BEGIN:DAYLIGHT
TZOFFSETFROM:-0500
TZOFFSETTO:-0400
TZNAME:EDT
DTSTART:20250309T070000
END:DAYLIGHT
BEGIN:STANDARD
TZOFFSETFROM:-0400
TZOFFSETTO:-0500
TZNAME:EST
DTSTART:20251102T060000
END:STANDARD
BEGIN:DAYLIGHT
TZOFFSETFROM:-0500
TZOFFSETTO:-0400
TZNAME:EDT
DTSTART:20260308T070000
END:DAYLIGHT
BEGIN:STANDARD
TZOFFSETFROM:-0400
TZOFFSETTO:-0500
TZNAME:EST
DTSTART:20261101T060000
END:STANDARD
BEGIN:DAYLIGHT
TZOFFSETFROM:-0500
TZOFFSETTO:-0400
TZNAME:EDT
DTSTART:20270314T070000
END:DAYLIGHT
BEGIN:STANDARD
TZOFFSETFROM:-0400
TZOFFSETTO:-0500
TZNAME:EST
DTSTART:20271107T060000
END:STANDARD
END:VTIMEZONE
BEGIN:VEVENT
DTSTART;TZID=America/Detroit:20260102T173000
DTEND;TZID=America/Detroit:20260102T190000
DTSTAMP:20260422T184653
CREATED:20251217T191620Z
LAST-MODIFIED:20251217T191735Z
UID:10008550-1767375000-1767380400@www.visitglenarbor.com
SUMMARY:Blotter Bingo 2026!
DESCRIPTION:Join us in launching a new season of Blotter Bingo at 5:30 p.m. on Friday\, January 2! Get ready for laughs as we take you through years of holiday mishaps for the pigs\, cows\, dogs\, cats and people of Leelanau County. Candy prizes! Yum! Blotter Bingo will happen Fridays at 5:30 through April unless otherwise announced.
URL:https://www.visitglenarbor.com/event/blotter-bingo-2026/
LOCATION:Glen Arbor Wines
CATEGORIES:Local Business Event
ATTACH;FMTTYPE=image/jpeg:https://www.visitglenarbor.com/wp-content/uploads/2025/12/blotteruse.jpg
ORGANIZER;CN="Glen Arbor Wines":MAILTO:Glenarborwines@gmail.com
END:VEVENT
BEGIN:VEVENT
DTSTART;TZID=America/Detroit:20260104T170000
DTEND;TZID=America/Detroit:20260104T190000
DTSTAMP:20260422T184653
CREATED:20251014T151945Z
LAST-MODIFIED:20251014T151945Z
UID:10008442-1767546000-1767553200@www.visitglenarbor.com
SUMMARY:Trivia Night!
DESCRIPTION:Think you’ve got what it takes to be the trivia champ? Join us every Sunday evening at Cherry Public House for a brain-boosting good time with Trivia Night\, hosted by the legendary Quizmaster Whoot! 🍻 \n🧠 Test your knowledge across pop culture\, history\, music\, and more\n🍔 Enjoy delicious food and drink specials all evening\n🏆 Prizes for top teams – bring your A-game! \nGrab your smartest friends\, snag a table\, and settle in for two hours of laughs\, surprises\, and fierce-but-friendly competition. Walk-ins welcome — fun guaranteed!
URL:https://www.visitglenarbor.com/event/trivia-night-3/2026-01-04/
LOCATION:Cherry Public House\, 6026 South Lake Street\, Glen Arbor\, MI\, 49636
CATEGORIES:Community Events,Food/Dining Event,Kids + Family Friendly
ATTACH;FMTTYPE=image/jpeg:https://www.visitglenarbor.com/wp-content/uploads/2025/10/trivia_night_0.jpg
ORGANIZER;CN="Cherry Republic":MAILTO:experience@cherryrepublic.com
END:VEVENT
BEGIN:VEVENT
DTSTART;TZID=America/Detroit:20260105T090000
DTEND;TZID=America/Detroit:20260423T150000
DTSTAMP:20260422T184653
CREATED:20260211T163242Z
LAST-MODIFIED:20260211T163242Z
UID:10008544-1767603600-1776956400@www.visitglenarbor.com
SUMMARY:Lobby Gallery: Small Accomplishments by Harvey Gordon
DESCRIPTION:The Glen Arbor Arts Center welcomes the new year with a small exhibition\, Small\nAccomplishments by Leelanau County artist Harvey Gordon. This exhibition of acrylic\npaintings is in the GAAC’s Lobby Gallery from January 5 – April 23\, 2026.\n“Ever since I started looking at art\, I’ve had a special affinity for small work; work that\nyou could get up close to and see the whole thing\, and how it was done\,” Gordon said.\nThe acrylic paintings in Small Accomplishments offer an intimate view of the artist’s\nprocess and technique — his signature practice of layering one transparent color on top\nof another\, which he applies to a range of subjects: beach walkers\, the American flag\nflying in front of a business\, Sleeping Bear Bay.\nSmall Accomplishments is on view in the Lobby Gallery during GAAC business hours;\nor may be viewed online: GlenArborArt.org / Exhibits
URL:https://www.visitglenarbor.com/event/lobby-gallery-small-accomplishments-by-harvey-gordon/
LOCATION:Glen Arbor Arts Center\, 6031 S. Lake Street\, Glen Arbor\, MI\, 49636
CATEGORIES:Art/Gallery/Exhibit
ATTACH;FMTTYPE=image/jpeg:https://www.visitglenarbor.com/wp-content/uploads/2025/12/Gordon_Harvey_selfportrait.jpg
END:VEVENT
BEGIN:VEVENT
DTSTART;TZID=America/Detroit:20260109T080000
DTEND;TZID=America/Detroit:20260109T170000
DTSTAMP:20260422T184653
CREATED:20260211T163230Z
LAST-MODIFIED:20260211T163230Z
UID:10009229-1767945600-1767978000@www.visitglenarbor.com
SUMMARY:INteriors
DESCRIPTION:The Glen Arbor Arts Center looks inward with its first exhibit of 2026.  INteriors\, an exploration of inner spaces\, both real and imagined\, spaces of the home and of the mind. Through March 12. Open Monday – Friday\, 9 am – 3 pm; Saturday\, noon – 4 pm. Read more here: https://glenarborart.org/product/exhibit-interiors/
URL:https://www.visitglenarbor.com/event/interiors/2026-01-09/1/
LOCATION:Glen Arbor Arts Center\, 6031 S. Lake Street\, Glen Arbor\, MI\, 49636
CATEGORIES:Art/Gallery/Exhibit
ATTACH;FMTTYPE=image/jpeg:https://www.visitglenarbor.com/wp-content/uploads/2026/02/ZZZZZ_Interiors22025_Webslide-004.jpg
END:VEVENT
BEGIN:VEVENT
DTSTART;TZID=America/Detroit:20260109T090000
DTEND;TZID=America/Detroit:20260312T150000
DTSTAMP:20260422T184653
CREATED:20260211T163230Z
LAST-MODIFIED:20260211T163230Z
UID:10009230-1767949200-1773327600@www.visitglenarbor.com
SUMMARY:INteriors
DESCRIPTION:The Glen Arbor Arts Center looks inward with its first exhibit of 2026.  INteriors\, an exploration of inner spaces\, both real and imagined\, spaces of the home and of the mind. Through March 12. Open Monday – Friday\, 9 am – 3 pm; Saturday\, noon – 4 pm. Read more here: https://glenarborart.org/product/exhibit-interiors/
URL:https://www.visitglenarbor.com/event/interiors/2026-01-09/2/
LOCATION:Glen Arbor Arts Center\, 6031 S. Lake Street\, Glen Arbor\, MI\, 49636
CATEGORIES:Art/Gallery/Exhibit
ATTACH;FMTTYPE=image/jpeg:https://www.visitglenarbor.com/wp-content/uploads/2026/02/ZZZZZ_Interiors22025_Webslide-004.jpg
END:VEVENT
BEGIN:VEVENT
DTSTART;TZID=America/Detroit:20260111T170000
DTEND;TZID=America/Detroit:20260111T190000
DTSTAMP:20260422T184653
CREATED:20251014T151945Z
LAST-MODIFIED:20251014T151945Z
UID:10008443-1768150800-1768158000@www.visitglenarbor.com
SUMMARY:Trivia Night!
DESCRIPTION:Think you’ve got what it takes to be the trivia champ? Join us every Sunday evening at Cherry Public House for a brain-boosting good time with Trivia Night\, hosted by the legendary Quizmaster Whoot! 🍻 \n🧠 Test your knowledge across pop culture\, history\, music\, and more\n🍔 Enjoy delicious food and drink specials all evening\n🏆 Prizes for top teams – bring your A-game! \nGrab your smartest friends\, snag a table\, and settle in for two hours of laughs\, surprises\, and fierce-but-friendly competition. Walk-ins welcome — fun guaranteed!
URL:https://www.visitglenarbor.com/event/trivia-night-3/2026-01-11/
LOCATION:Cherry Public House\, 6026 South Lake Street\, Glen Arbor\, MI\, 49636
CATEGORIES:Community Events,Food/Dining Event,Kids + Family Friendly
ATTACH;FMTTYPE=image/jpeg:https://www.visitglenarbor.com/wp-content/uploads/2025/10/trivia_night_0.jpg
ORGANIZER;CN="Cherry Republic":MAILTO:experience@cherryrepublic.com
END:VEVENT
BEGIN:VEVENT
DTSTART;TZID=America/Detroit:20260114T180000
DTEND;TZID=America/Detroit:20260114T200000
DTSTAMP:20260422T184653
CREATED:20260112T184621Z
LAST-MODIFIED:20260402T144940Z
UID:10008557-1768413600-1768420800@www.visitglenarbor.com
SUMMARY:Euchre at Glen Arbor Wines!
DESCRIPTION:Join us for relaxed\, friendly euchre at Glen Arbor Wines\, Wednesdays from 6 to 8 pm January through the end of April.
URL:https://www.visitglenarbor.com/event/euchre-at-glen-arbor-wines/2026-01-14/
LOCATION:Glen Arbor Wines
CATEGORIES:Local Business Event
ATTACH;FMTTYPE=image/jpeg:https://www.visitglenarbor.com/wp-content/uploads/2026/01/euchre-scaled-e1768243543840.jpeg
END:VEVENT
BEGIN:VEVENT
DTSTART;TZID=America/Detroit:20260118T130000
DTEND;TZID=America/Detroit:20260118T140000
DTSTAMP:20260422T184653
CREATED:20260119T150737Z
LAST-MODIFIED:20260119T150737Z
UID:10008545-1768741200-1768744800@www.visitglenarbor.com
SUMMARY:DWELLING: A CONVERSATON ABOUT LIVING WELL
DESCRIPTION:How can we live better\, and dwell more thoroughly in our homes? Two Northern\nMichigan interior designers explore that question on January 18\, 1 pm at the Glen Arbor\nArts Center. This conversation takes place as part of the GAAC’s INteriors exhibition. It\nis facilitated by GAAC Gallery Manager Sarah Bearup-Neal. The program is free.\nGretchen Knoblock\, design director of the Traverse City firm New Leaf Interiors\, and\nKaren Van Nort\, a home stager and designer located in Leelanau County\, will reflect on\nthe ways they’ve helped clients make their interiors livable and congenial. What\nessential design elements ground homeowners in their personal space? And\, what does\nit mean to bring the outside indoors?\nIn the event of inclement weather\, Dwelling: A Conversation About Living Well will\ntake place February 8\, 1 pm. INteriors\, an exhibition about real and imagined inner\nspaces\, runs Janurary 9 – March 12 in the GAAC’s Main Gallery. Read more about the\nexhibition and view images of the artwork at GlenArborArt.org / EXHIBITS.
URL:https://www.visitglenarbor.com/event/dwelling-a-conversaton-about-living-well/
LOCATION:Glen Arbor Arts Center\, 6031 S. Lake Street\, Glen Arbor\, MI\, 49636
CATEGORIES:Art/Gallery/Exhibit
ATTACH;FMTTYPE=image/jpeg:https://www.visitglenarbor.com/wp-content/uploads/2025/12/ZZZ_INteriors_interior-illustration_2.jpg
ORGANIZER;CN="Glen Arbor Arts Center":MAILTO:director@glenarborart.org
END:VEVENT
BEGIN:VEVENT
DTSTART;TZID=America/Detroit:20260118T170000
DTEND;TZID=America/Detroit:20260118T190000
DTSTAMP:20260422T184653
CREATED:20251014T151945Z
LAST-MODIFIED:20251014T151945Z
UID:10008444-1768755600-1768762800@www.visitglenarbor.com
SUMMARY:Trivia Night!
DESCRIPTION:Think you’ve got what it takes to be the trivia champ? Join us every Sunday evening at Cherry Public House for a brain-boosting good time with Trivia Night\, hosted by the legendary Quizmaster Whoot! 🍻 \n🧠 Test your knowledge across pop culture\, history\, music\, and more\n🍔 Enjoy delicious food and drink specials all evening\n🏆 Prizes for top teams – bring your A-game! \nGrab your smartest friends\, snag a table\, and settle in for two hours of laughs\, surprises\, and fierce-but-friendly competition. Walk-ins welcome — fun guaranteed!
URL:https://www.visitglenarbor.com/event/trivia-night-3/2026-01-18/
LOCATION:Cherry Public House\, 6026 South Lake Street\, Glen Arbor\, MI\, 49636
CATEGORIES:Community Events,Food/Dining Event,Kids + Family Friendly
ATTACH;FMTTYPE=image/jpeg:https://www.visitglenarbor.com/wp-content/uploads/2025/10/trivia_night_0.jpg
ORGANIZER;CN="Cherry Republic":MAILTO:experience@cherryrepublic.com
END:VEVENT
BEGIN:VEVENT
DTSTART;TZID=America/Detroit:20260121T180000
DTEND;TZID=America/Detroit:20260121T200000
DTSTAMP:20260422T184653
CREATED:20260112T184621Z
LAST-MODIFIED:20260402T144940Z
UID:10008558-1769018400-1769025600@www.visitglenarbor.com
SUMMARY:Euchre at Glen Arbor Wines!
DESCRIPTION:Join us for relaxed\, friendly euchre at Glen Arbor Wines\, Wednesdays from 6 to 8 pm January through the end of April.
URL:https://www.visitglenarbor.com/event/euchre-at-glen-arbor-wines/2026-01-21/
LOCATION:Glen Arbor Wines
CATEGORIES:Local Business Event
ATTACH;FMTTYPE=image/jpeg:https://www.visitglenarbor.com/wp-content/uploads/2026/01/euchre-scaled-e1768243543840.jpeg
END:VEVENT
BEGIN:VEVENT
DTSTART;TZID=America/Detroit:20260125T170000
DTEND;TZID=America/Detroit:20260125T190000
DTSTAMP:20260422T184653
CREATED:20251014T151945Z
LAST-MODIFIED:20251014T151945Z
UID:10008445-1769360400-1769367600@www.visitglenarbor.com
SUMMARY:Trivia Night!
DESCRIPTION:Think you’ve got what it takes to be the trivia champ? Join us every Sunday evening at Cherry Public House for a brain-boosting good time with Trivia Night\, hosted by the legendary Quizmaster Whoot! 🍻 \n🧠 Test your knowledge across pop culture\, history\, music\, and more\n🍔 Enjoy delicious food and drink specials all evening\n🏆 Prizes for top teams – bring your A-game! \nGrab your smartest friends\, snag a table\, and settle in for two hours of laughs\, surprises\, and fierce-but-friendly competition. Walk-ins welcome — fun guaranteed!
URL:https://www.visitglenarbor.com/event/trivia-night-3/2026-01-25/
LOCATION:Cherry Public House\, 6026 South Lake Street\, Glen Arbor\, MI\, 49636
CATEGORIES:Community Events,Food/Dining Event,Kids + Family Friendly
ATTACH;FMTTYPE=image/jpeg:https://www.visitglenarbor.com/wp-content/uploads/2025/10/trivia_night_0.jpg
ORGANIZER;CN="Cherry Republic":MAILTO:experience@cherryrepublic.com
END:VEVENT
BEGIN:VEVENT
DTSTART;TZID=America/Detroit:20260128T180000
DTEND;TZID=America/Detroit:20260128T200000
DTSTAMP:20260422T184653
CREATED:20260112T184621Z
LAST-MODIFIED:20260402T144940Z
UID:10008559-1769623200-1769630400@www.visitglenarbor.com
SUMMARY:Euchre at Glen Arbor Wines!
DESCRIPTION:Join us for relaxed\, friendly euchre at Glen Arbor Wines\, Wednesdays from 6 to 8 pm January through the end of April.
URL:https://www.visitglenarbor.com/event/euchre-at-glen-arbor-wines/2026-01-28/
LOCATION:Glen Arbor Wines
CATEGORIES:Local Business Event
ATTACH;FMTTYPE=image/jpeg:https://www.visitglenarbor.com/wp-content/uploads/2026/01/euchre-scaled-e1768243543840.jpeg
END:VEVENT
END:VCALENDAR