BEGIN:VCALENDAR
VERSION:2.0
PRODID:-//Glen Lake Chamber of Commerce - ECPv6.15.19//NONSGML v1.0//EN
CALSCALE:GREGORIAN
METHOD:PUBLISH
X-WR-CALNAME:Glen Lake Chamber of Commerce
X-ORIGINAL-URL:https://www.visitglenarbor.com
X-WR-CALDESC:Events for Glen Lake Chamber of Commerce
REFRESH-INTERVAL;VALUE=DURATION:PT1H
X-Robots-Tag:noindex
X-PUBLISHED-TTL:PT1H
BEGIN:VTIMEZONE
TZID:America/Detroit
BEGIN:DAYLIGHT
TZOFFSETFROM:-0500
TZOFFSETTO:-0400
TZNAME:EDT
DTSTART:20130310T070000
END:DAYLIGHT
BEGIN:STANDARD
TZOFFSETFROM:-0400
TZOFFSETTO:-0500
TZNAME:EST
DTSTART:20131103T060000
END:STANDARD
BEGIN:DAYLIGHT
TZOFFSETFROM:-0500
TZOFFSETTO:-0400
TZNAME:EDT
DTSTART:20140309T070000
END:DAYLIGHT
BEGIN:STANDARD
TZOFFSETFROM:-0400
TZOFFSETTO:-0500
TZNAME:EST
DTSTART:20141102T060000
END:STANDARD
BEGIN:DAYLIGHT
TZOFFSETFROM:-0500
TZOFFSETTO:-0400
TZNAME:EDT
DTSTART:20150308T070000
END:DAYLIGHT
BEGIN:STANDARD
TZOFFSETFROM:-0400
TZOFFSETTO:-0500
TZNAME:EST
DTSTART:20151101T060000
END:STANDARD
BEGIN:DAYLIGHT
TZOFFSETFROM:-0500
TZOFFSETTO:-0400
TZNAME:EDT
DTSTART:20160313T070000
END:DAYLIGHT
BEGIN:STANDARD
TZOFFSETFROM:-0400
TZOFFSETTO:-0500
TZNAME:EST
DTSTART:20161106T060000
END:STANDARD
END:VTIMEZONE
BEGIN:VEVENT
DTSTART;TZID=America/Detroit:20141227T130000
DTEND;TZID=America/Detroit:20150307T160000
DTSTAMP:20260419T230410
CREATED:20141201T203846Z
LAST-MODIFIED:20200309T054641Z
UID:10002325-1419685200-1425744000@www.visitglenarbor.com
SUMMARY:Ranger-led Snowshoe Hikes at Sleeping Bear Dunes National Lakeshore
DESCRIPTION:Come explore Sleeping Bear Dunes National Lakeshore (National Lakeshore) on snowshoes this winter! Join park rangers for a guided snowshoe hike this holiday season and every Saturday throughout the winter. The first hike of the season will be on Saturday\, December 27\, 2014 at 1:00 p.m. The snowshoe hikes will continue to be offered every Saturday at 1:00 p.m. through March 7\, 2015. Meet at the National Lakeshore’s Philip A. Hart Visitor Center in Empire. If you don’t have your own snowshoes\, a pair will be loaned at no charge. Participants need only purchase the park entrance pass or have an annual pass to join in the fun. \nReservations are required whether you need to borrow snowshoes or have your own.  Ranger-led snowshoe hikes are limited to 30 participants. Please call 231-326-4700\, ext. 5010\, for details and to make reservations.
URL:https://www.visitglenarbor.com/event/ranger-led-snowshoe-hikes-at-sleeping-bear-dunes-national-lakeshore/
LOCATION:Sleeping Bear Dunes National Lakeshore\, 9922 Front Street\, Empire\, MI\, 49630\, United States
CATEGORIES:Community Events,Recreation
ORGANIZER;CN="Sleeping Bear Dunes National Lakeshore":MAILTO:SLBE_programs@nps.gov
END:VEVENT
BEGIN:VEVENT
DTSTART;TZID=America/Detroit:20150206T180000
DTEND;TZID=America/Detroit:20150206T200000
DTSTAMP:20260419T230410
CREATED:20150122T011708Z
LAST-MODIFIED:20150122T011708Z
UID:10002432-1423245600-1423252800@www.visitglenarbor.com
SUMMARY:Art From Michigan's Wine Country
DESCRIPTION:Art\, wine and small plate delectables will warm the night as the Glen Arbor Art Association The Homestead\, and Leelanau Peninsula Wine Trail team up to offer Art From Michigan’s Wine Country on Friday\, February 6\, 6-8 pm.\nNow in its seventh year at The Homestead’s Mountain Flowers Lodge this fun winter event kicks off Leelanau Peninsula Wine Trails “Taste the Passion” weekend. The Friday night GAAA benefit features an art exhibit and sale of work by local artists\, wine from Leelanau wineries\, and a small plates menu designed by The Homestead’s chef. \n  \nTicket price is $25 per person with advance reservation. Entrance fee includes one glass of wine\, food stations with small plates\, and coffee. Additional wine is available for $4/glass or three glasses for $10. Call The Homestead\, 334-5100\, by February 4 to make an advanced reservation with will call ticket pick up at the event. At the door price is $30 per person the night of the event. \nThe invitational art exhibit and sale offers recent original works by Bob Ashmun\, Jane Batteiger\, Linda Alice Dewey\, Michelle Hart Jahraus\, Christine Nettleton\, Joan Richmond\, Lisa Wilkins Schulte\, and Sally E. Wille. The artists will be on hand to discuss their work. \nA portion of each ticket and painting purchase supports the Glen Arbor Art Association programming including a scholarship fund. These programs provide arts opportunities for many families who would not otherwise have them. \n  \nMany thanks to The Homestead Resort staff\, artists\, LPWT\, and guests. It will be a great winter event. \nCall the Homestead for Reservations: 231-334-5100
URL:https://www.visitglenarbor.com/event/art-from-michigans-wine-country/
LOCATION:The Homestead\, Woodridge Road\, Glen Arbor\, MI\, 49636\, United States
CATEGORIES:Community Events,Local Business Event
ATTACH;FMTTYPE=:
END:VEVENT
BEGIN:VEVENT
DTSTART;TZID=America/Detroit:20150210T173000
DTEND;TZID=America/Detroit:20150210T191500
DTSTAMP:20260419T230410
CREATED:20150204T005243Z
LAST-MODIFIED:20200309T054645Z
UID:10002439-1423589400-1423595700@www.visitglenarbor.com
SUMMARY:February Chamber Members Meeting
DESCRIPTION:February Members Meeting – Hosted by Jeff Rabidoux at The Martin Company  \nTuesday\, February 10th \n\n5:30pm – Socialize\n6:15pm – Meeting Start\n\n\nLocation:  \nThe Martin Company \n6400 Western Avenue \nGlen Arbor\, MI 49636
URL:https://www.visitglenarbor.com/event/february-chamber-members-meeting/
LOCATION:The Martin Company\, 6400 Western Avenue\, Glen Arbor\, MI\, 49636\, United States
CATEGORIES:Chamber Events,Local Business Event
END:VEVENT
BEGIN:VEVENT
DTSTART;TZID=America/Detroit:20150214T070000
DTEND;TZID=America/Detroit:20150214T150000
DTSTAMP:20260419T230410
CREATED:20141028T222412Z
LAST-MODIFIED:20200309T054640Z
UID:10002429-1423897200-1423926000@www.visitglenarbor.com
SUMMARY:2015 Glen Arbor Winter Fest
DESCRIPTION:Winter Fest Follow Up: \nContest Results + Event Photo Gallery.\nClick here. \n \nJoin us for the Annual Glen Arbor Winter fest on Saturday\, February 14\, 2015! Festivities include Perch Fishing Contest + a Chili Cook-Off.\n\nRSVP + Invite your friends\, via Facebook Event Page\n\nPerch Fishing Contest\nFestivities start at 7am with the beginning of the Perch Fishing Contest\, with prizes for 1st through 4th place catches. All participants will bring their biggest catches from Big and Little Glen Lake to the Sportsman Shop at 1pm\, and winners will then be crowned. Entry fee for this event is $20\, and all ages are welcome. \n> DOWNLOAD: 2015 Perch Fishing Contest Entry Form\nChili Cook-off\nThe Chili Cookoff\, kicks off at Noon on the deck at Boonedocks (on the corner of M22 and Ray Street) in Glen Arbor. Entrants will compete to earn chili bragging rights. 1st through 5th Place winners\, as determined by popular vote\, receive a plaque commemorating the 2015 Chili Cook-off. There’s only one category: CHILI ! – however you define it!\n \nAll proceeds from this event go directly to the Glen Lake Chamber of Commerce’s Glen Lake Schools Scholarship Fund. This is a family friendly event\, just be sure to dress warmly! If you’d like to participate\, the entry fee is $25 per chili. Winners will be crowned as the event wraps up around 3pm. \nAdmission is $10 per person\, which includes unlimited chili samples. $5.00 for seniors\, over 70\, and kids\, 12 and under. \n> DOWNLOAD: Winter fest 2015 | Chili Cook off form\nEmail questions: info@visitglenarbor.com \n\nOPEN ALL WINTER  |  FREE Ice-skating. Open to public. Located in downtown Glen Arbor\, on the outdoor community ice-rink.\n \nSNOWSHOE STAMPEDED | RACE ON FEB.14th\, at the Leelanau Outdoor Center!\n> EVENT INFO HERE
URL:https://www.visitglenarbor.com/event/2015-glen-arbor-winter-fest/
CATEGORIES:Community Events,Local Business Event,Recreation
ATTACH;FMTTYPE=image/jpeg:https://www.visitglenarbor.com/wp-content/uploads/2020/03/chili-cookoff.jpg
END:VEVENT
BEGIN:VEVENT
DTSTART;TZID=America/Detroit:20150214T103000
DTEND;TZID=America/Detroit:20150214T130000
DTSTAMP:20260419T230410
CREATED:20141120T234006Z
LAST-MODIFIED:20200309T054641Z
UID:10002324-1423909800-1423918800@www.visitglenarbor.com
SUMMARY:3rd Annual Snowshoe Stampede at the Leelanau Outdoor Center
DESCRIPTION:Get your snowshoes ready for the 3rd Annual Snowshoe Stampede at the Leelanau Outdoor Center on February 14\, 2015. 5k race begins at 10:30am. 1 mile snowflake race for kids 12 and under begins shortly after race time. $20 early registration (before February 1) includes lunch.  \nNet proceeds support tuition assistance for schools to attend the Leelanau Outdoor Center.  \nRegister online at www.locprograms.org or call 231.334.3808 for more information.
URL:https://www.visitglenarbor.com/event/3rd-annual-snowshoe-stampede-at-the-leelanau-outdoor-center/
LOCATION:Leelanau Outdoor Center\, 1653 Port Oneida Road\, Maple City\, MI\, 49664\, United States
CATEGORIES:Community Events,Race,Recreation
ORGANIZER;CN="Leelanau Outdoor Center":MAILTO:jen@leelanau-kohahna.org
END:VEVENT
BEGIN:VEVENT
DTSTART;TZID=America/Detroit:20150223T183000
DTEND;TZID=America/Detroit:20150223T203000
DTSTAMP:20260419T230410
CREATED:20150224T015110Z
LAST-MODIFIED:20200309T054646Z
UID:10002443-1424716200-1424723400@www.visitglenarbor.com
SUMMARY:Once Upon a Time: When Childcare for All Wasn’t Just a Fairytale
DESCRIPTION:Second episode viewing\, followed by discussion\, in “The Raising of America” documentary series: “Once Upon a Time: When Childcare for All Wasn’t Just a Fairytale.” This film traces the history of legislative efforts to create high quality early childhood services for our country’s young children. It helps us imagine how things might be different if all American children had access to the high quality early care and education that is available in other developed nations. \nThe community is invited to attend a 6:30 pm gathering\, with refreshments\, in the Community Room of the Leelanau Government Center followed by the film at 7:00pm. \nA panel discussion featuring Jim Scherrer of Child and Family Services of Northwestern Michigan\, Sarah Jane Johnson of Leelanau Children’s Center\, Doug Luciani of Traverse City Chamber of Commerce and Tricia Denton of Samaritan’s Closet will follow the film. The audience will be encouraged to participate in a question and answer session with the panelists. A box of diapers is a suggested donation. \nMore information about “The Raising of America” documentary can be found at www.RaisingofAmerica.org \nFor more information: Call  231-386-5106\, visit LWVLeelanau.org or follow LWVLC on Facebook at League of Women Voters Leelanau County \nContact: Sue Miller 231-256-9106\, Vina Mikesell 231-386-5106\, Marian Kromkowski 231-271-5600
URL:https://www.visitglenarbor.com/event/once-upon-a-time-when-childcare-for-all-wasnt-just-a-fairytale/
LOCATION:Leelanau Government Center\, 525 East Government Center Drive\, Suttons Bay\, MI\, 49682
CATEGORIES:Community Events
END:VEVENT
BEGIN:VEVENT
DTSTART;TZID=America/Detroit:20150227T070000
DTEND;TZID=America/Detroit:20150227T170000
DTSTAMP:20260419T230410
CREATED:20150104T083446Z
LAST-MODIFIED:20200309T054643Z
UID:10002430-1425020400-1425056400@www.visitglenarbor.com
SUMMARY:GLAA Readers Theater\,  Motherhood Out Load
DESCRIPTION:Readersâ Theater is casting âMotherhood Out Loudâ January 14th\, 2015 at 7:00 p.m. at the Glen Arbor Art Association\, 6031 S. Lake Street in Glen Arbor. The cast consists of 1 â 2 men and 4 to 12 women and directed by Harriett Mittelberger. This off-Broadway play will have three performances Feb. 27\, 28 and March 1st. It is a valentine to all. women and the men who love and respect them\, encompassing a series of monologues and scenes that demonstrate the hilarity and pain of motherhood. As a Readersâ Theater production\, actors will read from the script so there is nothing to memorize.
URL:https://www.visitglenarbor.com/event/glaa-readers-theater-motherhood-out-load/
LOCATION:Studio Stage at Lake Street Studios\, 6023 Lake St.\, Glen Arbor\, MI\, 49636\, United States
CATEGORIES:Community Events
END:VEVENT
BEGIN:VEVENT
DTSTART;TZID=America/Detroit:20150227T190000
DTEND;TZID=America/Detroit:20150227T200000
DTSTAMP:20260419T230410
CREATED:20150202T071250Z
LAST-MODIFIED:20200309T054645Z
UID:10002435-1425063600-1425067200@www.visitglenarbor.com
SUMMARY:Motherhood Out Loud
DESCRIPTION:Motherhood Out Loud is coming to Glen Arbor from off-Broadway on Friday\, Feb. 27\, Sat.\, Feb. 28 and Sunday\, March 1st. \nThis delightful play encompasses the hilarity and struggles of motherhood. The cast includes Karen and Peter Van Nort\, Susan McConnell\, Teddy House\, Rhonda Richards\, Mary Sharry\, Linda Dewey\, Pete La Placa and Mike Duwe\, each playing multiple roles. \nMotherhood Out Loud has mature themes and is rated 14+ for the public. For all you mothers\, grandmothers\, daughters and the men who love them\, this play is for you. \nPerformances will be at the Glen Arbor Art Association\, 6031 S. Lake St. in Glen Arbor. Show times are Feb. 27 and 28 at 7:00 p.m. and March 1 at 3:00 p.m. As always\, admission is free but reservations may be made at glenarborart.org.
URL:https://www.visitglenarbor.com/event/motherhood-out-loud-3/
LOCATION:Lake Street Studios/Center Gallery\, 6023 S. Lake St.\, Glen Arbor\, MI\, 49636\, United States
CATEGORIES:Community Events
END:VEVENT
BEGIN:VEVENT
DTSTART;TZID=America/Detroit:20150228T190000
DTEND;TZID=America/Detroit:20150228T203000
DTSTAMP:20260419T230410
CREATED:20150202T071535Z
LAST-MODIFIED:20150202T071535Z
UID:10002436-1425150000-1425155400@www.visitglenarbor.com
SUMMARY:Motherhood Out Loud
DESCRIPTION:Motherhood Out Loud is coming to Glen Arbor from off-Broadway on Friday\, Feb. 27\, Sat.\, Feb. 28 and Sunday\, March 1st. \nThis delightful play encompasses the hilarity and struggles of motherhood. The cast includes Karen and Peter Van Nort\, Susan McConnell\, Teddy House\, Rhonda Richards\, Mary Sharry\, Linda Dewey\, Pete La Placa and Mike Duwe\, each playing multiple roles. \nMotherhood Out Loud has mature themes and is rated 14+ for the public. For all you mothers\, grandmothers\, daughters and the men who love them\, this play is for you. \nPerformances will be at the Glen Arbor Art Association\, 6031 S. Lake St. in Glen Arbor. Show times are Feb. 27 and 28 at 7:00 p.m. and March 1 at 3:00 p.m. As always\, admission is free but reservations may be made at glenarborart.org.
URL:https://www.visitglenarbor.com/event/motherhood-out-loud-2/
LOCATION:Lake Street Studios/Center Gallery\, 6023 S. Lake St.\, Glen Arbor\, MI\, 49636\, United States
CATEGORIES:Community Events
ATTACH;FMTTYPE=:
END:VEVENT
END:VCALENDAR