BEGIN:VCALENDAR
VERSION:2.0
PRODID:-//Glen Lake Chamber of Commerce - ECPv6.15.19//NONSGML v1.0//EN
CALSCALE:GREGORIAN
METHOD:PUBLISH
X-ORIGINAL-URL:https://www.visitglenarbor.com
X-WR-CALDESC:Events for Glen Lake Chamber of Commerce
REFRESH-INTERVAL;VALUE=DURATION:PT1H
X-Robots-Tag:noindex
X-PUBLISHED-TTL:PT1H
BEGIN:VTIMEZONE
TZID:America/Detroit
BEGIN:DAYLIGHT
TZOFFSETFROM:-0500
TZOFFSETTO:-0400
TZNAME:EDT
DTSTART:20130310T070000
END:DAYLIGHT
BEGIN:STANDARD
TZOFFSETFROM:-0400
TZOFFSETTO:-0500
TZNAME:EST
DTSTART:20131103T060000
END:STANDARD
BEGIN:DAYLIGHT
TZOFFSETFROM:-0500
TZOFFSETTO:-0400
TZNAME:EDT
DTSTART:20140309T070000
END:DAYLIGHT
BEGIN:STANDARD
TZOFFSETFROM:-0400
TZOFFSETTO:-0500
TZNAME:EST
DTSTART:20141102T060000
END:STANDARD
BEGIN:DAYLIGHT
TZOFFSETFROM:-0500
TZOFFSETTO:-0400
TZNAME:EDT
DTSTART:20150308T070000
END:DAYLIGHT
BEGIN:STANDARD
TZOFFSETFROM:-0400
TZOFFSETTO:-0500
TZNAME:EST
DTSTART:20151101T060000
END:STANDARD
END:VTIMEZONE
BEGIN:VEVENT
DTSTART;TZID=America/Detroit:20140919T110000
DTEND;TZID=America/Detroit:20141013T160000
DTSTAMP:20260424T065223
CREATED:20140629T001231Z
LAST-MODIFIED:20200309T054618Z
UID:10002383-1411124400-1413216000@www.visitglenarbor.com
SUMMARY:New Fiber Work: Brady\, Brown + Kostyshyn
DESCRIPTION:Fiber is the focus Sept. 19-Oct. 13 at Center Gallery\, 6023 S. Lake St.\, Glen Arbor. The gallery will showcase contemporary approaches to an old medium by three artists: Kathy Brady\, Stephen Kostyshyn and Lisa Perrine Brown. The show opens Sept. 19 with a 6 p.m. reception. \n  \nBrady\, a Williamston resident\, creates mixed media vessels in clay. She combines fiber – paper and vegetation – with her clay and hand forms the object. Brady also looks to the quilt world for design inspiration. \n  \nKostyshyn also combines clay and fiber. He throws or creates through slab work a clay base from which he weaves intricate baskets and vases. The Cedar resident uses a variety of materials in his weaving\, including rattan\, palm\, birch bark and red osier. \n  \nBrown began interpreting maps of local waterways and landforms in 2012. After enlarging the maps\, Brown translates them into woven tapestries and sewn constructions that use both new and recycled fiber materials. As part of the exhibition\, the Traverse City artist will talk about her work and conduct a demonstration at Center Gallery Sunday\, Sept. 21\, 1 p.m. \n  \nFor more information\, please call 231/334-3179. \n  \n 
URL:https://www.visitglenarbor.com/event/new-fiber-work-brady-brown-kostyshyn/
LOCATION:Center Gallery at Lake Street Studios
CATEGORIES:Community Events,Local Business Event
END:VEVENT
BEGIN:VEVENT
DTSTART;TZID=America/Detroit:20141002T080000
DTEND;TZID=America/Detroit:20141002T170000
DTSTAMP:20260424T065223
CREATED:20141002T235104Z
LAST-MODIFIED:20200309T054638Z
UID:10002319-1412236800-1412269200@www.visitglenarbor.com
SUMMARY:Chamber Member Dinner
DESCRIPTION:Yearly fall Chamber Member dinner. This year\, graciously hosted at one of our favorite local restaurants\, Blu. If you are a Chamber member\, please join us and bring a date\, a friend\, or a colleague with you for this wonderful evening of connecting and networking! \nMore info yet to be posted about dinner time\, etc. Contact us if you have any questions! Hope to see you there!
URL:https://www.visitglenarbor.com/event/chamber-member-dinner/
LOCATION:Blu\, 5705 South Lake St.\, Glen Arbor\, MI\, 49636\, United States
CATEGORIES:Chamber Events
ATTACH;FMTTYPE=image/jpeg:https://www.visitglenarbor.com/wp-content/uploads/2020/03/blu.jpg
END:VEVENT
BEGIN:VEVENT
DTSTART;TZID=America/Detroit:20141004T120000
DTEND;TZID=America/Detroit:20141004T210000
DTSTAMP:20260424T065223
CREATED:20140927T023648Z
LAST-MODIFIED:20200309T054638Z
UID:10002318-1412424000-1412456400@www.visitglenarbor.com
SUMMARY:Empire Hops Festival
DESCRIPTION:EMPIRE HOPS FESTIVAL SATURDAY OCTOBER 4TH 2014\nLocation\, Front St Empire between Union & La Rue \nFREE Parking\, Johnson Park\, to the north of Front Street \nThe Festival will run from 12 Noon thru 9pm\, An entry fee will be charged which will include complimentary glass & drink tickets. \nBreweries\, New Holland\, Right Brain \, Stormcloud Brewing Company Frankfort\, Beards of Petoskey\, The Workshop & Shorts \nFood vendors. Scalawags Fish & Chips\, Deerings\, Baytown Kitchen\, Arts Tavern plus food trucks from TC more TBA \nMusic\, The Benzie Playboys & Black Jake & the Carnies \nThe event will be 100% recycled using Bay Area Recycling services of TC. \nBuy Tickets
URL:https://www.visitglenarbor.com/event/empire-hops-festival/
LOCATION:Downtown Empire
CATEGORIES:Community Events,Recreation
ORGANIZER;CN="Empire Area Chamber of Commerce":MAILTO: EmpireAreaCommunityCenter@gmail.com 
END:VEVENT
BEGIN:VEVENT
DTSTART;TZID=America/Detroit:20141007T073000
DTEND;TZID=America/Detroit:20141007T203000
DTSTAMP:20260424T065223
CREATED:20140919T220102Z
LAST-MODIFIED:20200309T054638Z
UID:10002317-1412667000-1412713800@www.visitglenarbor.com
SUMMARY:Ecology of Michigan Bees
DESCRIPTION:The Glen Lake Library in Empire will host a presentation by Dr. Julianna Wilson\, an entomologist and tree fruit specialist at Michigan State University. Dr. Wilson will be speaking about the different kinds of wild bees found in Michigan\, comparing and contrasting them to honey bees\, and about simple strategies to support and protect bees in Michigan. This presentation is being cosponsored by the Glen Lake Garden Club.
URL:https://www.visitglenarbor.com/event/ecology-of-michigan-bees/
LOCATION:Empire Township Hall\, 10088 W. Front Street\, Empire\, MI \, Empire\, MI\, 49630\, United States
CATEGORIES:Community Events
ATTACH;FMTTYPE=image/jpeg:https://www.visitglenarbor.com/wp-content/uploads/2020/03/JWilson.jpg
ORGANIZER;CN="Glen Lake Community Library":MAILTO:info@glenlakelibrary.net
END:VEVENT
BEGIN:VEVENT
DTSTART;TZID=America/Detroit:20141009T193000
DTEND;TZID=America/Detroit:20141009T210000
DTSTAMP:20260424T065223
CREATED:20140428T163721Z
LAST-MODIFIED:20200309T054612Z
UID:10002353-1412883000-1412888400@www.visitglenarbor.com
SUMMARY:Artist-in-Residence Talk: Roy Kropp
DESCRIPTION:Photography – a “serious hobby” for retired marine ecologist Roy Kropp – is the tool he’ll use to explore northern Michigan’s fall colors during his Sept. 28-Oct. 11artist-residency with the Glen Arbor Art Association (GAAA). Kropp talks about his two-week work-study Oct. 9\, 7:30 p.m.\, Glen Arbor Art Association\, 6031 S. Lake St.\, Glen Arbor. \n  \n“Fall in the Northwest appears very different from that in the East/Midwest\,” said Kropp\, a resident of Sequim\, Washington. The GAAA residency allowed Kropp to develop a photographic portfolio of Midwestern fall colors and patterns; and to explore the cross section between photographic art and scientific exploration. \n  \nThe GAAA’s Artist-In-Residence program provides artists with two-week residencies. At the end of their stay\, artists present work and talk about their experiences during this period of uninterrupted study. The presentations are open to the public without charge. For more information\, please call 231/334-6112.
URL:https://www.visitglenarbor.com/event/artist-in-residence-talk-roy-kropp/
LOCATION:MI\, United States
CATEGORIES:Community Events
END:VEVENT
BEGIN:VEVENT
DTSTART;TZID=America/Detroit:20141011T130000
DTEND;TZID=America/Detroit:20141011T160000
DTSTAMP:20260424T065223
CREATED:20141007T010945Z
LAST-MODIFIED:20200309T054640Z
UID:10002426-1413032400-1413043200@www.visitglenarbor.com
SUMMARY:Heritage Day - Empire Area Museum
DESCRIPTION:The Empire Area Museum Complex celebrates Heritage Day!\nHeritage Day at the Empire Area Museum Complex in Empire will be celebrated on Saturday\, October 11th\, 2014 from 1:00 PM to 4:00 PM.\n\nThere will be demonstrations in the making of apple cider\, ice cream\, butter\, apple butter\, maple sugar candy\, sauerkraut\, and other demonstrations using turn of the century methods.\n\nOther entertainment and activities will include: black smithing\, woodworking\, recorded old phonograph and music box music and player piano demonstrations.\n\nThere will also be several old tractors\, cars and bicycles spread throughout the museum grounds providing various demonstrations.\n\nAccording to chairperson Dave Taghon\, our 42nd Heritage Days Celebration marks the end of another great season of keeping our past alive.\nOperated by the Empire Area Heritage Group\, the museum’s four building complex- Main Building; One-Room School; 1911 Hose House (Fire Station); and the Billy Beeman Barn- is recognized by many as one of the most unique in northern Michigan.\n\nThe local Fire House Quilters have donated another beautiful quilt to be raffled off during the festivities to benefit the Empire Museum Tickets will be available until the 3:00 PM raffle.\n\nPlease bring the whole family and join in on the activities.\nWe are always looking for new exhibitors for any old crafts\, collections or displays!!\n\nFOR MORE INFORMATION: CONTACT: Dave at empiremuseum@centurytel.net Phone: 231-326-5519
URL:https://www.visitglenarbor.com/event/heritage-day-empire-area-museum/
LOCATION:Empire Area Museum\, 11544 S Lacore St \, Empire\, MI\, 49630\, United States
CATEGORIES:Community Events,Recreation
ATTACH;FMTTYPE=image/jpeg:https://www.visitglenarbor.com/wp-content/uploads/2020/03/empire-museum_heritage-day.jpg
ORGANIZER;CN="Empire Area Museum":MAILTO:empiremuseum@centurytel.net
END:VEVENT
BEGIN:VEVENT
DTSTART;TZID=America/Detroit:20141020T053000
DTEND;TZID=America/Detroit:20141020T200000
DTSTAMP:20260424T065223
CREATED:20141007T004043Z
LAST-MODIFIED:20200309T054640Z
UID:10002424-1413783000-1413835200@www.visitglenarbor.com
SUMMARY:October 2014 Chamber Member Dinner/Meeting
DESCRIPTION:Dinner/Meeting to be hosted by Mari & Randy Chamberlin / held at Blu restaurant\n \n– Dinner/Meeting date is Monday October 20th \n– The gathering kicks off with beverages at 5:30 PM \n– Each Member/Couple attending will be on separate check(s) \n– Dinner will be $30 person for salad\, entree and dessert\n \n– Beverages and taxes will be additional  \n– PLEASE Reserve your attendance\, as space is limited to 48 members\, with an email to Jeff Gietzen jeff@northwoodshardware.com
URL:https://www.visitglenarbor.com/event/october-2014-chamber-member-dinnermeeting/
LOCATION:Blu\, 5705 South Lake St.\, Glen Arbor\, MI\, 49636\, United States
CATEGORIES:Chamber Events
ATTACH;FMTTYPE=image/jpeg:https://www.visitglenarbor.com/wp-content/uploads/2020/03/blu.jpg
END:VEVENT
BEGIN:VEVENT
DTSTART;TZID=America/Detroit:20141026T120000
DTEND;TZID=America/Detroit:20141026T150000
DTSTAMP:20260424T065223
CREATED:20141007T004958Z
LAST-MODIFIED:20200309T054640Z
UID:10002425-1414324800-1414335600@www.visitglenarbor.com
SUMMARY:Trick or Treat in the Village of Glen Arbor
DESCRIPTION:Sunday October 26th\, 2014\nHalloween Story-time and Pumpkin Carving/Decorating:\nBefore Trick or Treating: Join the Cottage Book Shop downtown for Halloween Storytime and Pumpkin Carving/Decorating! \nSunday at 11 am at 5989 Lake Street\, Glen Arbor\, MI 49636 \n Storytime with Granny Bonnie\, she will be on hand to read some great Halloween stories. We will also carve or decorate some pumpkins and enjoy some snacks before the official Trick or Treat in Glen Arbor begins at noon.  \nFor more info about story-time and pumpkin decorating\, call: (231) 334-4223\ninfo@cottagebooks.com\n \nGlen Arbor Trick or Treat:\nNoon to 3 in the village of Glen Arbor \nThe community looks forward to the annual Halloween Trick or Treating. Designed for families with children to come downtown in costume\, for some Trick or Treating throughout the downtown area. Participating businesses offer specials and treats!
URL:https://www.visitglenarbor.com/event/trick-or-treat-in-the-village-of-glen-arbor/
LOCATION:Downtown Glen Arbor\, Glen Arbor\, MI\, 49636\, United States
CATEGORIES:Community Events,Local Business Event,Recreation
ATTACH;FMTTYPE=image/jpeg:https://www.visitglenarbor.com/wp-content/uploads/2020/03/glen-arbor-trick-or-treating.jpg
END:VEVENT
BEGIN:VEVENT
DTSTART;VALUE=DATE:20141031
DTEND;VALUE=DATE:20141103
DTSTAMP:20260424T065223
CREATED:20141022T220021Z
LAST-MODIFIED:20141022T220021Z
UID:10002427-1414713600-1414972799@www.visitglenarbor.com
SUMMARY:Toast of the Season Wine tour + Bed & Breakfast
DESCRIPTION:Toast of the Season Wine Tour? Then the Glen Arbor Bed & Breakfast is for you!\nAnnual “Toast of the Season” Wine Weekend’s! \n• October 31st – November 2nd \n• November 7th -9th\, 2014 \nThe Package includes…\nTour tickets\, a hosted Saturday coach van to shuttle you to a least five wineries\, Friday evening welcome reception\, homemade breakfast each morning\, and a Saturday evening dinner at the Western Avenue Grill. Then on Sunday you may enjoy visiting more wineries on your own. \nThe package cost is $300 per couple\, plus our off-peak season tariff for whichever room or suite you choose. \nHurry to guarantee your spot on one of these fun filled weekends! \nEmail:  innkeeper@glenarborbnb.com or Call Katie at 231-334-6789
URL:https://www.visitglenarbor.com/event/toast-of-the-season-wine-tour-bed-breakfast/
LOCATION:Glen Arbor Bed & Breakfast\, 6548 Western Ave\, Glen Arbor\, MI\, 49636\, United States
CATEGORIES:Local Business Event,Recreation
ATTACH;FMTTYPE=:
ORGANIZER;CN="Glen Arbor Bed & Breakfast":MAILTO:innkeeper@glenarborbnb.com
END:VEVENT
END:VCALENDAR