BEGIN:VCALENDAR
VERSION:2.0
PRODID:-//Glen Lake Chamber of Commerce - ECPv6.15.19//NONSGML v1.0//EN
CALSCALE:GREGORIAN
METHOD:PUBLISH
X-WR-CALNAME:Glen Lake Chamber of Commerce
X-ORIGINAL-URL:https://www.visitglenarbor.com
X-WR-CALDESC:Events for Glen Lake Chamber of Commerce
REFRESH-INTERVAL;VALUE=DURATION:PT1H
X-Robots-Tag:noindex
X-PUBLISHED-TTL:PT1H
BEGIN:VTIMEZONE
TZID:America/Detroit
BEGIN:DAYLIGHT
TZOFFSETFROM:-0500
TZOFFSETTO:-0400
TZNAME:EDT
DTSTART:20220313T070000
END:DAYLIGHT
BEGIN:STANDARD
TZOFFSETFROM:-0400
TZOFFSETTO:-0500
TZNAME:EST
DTSTART:20221106T060000
END:STANDARD
BEGIN:DAYLIGHT
TZOFFSETFROM:-0500
TZOFFSETTO:-0400
TZNAME:EDT
DTSTART:20230312T070000
END:DAYLIGHT
BEGIN:STANDARD
TZOFFSETFROM:-0400
TZOFFSETTO:-0500
TZNAME:EST
DTSTART:20231105T060000
END:STANDARD
BEGIN:DAYLIGHT
TZOFFSETFROM:-0500
TZOFFSETTO:-0400
TZNAME:EDT
DTSTART:20240310T070000
END:DAYLIGHT
BEGIN:STANDARD
TZOFFSETFROM:-0400
TZOFFSETTO:-0500
TZNAME:EST
DTSTART:20241103T060000
END:STANDARD
END:VTIMEZONE
BEGIN:VEVENT
DTSTART;TZID=America/Detroit:20230617T170000
DTEND;TZID=America/Detroit:20230617T190000
DTSTAMP:20260422T232811
CREATED:20230410T222255Z
LAST-MODIFIED:20230410T222255Z
UID:10003967-1687021200-1687028400@www.visitglenarbor.com
SUMMARY:Live Music at the M22 Wine Patio with André Villoch
DESCRIPTION:Join us for Live Music at the M22 Wine Patio with André Villoch on Saturday\, June 17th from 5-7pm \nEnjoy a large pour or flight of our M22 Wines while listening to live music! With 15 wines\, hard cider\, and non-alcoholic options available\, there is something for everyone! \nAndré is a local singer-songwriter/comedian who has been playing in the area since 1998. A mix of original and cover songs conducive to sipping wine! \nHave a fun and relaxing evening with great music\, friends and family\, and wine with live music at the M22 Wine Patio with André Villoch.
URL:https://www.visitglenarbor.com/event/live-music-at-the-m22-wine-patio-with-andre-villoch-4/
LOCATION:M22 Outdoor Wine Patio\, 6298 W. Western Ave\, Glen Arbor\, MI\, 49636\, United States
CATEGORIES:Music,Wine/Beer or Tasting Event
ATTACH;FMTTYPE=image/jpeg:https://www.visitglenarbor.com/wp-content/uploads/2023/04/ANDRE-VILLOCH.jpeg
END:VEVENT
END:VCALENDAR