BEGIN:VCALENDAR
VERSION:2.0
PRODID:-//Glen Lake Chamber of Commerce - ECPv6.15.19//NONSGML v1.0//EN
CALSCALE:GREGORIAN
METHOD:PUBLISH
X-WR-CALNAME:Glen Lake Chamber of Commerce
X-ORIGINAL-URL:https://www.visitglenarbor.com
X-WR-CALDESC:Events for Glen Lake Chamber of Commerce
REFRESH-INTERVAL;VALUE=DURATION:PT1H
X-Robots-Tag:noindex
X-PUBLISHED-TTL:PT1H
BEGIN:VTIMEZONE
TZID:America/Detroit
BEGIN:DAYLIGHT
TZOFFSETFROM:-0500
TZOFFSETTO:-0400
TZNAME:EDT
DTSTART:20220313T070000
END:DAYLIGHT
BEGIN:STANDARD
TZOFFSETFROM:-0400
TZOFFSETTO:-0500
TZNAME:EST
DTSTART:20221106T060000
END:STANDARD
BEGIN:DAYLIGHT
TZOFFSETFROM:-0500
TZOFFSETTO:-0400
TZNAME:EDT
DTSTART:20230312T070000
END:DAYLIGHT
BEGIN:STANDARD
TZOFFSETFROM:-0400
TZOFFSETTO:-0500
TZNAME:EST
DTSTART:20231105T060000
END:STANDARD
BEGIN:DAYLIGHT
TZOFFSETFROM:-0500
TZOFFSETTO:-0400
TZNAME:EDT
DTSTART:20240310T070000
END:DAYLIGHT
BEGIN:STANDARD
TZOFFSETFROM:-0400
TZOFFSETTO:-0500
TZNAME:EST
DTSTART:20241103T060000
END:STANDARD
END:VTIMEZONE
BEGIN:VEVENT
DTSTART;TZID=America/Detroit:20231227T130000
DTEND;TZID=America/Detroit:20231227T150000
DTSTAMP:20260423T040707
CREATED:20231031T172524Z
LAST-MODIFIED:20231107T182722Z
UID:10005289-1703682000-1703689200@www.visitglenarbor.com
SUMMARY:Guided Winter Hikes
DESCRIPTION:“All hikes start with an introduction at the Philip A. Hart Visitor Center in Empire. Inside the visitor center\, rangers will give visitors an introduction to the lakeshore.  If there is enough snow\, snowshoes will be provided free of charge.  From the visitor center\, everyone will travel by car to the trailhead or area of the National Lakeshore pre-selected for that day. Once there\, the ranger will help participants learn about the park’s unique features and winter’s effect on them by exploring and discovering clues on site. Be prepared and plan to be outside for about two hours. Dress in layers and wear waterproof boots to be most comfortable.   \nPlease Call the visitor center at 231-326-4700 to make a reservation. \nAll programs are free with a valid park entrance pass. Passes may be purchased at the Phillip A. Hart Visitor Center in Empire\, Michigan\, and cost $25 (per vehicle) for seven days\, $45 for an annual Sleeping Bear Dunes pass\, or $80 (or less) for the America the Beautiful – National Parks and Federal Recreational Lands pass series.”
URL:https://www.visitglenarbor.com/event/guided-winter-hikes-2/
LOCATION:Philip A. Hart Visitor Center\, 9922 W Front St\, Empire\, MI\, 49630
CATEGORIES:Community Events,Kids + Family Friendly,Recreation
ATTACH;FMTTYPE=image/jpeg:https://www.visitglenarbor.com/wp-content/uploads/2023/10/guiding-a-winter-hike-s.singleton-3.jpg
ORGANIZER;CN="Sleeping Bear Dunes National Lakeshore":MAILTO:SLBE_programs@nps.gov
END:VEVENT
BEGIN:VEVENT
DTSTART;TZID=America/Detroit:20231227T173000
DTEND;TZID=America/Detroit:20231227T183000
DTSTAMP:20260423T040707
CREATED:20211004T141427Z
LAST-MODIFIED:20211004T141427Z
UID:10004497-1703698200-1703701800@www.visitglenarbor.com
SUMMARY:Yen Yoga at Nature
DESCRIPTION:Join us in an inspiring space for a community yoga class\, held weekly on Wednesday’s at 5:30 pm. Hosted at Nature in Maple City by Yen Yoga & Fitness. \nThis ia an all-level yoga flow class. Please bring your own yoga mat and practice social distancing. \nSign up to participate is required at yenyogafitness.com  You may sign up online up to 8 days in advance\, or feel free to call us at 231-421-5496
URL:https://www.visitglenarbor.com/event/yen-yoga-at-nature/2023-12-27/
LOCATION:Nature\, 2988 W Burdickville Rd\, Maple City\, MI\, 49664\, United States
CATEGORIES:Community Events,Kids + Family Friendly,Recreation
ATTACH;FMTTYPE=image/png:https://www.visitglenarbor.com/wp-content/uploads/2021/03/Green-Inspirational-Spring-Quote-Facebook-Post.png
ORGANIZER;CN="Nature - A Michigan Retreat":MAILTO:admin@naturemichigan.com
END:VEVENT
END:VCALENDAR