BEGIN:VCALENDAR
VERSION:2.0
PRODID:-//Glen Lake Chamber of Commerce - ECPv6.15.19//NONSGML v1.0//EN
CALSCALE:GREGORIAN
METHOD:PUBLISH
X-WR-CALNAME:Glen Lake Chamber of Commerce
X-ORIGINAL-URL:https://www.visitglenarbor.com
X-WR-CALDESC:Events for Glen Lake Chamber of Commerce
REFRESH-INTERVAL;VALUE=DURATION:PT1H
X-Robots-Tag:noindex
X-PUBLISHED-TTL:PT1H
BEGIN:VTIMEZONE
TZID:America/Detroit
BEGIN:DAYLIGHT
TZOFFSETFROM:-0500
TZOFFSETTO:-0400
TZNAME:EDT
DTSTART:20220313T070000
END:DAYLIGHT
BEGIN:STANDARD
TZOFFSETFROM:-0400
TZOFFSETTO:-0500
TZNAME:EST
DTSTART:20221106T060000
END:STANDARD
BEGIN:DAYLIGHT
TZOFFSETFROM:-0500
TZOFFSETTO:-0400
TZNAME:EDT
DTSTART:20230312T070000
END:DAYLIGHT
BEGIN:STANDARD
TZOFFSETFROM:-0400
TZOFFSETTO:-0500
TZNAME:EST
DTSTART:20231105T060000
END:STANDARD
BEGIN:DAYLIGHT
TZOFFSETFROM:-0500
TZOFFSETTO:-0400
TZNAME:EDT
DTSTART:20240310T070000
END:DAYLIGHT
BEGIN:STANDARD
TZOFFSETFROM:-0400
TZOFFSETTO:-0500
TZNAME:EST
DTSTART:20241103T060000
END:STANDARD
END:VTIMEZONE
BEGIN:VEVENT
DTSTART;TZID=America/Detroit:20230721T093000
DTEND;TZID=America/Detroit:20230721T113000
DTSTAMP:20260419T225927
CREATED:20230714T203109Z
LAST-MODIFIED:20230714T203109Z
UID:10005200-1689931800-1689939000@www.visitglenarbor.com
SUMMARY:Biking Tours
DESCRIPTION:Tuesday\, Thursday\, Friday and Saturday at 9:30 am\, a 2 hour narrated tour. Reservations required.\n\nThree tours available:\n• Biking a By-gone Era\n• Peddling Port Oneida’s Past\n• Secrets of D.H. Day’s Kingdom and Beyond\n\nCost is $25 for adults and $15 for Children ages 7 -17.  Discount Bike Rental for these tours is available at Crystal River Outfitters.
URL:https://www.visitglenarbor.com/event/biking-tours-2/2023-07-21/
LOCATION:Port Oneida Rural Historic District\, 3164 W Harbor Hwy\, Maple City\, MI\, 49664\, United States
CATEGORIES:Community Events,Education,Kids + Family Friendly,Recreation
ATTACH;FMTTYPE=image/png:https://www.visitglenarbor.com/wp-content/uploads/2023/07/Bike-Tour-for-Facebook.png
END:VEVENT
BEGIN:VEVENT
DTSTART;TZID=America/Detroit:20230721T093000
DTEND;TZID=America/Detroit:20230721T233000
DTSTAMP:20260419T225927
CREATED:20230710T190254Z
LAST-MODIFIED:20230710T190301Z
UID:10004930-1689931800-1689982200@www.visitglenarbor.com
SUMMARY:Biking Tours
DESCRIPTION:Ride the Historic Side! Discover the charm\, local lore\, and history of Port Oneida\, by immersing yourself in nature and culture. Get an up-close guided tour in a small group of the rural landscape’s farming\, logging and maritime heritage\, imagining life in the early 19th century. Listening devices allow learning while cycling\, stopping to peak inside some of the historic structures. Connect with each other and your heritage! \nBring your own bike\, or rent through our partners The Cyclery in Glen Arbor at a discount. Book the bike tour first to get the discount. Bike rentals will be delivered at the starting point of the Port Oneida Tours or waiting for you at The Cyclery for Glen Haven Tours. \nReservations required.
URL:https://www.visitglenarbor.com/event/biking-tours/2023-07-21/
LOCATION:Port Oneida Heritage Center\, 3164 W. Harbor Hwy.\, Maple City\, Michigan\, 49630
CATEGORIES:Recreation
ATTACH;FMTTYPE=image/png:https://www.visitglenarbor.com/wp-content/uploads/2023/07/Bike-Tour-for-Facebook.png
END:VEVENT
BEGIN:VEVENT
DTSTART;TZID=America/Detroit:20230721T200000
DTEND;TZID=America/Detroit:20230721T220000
DTSTAMP:20260419T225927
CREATED:20230224T181640Z
LAST-MODIFIED:20230224T182533Z
UID:10003924-1689969600-1689976800@www.visitglenarbor.com
SUMMARY:Beach Bards Bonfire 2023
DESCRIPTION:The public is welcome to come and share By Heart Poetry\, Stories\, or Music or to simply enjoy the experience of a community bonfire on the shore of Lake Michigan. \nThe over 30-year tradition of Beach Bards is a memorable experience for people of all ages. \nVisitors may park in any Leelanau School lot and walk down the scenic boardwalk\, across the Crystal River\, to the bonfire circle or adventurous types can walk in from the beach near the Lanphier Observatory boardwalk.
URL:https://www.visitglenarbor.com/event/beach-bards-bonfire-2023/2023-07-21/
LOCATION:Leelanau School\, 1 Old Homestead Rd\, Glen Arbor\, MI\, 49636\, United States
CATEGORIES:Community Events,Kids + Family Friendly,Music,Recreation
ATTACH;FMTTYPE=image/jpeg:https://www.visitglenarbor.com/wp-content/uploads/2020/03/Beach-Bards-06-e1587065585761.jpg
END:VEVENT
END:VCALENDAR