BEGIN:VCALENDAR
VERSION:2.0
PRODID:-//Glen Lake Chamber of Commerce - ECPv6.15.19//NONSGML v1.0//EN
CALSCALE:GREGORIAN
METHOD:PUBLISH
X-ORIGINAL-URL:https://www.visitglenarbor.com
X-WR-CALDESC:Events for Glen Lake Chamber of Commerce
REFRESH-INTERVAL;VALUE=DURATION:PT1H
X-Robots-Tag:noindex
X-PUBLISHED-TTL:PT1H
BEGIN:VTIMEZONE
TZID:America/Detroit
BEGIN:DAYLIGHT
TZOFFSETFROM:-0500
TZOFFSETTO:-0400
TZNAME:EDT
DTSTART:20220313T070000
END:DAYLIGHT
BEGIN:STANDARD
TZOFFSETFROM:-0400
TZOFFSETTO:-0500
TZNAME:EST
DTSTART:20221106T060000
END:STANDARD
BEGIN:DAYLIGHT
TZOFFSETFROM:-0500
TZOFFSETTO:-0400
TZNAME:EDT
DTSTART:20230312T070000
END:DAYLIGHT
BEGIN:STANDARD
TZOFFSETFROM:-0400
TZOFFSETTO:-0500
TZNAME:EST
DTSTART:20231105T060000
END:STANDARD
BEGIN:DAYLIGHT
TZOFFSETFROM:-0500
TZOFFSETTO:-0400
TZNAME:EDT
DTSTART:20240310T070000
END:DAYLIGHT
BEGIN:STANDARD
TZOFFSETFROM:-0400
TZOFFSETTO:-0500
TZNAME:EST
DTSTART:20241103T060000
END:STANDARD
END:VTIMEZONE
BEGIN:VEVENT
DTSTART;TZID=America/Detroit:20230715T093000
DTEND;TZID=America/Detroit:20230715T113000
DTSTAMP:20260419T154618
CREATED:20230714T203109Z
LAST-MODIFIED:20230714T203109Z
UID:10005197-1689413400-1689420600@www.visitglenarbor.com
SUMMARY:Biking Tours
DESCRIPTION:Tuesday\, Thursday\, Friday and Saturday at 9:30 am\, a 2 hour narrated tour. Reservations required.\n\nThree tours available:\n• Biking a By-gone Era\n• Peddling Port Oneida’s Past\n• Secrets of D.H. Day’s Kingdom and Beyond\n\nCost is $25 for adults and $15 for Children ages 7 -17.  Discount Bike Rental for these tours is available at Crystal River Outfitters.
URL:https://www.visitglenarbor.com/event/biking-tours-2/2023-07-15/
LOCATION:Port Oneida Rural Historic District\, 3164 W Harbor Hwy\, Maple City\, MI\, 49664\, United States
CATEGORIES:Community Events,Education,Kids + Family Friendly,Recreation
ATTACH;FMTTYPE=image/png:https://www.visitglenarbor.com/wp-content/uploads/2023/07/Bike-Tour-for-Facebook.png
END:VEVENT
BEGIN:VEVENT
DTSTART;TZID=America/Detroit:20230715T093000
DTEND;TZID=America/Detroit:20230715T233000
DTSTAMP:20260419T154618
CREATED:20230710T190254Z
LAST-MODIFIED:20230710T190301Z
UID:10004927-1689413400-1689463800@www.visitglenarbor.com
SUMMARY:Biking Tours
DESCRIPTION:Ride the Historic Side! Discover the charm\, local lore\, and history of Port Oneida\, by immersing yourself in nature and culture. Get an up-close guided tour in a small group of the rural landscape’s farming\, logging and maritime heritage\, imagining life in the early 19th century. Listening devices allow learning while cycling\, stopping to peak inside some of the historic structures. Connect with each other and your heritage! \nBring your own bike\, or rent through our partners The Cyclery in Glen Arbor at a discount. Book the bike tour first to get the discount. Bike rentals will be delivered at the starting point of the Port Oneida Tours or waiting for you at The Cyclery for Glen Haven Tours. \nReservations required.
URL:https://www.visitglenarbor.com/event/biking-tours/2023-07-15/
LOCATION:Port Oneida Heritage Center\, 3164 W. Harbor Hwy.\, Maple City\, Michigan\, 49630
CATEGORIES:Recreation
ATTACH;FMTTYPE=image/png:https://www.visitglenarbor.com/wp-content/uploads/2023/07/Bike-Tour-for-Facebook.png
END:VEVENT
BEGIN:VEVENT
DTSTART;TZID=America/Detroit:20230715T130000
DTEND;TZID=America/Detroit:20230715T140000
DTSTAMP:20260419T154618
CREATED:20230703T185113Z
LAST-MODIFIED:20230703T185113Z
UID:10004042-1689426000-1689429600@www.visitglenarbor.com
SUMMARY:The Need for Trees
DESCRIPTION:Join Anishinaabe historian Eric Hemenway for a stroll to find out the Anishinaabe connection to trees. \nTrees have been\, and continue to be\, of the utmost importance to the Anishnaabek. From art to food to critical decision making\, trees have shaped the lives of the Anishinaabek. This talk will look at how trees have contributed to the Anishinaabek and the need to protect them for future generations.
URL:https://www.visitglenarbor.com/event/the-need-for-trees/
LOCATION:Platte Plains Trail – Bass Lake Trailhead\, Trail End\, Honor\, MI\, 49640\, United States
CATEGORIES:Education,Recreation
ATTACH;FMTTYPE=image/jpeg:https://www.visitglenarbor.com/wp-content/uploads/2023/07/3.-Old-Indian-Trail-in-Autumn-Sean-Hollowell-scaled.jpg
ORGANIZER;CN="Sleeping Bear Dunes National Lakeshore":MAILTO:SLBE_programs@nps.gov
END:VEVENT
BEGIN:VEVENT
DTSTART;TZID=America/Detroit:20230715T170000
DTEND;TZID=America/Detroit:20230715T180000
DTSTAMP:20260419T154618
CREATED:20230703T185656Z
LAST-MODIFIED:20230714T201654Z
UID:10004044-1689440400-1689444000@www.visitglenarbor.com
SUMMARY:The Time Before Europeans and Americans on Turtle Island
DESCRIPTION:Long before Europeans came to the shores of Turtle Island (North America) the Anishinaabek and numerous tribal nations called this place home. This talk with Anishinaabe historian Eric Hemenway will give a perspective of Turtle Island before the arrival of Europeans and later Americans.
URL:https://www.visitglenarbor.com/event/the-time-before-europeans-and-americans-on-turtle-island/
LOCATION:D.H. Day Campground Amphitheater\, 8000 W Harbor Hwy\, Glen Arbor\, MI\, 49636\, United States
CATEGORIES:Education,Recreation
ATTACH;FMTTYPE=image/jpeg:https://www.visitglenarbor.com/wp-content/uploads/2023/07/Ernest_Smith_Sky_Woman_1936.jpg
ORGANIZER;CN="Sleeping Bear Dunes National Lakeshore":MAILTO:SLBE_programs@nps.gov
END:VEVENT
END:VCALENDAR