BEGIN:VCALENDAR
VERSION:2.0
PRODID:-//Glen Lake Chamber of Commerce - ECPv6.15.19//NONSGML v1.0//EN
CALSCALE:GREGORIAN
METHOD:PUBLISH
X-WR-CALNAME:Glen Lake Chamber of Commerce
X-ORIGINAL-URL:https://www.visitglenarbor.com
X-WR-CALDESC:Events for Glen Lake Chamber of Commerce
REFRESH-INTERVAL;VALUE=DURATION:PT1H
X-Robots-Tag:noindex
X-PUBLISHED-TTL:PT1H
BEGIN:VTIMEZONE
TZID:America/Detroit
BEGIN:DAYLIGHT
TZOFFSETFROM:-0500
TZOFFSETTO:-0400
TZNAME:EDT
DTSTART:20230312T070000
END:DAYLIGHT
BEGIN:STANDARD
TZOFFSETFROM:-0400
TZOFFSETTO:-0500
TZNAME:EST
DTSTART:20231105T060000
END:STANDARD
BEGIN:DAYLIGHT
TZOFFSETFROM:-0500
TZOFFSETTO:-0400
TZNAME:EDT
DTSTART:20240310T070000
END:DAYLIGHT
BEGIN:STANDARD
TZOFFSETFROM:-0400
TZOFFSETTO:-0500
TZNAME:EST
DTSTART:20241103T060000
END:STANDARD
BEGIN:DAYLIGHT
TZOFFSETFROM:-0500
TZOFFSETTO:-0400
TZNAME:EDT
DTSTART:20250309T070000
END:DAYLIGHT
BEGIN:STANDARD
TZOFFSETFROM:-0400
TZOFFSETTO:-0500
TZNAME:EST
DTSTART:20251102T060000
END:STANDARD
END:VTIMEZONE
BEGIN:VEVENT
DTSTART;TZID=America/Detroit:20240601T093000
DTEND;TZID=America/Detroit:20240601T233000
DTSTAMP:20260419T161324
CREATED:20230710T190254Z
LAST-MODIFIED:20230710T190301Z
UID:10005111-1717234200-1717284600@www.visitglenarbor.com
SUMMARY:Biking Tours
DESCRIPTION:Ride the Historic Side! Discover the charm\, local lore\, and history of Port Oneida\, by immersing yourself in nature and culture. Get an up-close guided tour in a small group of the rural landscape’s farming\, logging and maritime heritage\, imagining life in the early 19th century. Listening devices allow learning while cycling\, stopping to peak inside some of the historic structures. Connect with each other and your heritage! \nBring your own bike\, or rent through our partners The Cyclery in Glen Arbor at a discount. Book the bike tour first to get the discount. Bike rentals will be delivered at the starting point of the Port Oneida Tours or waiting for you at The Cyclery for Glen Haven Tours. \nReservations required.
URL:https://www.visitglenarbor.com/event/biking-tours/2024-06-01/
LOCATION:Port Oneida Heritage Center\, 3164 W. Harbor Hwy.\, Maple City\, Michigan\, 49630
CATEGORIES:Recreation
ATTACH;FMTTYPE=image/png:https://www.visitglenarbor.com/wp-content/uploads/2023/07/Bike-Tour-for-Facebook.png
END:VEVENT
BEGIN:VEVENT
DTSTART;TZID=America/Detroit:20240604T093000
DTEND;TZID=America/Detroit:20240604T233000
DTSTAMP:20260419T161324
CREATED:20230710T190254Z
LAST-MODIFIED:20230710T190301Z
UID:10005112-1717493400-1717543800@www.visitglenarbor.com
SUMMARY:Biking Tours
DESCRIPTION:Ride the Historic Side! Discover the charm\, local lore\, and history of Port Oneida\, by immersing yourself in nature and culture. Get an up-close guided tour in a small group of the rural landscape’s farming\, logging and maritime heritage\, imagining life in the early 19th century. Listening devices allow learning while cycling\, stopping to peak inside some of the historic structures. Connect with each other and your heritage! \nBring your own bike\, or rent through our partners The Cyclery in Glen Arbor at a discount. Book the bike tour first to get the discount. Bike rentals will be delivered at the starting point of the Port Oneida Tours or waiting for you at The Cyclery for Glen Haven Tours. \nReservations required.
URL:https://www.visitglenarbor.com/event/biking-tours/2024-06-04/
LOCATION:Port Oneida Heritage Center\, 3164 W. Harbor Hwy.\, Maple City\, Michigan\, 49630
CATEGORIES:Recreation
ATTACH;FMTTYPE=image/png:https://www.visitglenarbor.com/wp-content/uploads/2023/07/Bike-Tour-for-Facebook.png
END:VEVENT
BEGIN:VEVENT
DTSTART;TZID=America/Detroit:20240605T173000
DTEND;TZID=America/Detroit:20240605T183000
DTSTAMP:20260419T161324
CREATED:20211004T141427Z
LAST-MODIFIED:20211004T141427Z
UID:10004520-1717608600-1717612200@www.visitglenarbor.com
SUMMARY:Yen Yoga at Nature
DESCRIPTION:Join us in an inspiring space for a community yoga class\, held weekly on Wednesday’s at 5:30 pm. Hosted at Nature in Maple City by Yen Yoga & Fitness. \nThis ia an all-level yoga flow class. Please bring your own yoga mat and practice social distancing. \nSign up to participate is required at yenyogafitness.com  You may sign up online up to 8 days in advance\, or feel free to call us at 231-421-5496
URL:https://www.visitglenarbor.com/event/yen-yoga-at-nature/2024-06-05/
LOCATION:Nature\, 2988 W Burdickville Rd\, Maple City\, MI\, 49664\, United States
CATEGORIES:Community Events,Kids + Family Friendly,Recreation
ATTACH;FMTTYPE=image/png:https://www.visitglenarbor.com/wp-content/uploads/2021/03/Green-Inspirational-Spring-Quote-Facebook-Post.png
ORGANIZER;CN="Nature - A Michigan Retreat":MAILTO:admin@naturemichigan.com
END:VEVENT
BEGIN:VEVENT
DTSTART;TZID=America/Detroit:20240606T093000
DTEND;TZID=America/Detroit:20240606T233000
DTSTAMP:20260419T161324
CREATED:20230710T190254Z
LAST-MODIFIED:20230710T190301Z
UID:10005113-1717666200-1717716600@www.visitglenarbor.com
SUMMARY:Biking Tours
DESCRIPTION:Ride the Historic Side! Discover the charm\, local lore\, and history of Port Oneida\, by immersing yourself in nature and culture. Get an up-close guided tour in a small group of the rural landscape’s farming\, logging and maritime heritage\, imagining life in the early 19th century. Listening devices allow learning while cycling\, stopping to peak inside some of the historic structures. Connect with each other and your heritage! \nBring your own bike\, or rent through our partners The Cyclery in Glen Arbor at a discount. Book the bike tour first to get the discount. Bike rentals will be delivered at the starting point of the Port Oneida Tours or waiting for you at The Cyclery for Glen Haven Tours. \nReservations required.
URL:https://www.visitglenarbor.com/event/biking-tours/2024-06-06/
LOCATION:Port Oneida Heritage Center\, 3164 W. Harbor Hwy.\, Maple City\, Michigan\, 49630
CATEGORIES:Recreation
ATTACH;FMTTYPE=image/png:https://www.visitglenarbor.com/wp-content/uploads/2023/07/Bike-Tour-for-Facebook.png
END:VEVENT
BEGIN:VEVENT
DTSTART;TZID=America/Detroit:20240607T093000
DTEND;TZID=America/Detroit:20240607T233000
DTSTAMP:20260419T161324
CREATED:20230710T190254Z
LAST-MODIFIED:20230710T190301Z
UID:10005114-1717752600-1717803000@www.visitglenarbor.com
SUMMARY:Biking Tours
DESCRIPTION:Ride the Historic Side! Discover the charm\, local lore\, and history of Port Oneida\, by immersing yourself in nature and culture. Get an up-close guided tour in a small group of the rural landscape’s farming\, logging and maritime heritage\, imagining life in the early 19th century. Listening devices allow learning while cycling\, stopping to peak inside some of the historic structures. Connect with each other and your heritage! \nBring your own bike\, or rent through our partners The Cyclery in Glen Arbor at a discount. Book the bike tour first to get the discount. Bike rentals will be delivered at the starting point of the Port Oneida Tours or waiting for you at The Cyclery for Glen Haven Tours. \nReservations required.
URL:https://www.visitglenarbor.com/event/biking-tours/2024-06-07/
LOCATION:Port Oneida Heritage Center\, 3164 W. Harbor Hwy.\, Maple City\, Michigan\, 49630
CATEGORIES:Recreation
ATTACH;FMTTYPE=image/png:https://www.visitglenarbor.com/wp-content/uploads/2023/07/Bike-Tour-for-Facebook.png
END:VEVENT
BEGIN:VEVENT
DTSTART;TZID=America/Detroit:20240608T093000
DTEND;TZID=America/Detroit:20240608T233000
DTSTAMP:20260419T161324
CREATED:20230710T190254Z
LAST-MODIFIED:20230710T190301Z
UID:10005115-1717839000-1717889400@www.visitglenarbor.com
SUMMARY:Biking Tours
DESCRIPTION:Ride the Historic Side! Discover the charm\, local lore\, and history of Port Oneida\, by immersing yourself in nature and culture. Get an up-close guided tour in a small group of the rural landscape’s farming\, logging and maritime heritage\, imagining life in the early 19th century. Listening devices allow learning while cycling\, stopping to peak inside some of the historic structures. Connect with each other and your heritage! \nBring your own bike\, or rent through our partners The Cyclery in Glen Arbor at a discount. Book the bike tour first to get the discount. Bike rentals will be delivered at the starting point of the Port Oneida Tours or waiting for you at The Cyclery for Glen Haven Tours. \nReservations required.
URL:https://www.visitglenarbor.com/event/biking-tours/2024-06-08/
LOCATION:Port Oneida Heritage Center\, 3164 W. Harbor Hwy.\, Maple City\, Michigan\, 49630
CATEGORIES:Recreation
ATTACH;FMTTYPE=image/png:https://www.visitglenarbor.com/wp-content/uploads/2023/07/Bike-Tour-for-Facebook.png
END:VEVENT
BEGIN:VEVENT
DTSTART;TZID=America/Detroit:20240611T093000
DTEND;TZID=America/Detroit:20240611T233000
DTSTAMP:20260419T161324
CREATED:20230710T190254Z
LAST-MODIFIED:20230710T190301Z
UID:10005116-1718098200-1718148600@www.visitglenarbor.com
SUMMARY:Biking Tours
DESCRIPTION:Ride the Historic Side! Discover the charm\, local lore\, and history of Port Oneida\, by immersing yourself in nature and culture. Get an up-close guided tour in a small group of the rural landscape’s farming\, logging and maritime heritage\, imagining life in the early 19th century. Listening devices allow learning while cycling\, stopping to peak inside some of the historic structures. Connect with each other and your heritage! \nBring your own bike\, or rent through our partners The Cyclery in Glen Arbor at a discount. Book the bike tour first to get the discount. Bike rentals will be delivered at the starting point of the Port Oneida Tours or waiting for you at The Cyclery for Glen Haven Tours. \nReservations required.
URL:https://www.visitglenarbor.com/event/biking-tours/2024-06-11/
LOCATION:Port Oneida Heritage Center\, 3164 W. Harbor Hwy.\, Maple City\, Michigan\, 49630
CATEGORIES:Recreation
ATTACH;FMTTYPE=image/png:https://www.visitglenarbor.com/wp-content/uploads/2023/07/Bike-Tour-for-Facebook.png
END:VEVENT
BEGIN:VEVENT
DTSTART;TZID=America/Detroit:20240612T173000
DTEND;TZID=America/Detroit:20240612T183000
DTSTAMP:20260419T161324
CREATED:20211004T141427Z
LAST-MODIFIED:20211004T141427Z
UID:10004521-1718213400-1718217000@www.visitglenarbor.com
SUMMARY:Yen Yoga at Nature
DESCRIPTION:Join us in an inspiring space for a community yoga class\, held weekly on Wednesday’s at 5:30 pm. Hosted at Nature in Maple City by Yen Yoga & Fitness. \nThis ia an all-level yoga flow class. Please bring your own yoga mat and practice social distancing. \nSign up to participate is required at yenyogafitness.com  You may sign up online up to 8 days in advance\, or feel free to call us at 231-421-5496
URL:https://www.visitglenarbor.com/event/yen-yoga-at-nature/2024-06-12/
LOCATION:Nature\, 2988 W Burdickville Rd\, Maple City\, MI\, 49664\, United States
CATEGORIES:Community Events,Kids + Family Friendly,Recreation
ATTACH;FMTTYPE=image/png:https://www.visitglenarbor.com/wp-content/uploads/2021/03/Green-Inspirational-Spring-Quote-Facebook-Post.png
ORGANIZER;CN="Nature - A Michigan Retreat":MAILTO:admin@naturemichigan.com
END:VEVENT
BEGIN:VEVENT
DTSTART;TZID=America/Detroit:20240613T093000
DTEND;TZID=America/Detroit:20240613T233000
DTSTAMP:20260419T161324
CREATED:20230710T190254Z
LAST-MODIFIED:20230710T190301Z
UID:10005117-1718271000-1718321400@www.visitglenarbor.com
SUMMARY:Biking Tours
DESCRIPTION:Ride the Historic Side! Discover the charm\, local lore\, and history of Port Oneida\, by immersing yourself in nature and culture. Get an up-close guided tour in a small group of the rural landscape’s farming\, logging and maritime heritage\, imagining life in the early 19th century. Listening devices allow learning while cycling\, stopping to peak inside some of the historic structures. Connect with each other and your heritage! \nBring your own bike\, or rent through our partners The Cyclery in Glen Arbor at a discount. Book the bike tour first to get the discount. Bike rentals will be delivered at the starting point of the Port Oneida Tours or waiting for you at The Cyclery for Glen Haven Tours. \nReservations required.
URL:https://www.visitglenarbor.com/event/biking-tours/2024-06-13/
LOCATION:Port Oneida Heritage Center\, 3164 W. Harbor Hwy.\, Maple City\, Michigan\, 49630
CATEGORIES:Recreation
ATTACH;FMTTYPE=image/png:https://www.visitglenarbor.com/wp-content/uploads/2023/07/Bike-Tour-for-Facebook.png
END:VEVENT
BEGIN:VEVENT
DTSTART;TZID=America/Detroit:20240614T093000
DTEND;TZID=America/Detroit:20240614T233000
DTSTAMP:20260419T161324
CREATED:20230710T190254Z
LAST-MODIFIED:20230710T190301Z
UID:10005118-1718357400-1718407800@www.visitglenarbor.com
SUMMARY:Biking Tours
DESCRIPTION:Ride the Historic Side! Discover the charm\, local lore\, and history of Port Oneida\, by immersing yourself in nature and culture. Get an up-close guided tour in a small group of the rural landscape’s farming\, logging and maritime heritage\, imagining life in the early 19th century. Listening devices allow learning while cycling\, stopping to peak inside some of the historic structures. Connect with each other and your heritage! \nBring your own bike\, or rent through our partners The Cyclery in Glen Arbor at a discount. Book the bike tour first to get the discount. Bike rentals will be delivered at the starting point of the Port Oneida Tours or waiting for you at The Cyclery for Glen Haven Tours. \nReservations required.
URL:https://www.visitglenarbor.com/event/biking-tours/2024-06-14/
LOCATION:Port Oneida Heritage Center\, 3164 W. Harbor Hwy.\, Maple City\, Michigan\, 49630
CATEGORIES:Recreation
ATTACH;FMTTYPE=image/png:https://www.visitglenarbor.com/wp-content/uploads/2023/07/Bike-Tour-for-Facebook.png
END:VEVENT
BEGIN:VEVENT
DTSTART;TZID=America/Detroit:20240615T093000
DTEND;TZID=America/Detroit:20240615T233000
DTSTAMP:20260419T161324
CREATED:20230710T190254Z
LAST-MODIFIED:20230710T190301Z
UID:10005119-1718443800-1718494200@www.visitglenarbor.com
SUMMARY:Biking Tours
DESCRIPTION:Ride the Historic Side! Discover the charm\, local lore\, and history of Port Oneida\, by immersing yourself in nature and culture. Get an up-close guided tour in a small group of the rural landscape’s farming\, logging and maritime heritage\, imagining life in the early 19th century. Listening devices allow learning while cycling\, stopping to peak inside some of the historic structures. Connect with each other and your heritage! \nBring your own bike\, or rent through our partners The Cyclery in Glen Arbor at a discount. Book the bike tour first to get the discount. Bike rentals will be delivered at the starting point of the Port Oneida Tours or waiting for you at The Cyclery for Glen Haven Tours. \nReservations required.
URL:https://www.visitglenarbor.com/event/biking-tours/2024-06-15/
LOCATION:Port Oneida Heritage Center\, 3164 W. Harbor Hwy.\, Maple City\, Michigan\, 49630
CATEGORIES:Recreation
ATTACH;FMTTYPE=image/png:https://www.visitglenarbor.com/wp-content/uploads/2023/07/Bike-Tour-for-Facebook.png
END:VEVENT
BEGIN:VEVENT
DTSTART;TZID=America/Detroit:20240618T093000
DTEND;TZID=America/Detroit:20240618T233000
DTSTAMP:20260419T161324
CREATED:20230710T190254Z
LAST-MODIFIED:20230710T190301Z
UID:10005120-1718703000-1718753400@www.visitglenarbor.com
SUMMARY:Biking Tours
DESCRIPTION:Ride the Historic Side! Discover the charm\, local lore\, and history of Port Oneida\, by immersing yourself in nature and culture. Get an up-close guided tour in a small group of the rural landscape’s farming\, logging and maritime heritage\, imagining life in the early 19th century. Listening devices allow learning while cycling\, stopping to peak inside some of the historic structures. Connect with each other and your heritage! \nBring your own bike\, or rent through our partners The Cyclery in Glen Arbor at a discount. Book the bike tour first to get the discount. Bike rentals will be delivered at the starting point of the Port Oneida Tours or waiting for you at The Cyclery for Glen Haven Tours. \nReservations required.
URL:https://www.visitglenarbor.com/event/biking-tours/2024-06-18/
LOCATION:Port Oneida Heritage Center\, 3164 W. Harbor Hwy.\, Maple City\, Michigan\, 49630
CATEGORIES:Recreation
ATTACH;FMTTYPE=image/png:https://www.visitglenarbor.com/wp-content/uploads/2023/07/Bike-Tour-for-Facebook.png
END:VEVENT
BEGIN:VEVENT
DTSTART;TZID=America/Detroit:20240619T173000
DTEND;TZID=America/Detroit:20240619T183000
DTSTAMP:20260419T161324
CREATED:20211004T141427Z
LAST-MODIFIED:20211004T141427Z
UID:10004522-1718818200-1718821800@www.visitglenarbor.com
SUMMARY:Yen Yoga at Nature
DESCRIPTION:Join us in an inspiring space for a community yoga class\, held weekly on Wednesday’s at 5:30 pm. Hosted at Nature in Maple City by Yen Yoga & Fitness. \nThis ia an all-level yoga flow class. Please bring your own yoga mat and practice social distancing. \nSign up to participate is required at yenyogafitness.com  You may sign up online up to 8 days in advance\, or feel free to call us at 231-421-5496
URL:https://www.visitglenarbor.com/event/yen-yoga-at-nature/2024-06-19/
LOCATION:Nature\, 2988 W Burdickville Rd\, Maple City\, MI\, 49664\, United States
CATEGORIES:Community Events,Kids + Family Friendly,Recreation
ATTACH;FMTTYPE=image/png:https://www.visitglenarbor.com/wp-content/uploads/2021/03/Green-Inspirational-Spring-Quote-Facebook-Post.png
ORGANIZER;CN="Nature - A Michigan Retreat":MAILTO:admin@naturemichigan.com
END:VEVENT
BEGIN:VEVENT
DTSTART;TZID=America/Detroit:20240620T093000
DTEND;TZID=America/Detroit:20240620T233000
DTSTAMP:20260419T161324
CREATED:20230710T190254Z
LAST-MODIFIED:20230710T190301Z
UID:10005121-1718875800-1718926200@www.visitglenarbor.com
SUMMARY:Biking Tours
DESCRIPTION:Ride the Historic Side! Discover the charm\, local lore\, and history of Port Oneida\, by immersing yourself in nature and culture. Get an up-close guided tour in a small group of the rural landscape’s farming\, logging and maritime heritage\, imagining life in the early 19th century. Listening devices allow learning while cycling\, stopping to peak inside some of the historic structures. Connect with each other and your heritage! \nBring your own bike\, or rent through our partners The Cyclery in Glen Arbor at a discount. Book the bike tour first to get the discount. Bike rentals will be delivered at the starting point of the Port Oneida Tours or waiting for you at The Cyclery for Glen Haven Tours. \nReservations required.
URL:https://www.visitglenarbor.com/event/biking-tours/2024-06-20/
LOCATION:Port Oneida Heritage Center\, 3164 W. Harbor Hwy.\, Maple City\, Michigan\, 49630
CATEGORIES:Recreation
ATTACH;FMTTYPE=image/png:https://www.visitglenarbor.com/wp-content/uploads/2023/07/Bike-Tour-for-Facebook.png
END:VEVENT
BEGIN:VEVENT
DTSTART;TZID=America/Detroit:20240621T093000
DTEND;TZID=America/Detroit:20240621T233000
DTSTAMP:20260419T161324
CREATED:20230710T190254Z
LAST-MODIFIED:20230710T190301Z
UID:10005122-1718962200-1719012600@www.visitglenarbor.com
SUMMARY:Biking Tours
DESCRIPTION:Ride the Historic Side! Discover the charm\, local lore\, and history of Port Oneida\, by immersing yourself in nature and culture. Get an up-close guided tour in a small group of the rural landscape’s farming\, logging and maritime heritage\, imagining life in the early 19th century. Listening devices allow learning while cycling\, stopping to peak inside some of the historic structures. Connect with each other and your heritage! \nBring your own bike\, or rent through our partners The Cyclery in Glen Arbor at a discount. Book the bike tour first to get the discount. Bike rentals will be delivered at the starting point of the Port Oneida Tours or waiting for you at The Cyclery for Glen Haven Tours. \nReservations required.
URL:https://www.visitglenarbor.com/event/biking-tours/2024-06-21/
LOCATION:Port Oneida Heritage Center\, 3164 W. Harbor Hwy.\, Maple City\, Michigan\, 49630
CATEGORIES:Recreation
ATTACH;FMTTYPE=image/png:https://www.visitglenarbor.com/wp-content/uploads/2023/07/Bike-Tour-for-Facebook.png
END:VEVENT
BEGIN:VEVENT
DTSTART;TZID=America/Detroit:20240622T093000
DTEND;TZID=America/Detroit:20240622T233000
DTSTAMP:20260419T161324
CREATED:20230710T190254Z
LAST-MODIFIED:20230710T190301Z
UID:10005123-1719048600-1719099000@www.visitglenarbor.com
SUMMARY:Biking Tours
DESCRIPTION:Ride the Historic Side! Discover the charm\, local lore\, and history of Port Oneida\, by immersing yourself in nature and culture. Get an up-close guided tour in a small group of the rural landscape’s farming\, logging and maritime heritage\, imagining life in the early 19th century. Listening devices allow learning while cycling\, stopping to peak inside some of the historic structures. Connect with each other and your heritage! \nBring your own bike\, or rent through our partners The Cyclery in Glen Arbor at a discount. Book the bike tour first to get the discount. Bike rentals will be delivered at the starting point of the Port Oneida Tours or waiting for you at The Cyclery for Glen Haven Tours. \nReservations required.
URL:https://www.visitglenarbor.com/event/biking-tours/2024-06-22/
LOCATION:Port Oneida Heritage Center\, 3164 W. Harbor Hwy.\, Maple City\, Michigan\, 49630
CATEGORIES:Recreation
ATTACH;FMTTYPE=image/png:https://www.visitglenarbor.com/wp-content/uploads/2023/07/Bike-Tour-for-Facebook.png
END:VEVENT
BEGIN:VEVENT
DTSTART;TZID=America/Detroit:20240630T110000
DTEND;TZID=America/Detroit:20240630T160000
DTSTAMP:20260419T161324
CREATED:20240619T165038Z
LAST-MODIFIED:20240619T165038Z
UID:10005465-1719745200-1719763200@www.visitglenarbor.com
SUMMARY:LOG CABIN DAY
DESCRIPTION:Park Partner Preserve Historic Sleeping Bear celebrates the annual Michigan Log Cabin Day this year by  highlighting the Boekeloo Cabin\, one of six log cabins on the mainland in the Park. \nStuart Boekeloo is a descendant who will be on-site to share history and stories of his family’s time at the cabin. \nCheck out Preserve Historic Sleeping Bear’s preservation of the cabin\, having restored the windows\, door\, bridge and property fence\, and replaced and repaired logs. Location: The cabin is set at the end of a two mile two-track in the Platte River area of Sleeping Bear Dunes National Lakeshore. A peaceful location on a cranberry bog with a path from the cabin to Lake Michigan\, it’s a hidden favorite for many.
URL:https://www.visitglenarbor.com/event/log-cabin-day-2/
LOCATION:Sleeping Bear Dunes National Lakeshore\, 9922 Front Street\, Empire\, MI\, 49630\, United States
CATEGORIES:Community Events,Education,Kids + Family Friendly,Recreation
ATTACH;FMTTYPE=image/jpeg:https://www.visitglenarbor.com/wp-content/uploads/2024/06/Log-Cabin-Day-2024.jpg
END:VEVENT
END:VCALENDAR