BEGIN:VCALENDAR
VERSION:2.0
PRODID:-//Glen Lake Chamber of Commerce - ECPv6.15.19//NONSGML v1.0//EN
CALSCALE:GREGORIAN
METHOD:PUBLISH
X-WR-CALNAME:Glen Lake Chamber of Commerce
X-ORIGINAL-URL:https://www.visitglenarbor.com
X-WR-CALDESC:Events for Glen Lake Chamber of Commerce
REFRESH-INTERVAL;VALUE=DURATION:PT1H
X-Robots-Tag:noindex
X-PUBLISHED-TTL:PT1H
BEGIN:VTIMEZONE
TZID:America/Detroit
BEGIN:DAYLIGHT
TZOFFSETFROM:-0500
TZOFFSETTO:-0400
TZNAME:EDT
DTSTART:20180311T070000
END:DAYLIGHT
BEGIN:STANDARD
TZOFFSETFROM:-0400
TZOFFSETTO:-0500
TZNAME:EST
DTSTART:20181104T060000
END:STANDARD
BEGIN:DAYLIGHT
TZOFFSETFROM:-0500
TZOFFSETTO:-0400
TZNAME:EDT
DTSTART:20190310T070000
END:DAYLIGHT
BEGIN:STANDARD
TZOFFSETFROM:-0400
TZOFFSETTO:-0500
TZNAME:EST
DTSTART:20191103T060000
END:STANDARD
BEGIN:DAYLIGHT
TZOFFSETFROM:-0500
TZOFFSETTO:-0400
TZNAME:EDT
DTSTART:20200308T070000
END:DAYLIGHT
BEGIN:STANDARD
TZOFFSETFROM:-0400
TZOFFSETTO:-0500
TZNAME:EST
DTSTART:20201101T060000
END:STANDARD
END:VTIMEZONE
BEGIN:VEVENT
DTSTART;TZID=America/Detroit:20190801T183000
DTEND;TZID=America/Detroit:20190801T203000
DTSTAMP:20260423T213641
CREATED:20190705T235114Z
LAST-MODIFIED:20190705T235114Z
UID:10004056-1564684200-1564691400@www.visitglenarbor.com
SUMMARY:Car Show/Cruise Night
DESCRIPTION:Car show/Cruise Nights in Glen Arbor\n \nThursday nights at Northwoods Hardware store. From 6:30-8:30pm\, July 11 through August. 
URL:https://www.visitglenarbor.com/event/car-show-cruise-night-3/
LOCATION:Northwoods Hardware Home + Garden\, 6053 S. Glen Lake Rd\, (Off of M-22)\, Glen Arbor\, MI\, 49636\, United States
CATEGORIES:Recreation
ATTACH;FMTTYPE=:
END:VEVENT
BEGIN:VEVENT
DTSTART;TZID=America/Detroit:20190803T080000
DTEND;TZID=America/Detroit:20190803T110000
DTSTAMP:20260423T213641
CREATED:20190724T052047Z
LAST-MODIFIED:20190724T052047Z
UID:10004095-1564819200-1564830000@www.visitglenarbor.com
SUMMARY:Port Oneida Run/Walk  5K\, 10\, Kid's Dash
DESCRIPTION:Choose your race between the Farmers Flat and Fast 5K\, Homesteaders Hardcore 5K\, and Tiller’s 10K!  Are you hard-core enough for the hills?!\nEach course winds through the beautiful scenery of Sleeping Bear Dunes National Lakeshore’s Port Oneida Rural Historic District 3 miles north of Glen Arbor. With its historic farms and barns\, Port Oneida is hailed as “one of the most prized historic landscapes in the country”!
URL:https://www.visitglenarbor.com/event/port-oneida-run-walk-5k-10-kids-schoolhouse-dash/
LOCATION:Port Oneida Heritage Center\, 3164 W. Harbor Hwy.\, Maple City\, Michigan\, 49630
CATEGORIES:Community Events,Kids + Family Friendly,Race,Recreation
ATTACH;FMTTYPE=:
END:VEVENT
BEGIN:VEVENT
DTSTART;TZID=America/Detroit:20190805T093000
DTEND;TZID=America/Detroit:20190805T230000
DTSTAMP:20260423T213641
CREATED:20190724T053603Z
LAST-MODIFIED:20190724T053603Z
UID:10004097-1564997400-1565046000@www.visitglenarbor.com
SUMMARY:Mornings in the Garden 9:30 -11 am
DESCRIPTION:Join our Master Gardeners at the Olsen Farm during their morning tending\, to learn about heirloom plants\, companion planting\, and more in our vegetable and perennial gardens. You can even dig in and get your hands dirty to help them if you like! For all ages. Kids can discover what’s growing in season\, practice historic planting techniques\, go on an insect safari or explore the wild world of soil!
URL:https://www.visitglenarbor.com/event/mornings-in-the-garden-930-11-am-2/
LOCATION:Port Oneida Heritage Center\, 3164 W. Harbor Hwy.\, Maple City\, Michigan\, 49630
CATEGORIES:Education,Kids + Family Friendly,Recreation
ATTACH;FMTTYPE=:
END:VEVENT
BEGIN:VEVENT
DTSTART;TZID=America/Detroit:20190808T100000
DTEND;TZID=America/Detroit:20190808T110000
DTSTAMP:20260423T213641
CREATED:20190724T060551Z
LAST-MODIFIED:20190724T060551Z
UID:10002982-1565258400-1565262000@www.visitglenarbor.com
SUMMARY:Heritage Walkers 10 am
DESCRIPTION:Join us on the trails for one or more of our 8 weeks of walking – where history and nature merge! Walk for your well-being\, enjoying this beautiful park with others while learning about our heritage and the natural resources in the area you will be walking. Walks are on the paved or small crushed stone Heritage Trail\, beautiful natural trails\, and a few country backroads in Port Oneida. Bring walking shoes and water bottles. Everyone is welcome\, so bring a friend\, or meet a neighbor! This is a collaborative program with Friends of Sleeping Bear. \nHistoric Sleeping Bear has partnered with local walking guru Pete Edwards of SKIWALKING.COM and the American Nordic Walking System to bring his knowledge and enthusiasm of walking and the natural areas. He will loan Nordic ski walking poles to anyone who wants to try them and enjoy the benefits! Bonus: Get fit for the Port Oneida Run/Walk\, August 3rd. Each time you walk\, your name will be entered into a drawing on August 1st to get a free registration for the run/walk. \n Friends of Sleeping Bear have partnered with a state-wide program called Walk Michigan focused on increasing physical activity to help obtain healthy weights\, reduce chronic medical conditions as well as improve mental health and reduce stress. Bonus: Pedometers will be provided. \nTIME:  10 am   Approx. 1 hour walk \nWEEK                         HIKE                                    TYPE of TRAIL            MEETING PLACE\n \nTuesday\, July 9        Glen Haven North             Heritage Trail         Glen Haven General Store \nThursday\, July 11   Port Oneida East                Heritage Trail   Port Oneida Heritage Ctr (POHC) \nTuesday\, July 16     Glen Haven South              Heritage Trail         Glen Haven General Store \nThursday\, July 18   Treat Farm                           Natural Trail           Park gate/Stormer Rd\,Empire \nTuesday\, July 23     Pierce Stocking South        Heritage Trail         Scenic Dr. lower parking lot \nThursday\, July 25   Port Oneida West               Heritage/Bayview Trl. POHC \n  \nTuesday\, July 30     Voice Road North               Heritage Trail        Voice Road Trailhead \nThurs. August 1       Basch road                        Dirt Backroad           Basch Rd. picnic area \n  \nTues. August 6        Dune Climb South              Heritage Trail        Dune Climb \nThurs. August 8       Bayview Farm loop            Natural Trail           POHC \nTues. August 13      Dune Climb North              Heritage Trail         Dune Climb \nThurs. August 15    Good Harbor Bay Loop      Natural Trail           Good Harbor Trailhead \n  \nTues. August 20      Pierce Stocking North        Heritage Trail         Scenic Dr. lower parking lot \nThurs. August 22    Otter Creek Loop West      Natural wide Trl     Otter Creek Trailhead/Empire \n  \nTues. August 27      Glen Arbor Forest Haven  Heritage Trail          Heritage Trl at Forest Haven Rd. \nThurs. August 29    Voice Road South               Natural Trail             Voice Road Trailhead
URL:https://www.visitglenarbor.com/event/heritage-walkers-10-am-4/
LOCATION:Port Oneida Heritage Center\, 3164 W. Harbor Hwy.\, Maple City\, Michigan\, 49630
CATEGORIES:Recreation
ATTACH;FMTTYPE=:
END:VEVENT
BEGIN:VEVENT
DTSTART;TZID=America/Detroit:20190808T183000
DTEND;TZID=America/Detroit:20190808T203000
DTSTAMP:20260423T213641
CREATED:20190705T235210Z
LAST-MODIFIED:20190705T235210Z
UID:10004057-1565289000-1565296200@www.visitglenarbor.com
SUMMARY:Car Show/Cruise Night
DESCRIPTION:Car show/Cruise Nights in Glen Arbor\n \nThursday nights at Northwoods Hardware store. From 6:30-8:30pm\, July 11 through August. 
URL:https://www.visitglenarbor.com/event/car-show-cruise-night-4/
LOCATION:Northwoods Hardware Home + Garden\, 6053 S. Glen Lake Rd\, (Off of M-22)\, Glen Arbor\, MI\, 49636\, United States
CATEGORIES:Recreation
ATTACH;FMTTYPE=:
END:VEVENT
BEGIN:VEVENT
DTSTART;TZID=America/Detroit:20190809T200000
DTEND;TZID=America/Detroit:20190809T220000
DTSTAMP:20260423T213641
CREATED:20190521T210028Z
LAST-MODIFIED:20200309T054928Z
UID:10003252-1565380800-1565388000@www.visitglenarbor.com
SUMMARY:Beach Bards: August 9
DESCRIPTION:The Beach Bards – Glen Arbor – “By heart” storytelling\, poetry\, and music on the beach. Friday evenings starting at 8pm with Children’s Hour. \n2019 Beach Bards Summer Schedule \nFriday\, June 28th\, 2019\nFriday\, July 12th\, 2019\nFriday\, July 26th\, 2019\nFriday\, August 9th\, 2019 \nLocated at The Leelanau School Fire Circle\, One Old Homestead Rd.\, Glen Arbor\n(231)334-5800 and leelanau.org
URL:https://www.visitglenarbor.com/event/beach-bards-august-9/
LOCATION:The Leelanau School\, 1 Old Homestead Road\, Glen Arbor\, Michigan\, 49636
CATEGORIES:Community Events,Kids + Family Friendly,Music,Recreation
ATTACH;FMTTYPE=image/jpeg:https://www.visitglenarbor.com/wp-content/uploads/2020/03/Beach-Bards-06-e1587065585761.jpg
END:VEVENT
BEGIN:VEVENT
DTSTART;TZID=America/Detroit:20190815T100000
DTEND;TZID=America/Detroit:20190815T110000
DTSTAMP:20260423T213641
CREATED:20190724T061244Z
LAST-MODIFIED:20190724T061244Z
UID:10002986-1565863200-1565866800@www.visitglenarbor.com
SUMMARY:Heritage Walkers 10 am
DESCRIPTION:Join us on the trails for one or more of our 8 weeks of walking – where history and nature merge! Walk for your well-being\, enjoying this beautiful park with others while learning about our heritage and the natural resources in the area you will be walking. Walks are on the paved or small crushed stone Heritage Trail\, beautiful natural trails\, and a few country backroads in Port Oneida. Bring walking shoes and water bottles. Everyone is welcome\, so bring a friend\, or meet a neighbor! This is a collaborative program with Friends of Sleeping Bear. \nHistoric Sleeping Bear has partnered with local walking guru Pete Edwards of SKIWALKING.COM and the American Nordic Walking System to bring his knowledge and enthusiasm of walking and the natural areas. He will loan Nordic ski walking poles to anyone who wants to try them and enjoy the benefits! Bonus: Get fit for the Port Oneida Run/Walk\, August 3rd. Each time you walk\, your name will be entered into a drawing on August 1st to get a free registration for the run/walk. \n Friends of Sleeping Bear have partnered with a state-wide program called Walk Michigan focused on increasing physical activity to help obtain healthy weights\, reduce chronic medical conditions as well as improve mental health and reduce stress. Bonus: Pedometers will be provided. \nTIME:  10 am   Approx. 1 hour walk \nWEEK                         HIKE                                    TYPE of TRAIL            MEETING PLACE\n \nTuesday\, July 9        Glen Haven North             Heritage Trail         Glen Haven General Store \nThursday\, July 11   Port Oneida East                Heritage Trail   Port Oneida Heritage Ctr (POHC) \nTuesday\, July 16     Glen Haven South              Heritage Trail         Glen Haven General Store \nThursday\, July 18   Treat Farm                           Natural Trail           Park gate/Stormer Rd\,Empire \nTuesday\, July 23     Pierce Stocking South        Heritage Trail         Scenic Dr. lower parking lot \nThursday\, July 25   Port Oneida West               Heritage/Bayview Trl. POHC \n  \nTuesday\, July 30     Voice Road North               Heritage Trail        Voice Road Trailhead \nThurs. August 1       Basch road                        Dirt Backroad           Basch Rd. picnic area \n  \nTues. August 6        Dune Climb South              Heritage Trail        Dune Climb \nThurs. August 8       Bayview Farm loop            Natural Trail           POHC \nTues. August 13      Dune Climb North              Heritage Trail         Dune Climb \nThurs. August 15    Good Harbor Bay Loop      Natural Trail           Good Harbor Trailhead \n  \nTues. August 20      Pierce Stocking North        Heritage Trail         Scenic Dr. lower parking lot \nThurs. August 22    Otter Creek Loop West      Natural wide Trl     Otter Creek Trailhead/Empire \n  \nTues. August 27      Glen Arbor Forest Haven  Heritage Trail          Heritage Trl at Forest Haven Rd. \nThurs. August 29    Voice Road South               Natural Trail             Voice Road Trailhead
URL:https://www.visitglenarbor.com/event/heritage-walkers-10-am-6/
LOCATION:Good Harbor Trailhead\, Sleeping Bear Dunes National Lakeshore\, Maple City
CATEGORIES:Kids + Family Friendly,Recreation
ATTACH;FMTTYPE=:
END:VEVENT
BEGIN:VEVENT
DTSTART;TZID=America/Detroit:20190815T183000
DTEND;TZID=America/Detroit:20190815T203000
DTSTAMP:20260423T213641
CREATED:20190705T235300Z
LAST-MODIFIED:20190705T235300Z
UID:10004059-1565893800-1565901000@www.visitglenarbor.com
SUMMARY:Car Show/Cruise Night
DESCRIPTION:Car show/Cruise Nights in Glen Arbor\n \nThursday nights at Northwoods Hardware store. From 6:30-8:30pm\, July 11 through August. 
URL:https://www.visitglenarbor.com/event/car-show-cruise-night-5/
LOCATION:Northwoods Hardware Home + Garden\, 6053 S. Glen Lake Rd\, (Off of M-22)\, Glen Arbor\, MI\, 49636\, United States
CATEGORIES:Recreation
ATTACH;FMTTYPE=:
END:VEVENT
BEGIN:VEVENT
DTSTART;TZID=America/Detroit:20190819T093000
DTEND;TZID=America/Detroit:20190819T110000
DTSTAMP:20260423T213641
CREATED:20190724T054236Z
LAST-MODIFIED:20190724T054236Z
UID:10004101-1566207000-1566212400@www.visitglenarbor.com
SUMMARY:Mornings in the Garden 9:30 - 11 am
DESCRIPTION:Join our Master Gardeners at the Olsen Farm during their morning tending\, to learn about heirloom plants\, companion planting\, and more in our vegetable and perennial gardens.
URL:https://www.visitglenarbor.com/event/mornings-in-the-garden-930-11-am-4/
LOCATION:Port Oneida Heritage Center\, 3164 W. Harbor Hwy.\, Maple City\, Michigan\, 49630
CATEGORIES:Education,Kids + Family Friendly,Recreation
ATTACH;FMTTYPE=:
END:VEVENT
BEGIN:VEVENT
DTSTART;TZID=America/Detroit:20190822T183000
DTEND;TZID=America/Detroit:20190822T203000
DTSTAMP:20260423T213641
CREATED:20190706T000955Z
LAST-MODIFIED:20190706T000955Z
UID:10004061-1566498600-1566505800@www.visitglenarbor.com
SUMMARY:Car Show/Cruise Night
DESCRIPTION:Car show/Cruise Nights in Glen Arbor\n \nThursday nights at Northwoods Hardware store. From 6:30-8:30pm\, July 11 through August. 
URL:https://www.visitglenarbor.com/event/car-show-cruise-night-6/
LOCATION:Northwoods Hardware Home + Garden\, 6053 S. Glen Lake Rd\, (Off of M-22)\, Glen Arbor\, MI\, 49636\, United States
CATEGORIES:Recreation
ATTACH;FMTTYPE=:
END:VEVENT
BEGIN:VEVENT
DTSTART;TZID=America/Detroit:20190829T183000
DTEND;TZID=America/Detroit:20190829T203000
DTSTAMP:20260423T213641
CREATED:20190706T001159Z
LAST-MODIFIED:20190706T001159Z
UID:10002953-1567103400-1567110600@www.visitglenarbor.com
SUMMARY:Car show/Cruise Night
DESCRIPTION:Car show/Cruise Nights in Glen Arbor\n \nThursday nights at Northwoods Hardware store. From 6:30-8:30pm\, July 11 through August. 
URL:https://www.visitglenarbor.com/event/car-show-cruise-night-7/
LOCATION:Northwoods Hardware Home + Garden\, 6053 S. Glen Lake Rd\, (Off of M-22)\, Glen Arbor\, MI\, 49636\, United States
CATEGORIES:Recreation
ATTACH;FMTTYPE=:
END:VEVENT
END:VCALENDAR