BEGIN:VCALENDAR
VERSION:2.0
PRODID:-//Glen Lake Chamber of Commerce - ECPv6.15.20//NONSGML v1.0//EN
CALSCALE:GREGORIAN
METHOD:PUBLISH
X-ORIGINAL-URL:https://www.visitglenarbor.com
X-WR-CALDESC:Events for Glen Lake Chamber of Commerce
REFRESH-INTERVAL;VALUE=DURATION:PT1H
X-Robots-Tag:noindex
X-PUBLISHED-TTL:PT1H
BEGIN:VTIMEZONE
TZID:America/Detroit
BEGIN:DAYLIGHT
TZOFFSETFROM:-0500
TZOFFSETTO:-0400
TZNAME:EDT
DTSTART:20180311T070000
END:DAYLIGHT
BEGIN:STANDARD
TZOFFSETFROM:-0400
TZOFFSETTO:-0500
TZNAME:EST
DTSTART:20181104T060000
END:STANDARD
BEGIN:DAYLIGHT
TZOFFSETFROM:-0500
TZOFFSETTO:-0400
TZNAME:EDT
DTSTART:20190310T070000
END:DAYLIGHT
BEGIN:STANDARD
TZOFFSETFROM:-0400
TZOFFSETTO:-0500
TZNAME:EST
DTSTART:20191103T060000
END:STANDARD
BEGIN:DAYLIGHT
TZOFFSETFROM:-0500
TZOFFSETTO:-0400
TZNAME:EDT
DTSTART:20200308T070000
END:DAYLIGHT
BEGIN:STANDARD
TZOFFSETFROM:-0400
TZOFFSETTO:-0500
TZNAME:EST
DTSTART:20201101T060000
END:STANDARD
END:VTIMEZONE
BEGIN:VEVENT
DTSTART;TZID=America/Detroit:20190711T063000
DTEND;TZID=America/Detroit:20190711T083000
DTSTAMP:20260424T085935
CREATED:20190705T234730Z
LAST-MODIFIED:20200309T054956Z
UID:10004053-1562826600-1562833800@www.visitglenarbor.com
SUMMARY:Car show/Cruise Nights
DESCRIPTION:Car show/Cruise Nights in Glen Arbor\n \nThursday nights at Northwoods Hardware store. From 6:30-8:30pm\, July 11 through August. 
URL:https://www.visitglenarbor.com/event/car-show-cruise-nights/
LOCATION:Northwoods Hardware Home + Garden\, 6053 S. Glen Lake Rd\, (Off of M-22)\, Glen Arbor\, MI\, 49636\, United States
CATEGORIES:Recreation
ATTACH;FMTTYPE=image/jpeg:https://www.visitglenarbor.com/wp-content/uploads/2020/03/2019-classic-car-show-Cruise-Nights-in-Glen-Arbor.jpg
END:VEVENT
BEGIN:VEVENT
DTSTART;TZID=America/Detroit:20190712T200000
DTEND;TZID=America/Detroit:20190712T220000
DTSTAMP:20260424T085935
CREATED:20190521T205720Z
LAST-MODIFIED:20200309T054927Z
UID:10003248-1562961600-1562968800@www.visitglenarbor.com
SUMMARY:Beach Bards: July 12
DESCRIPTION:The Beach Bards – Glen Arbor – “By heart” storytelling\, poetry\, and music on the beach. Friday evenings starting at 8pm with Children’s Hour. \n2019 Beach Bards Summer Schedule \nFriday\, June 28th\, 2019\nFriday\, July 12th\, 2019\nFriday\, July 26th\, 2019\nFriday\, August 9th\, 2019 \nLocated at The Leelanau School Fire Circle\, One Old Homestead Rd.\, Glen Arbor\n(231)334-5800 and leelanau.org
URL:https://www.visitglenarbor.com/event/beach-bards-july-12/
LOCATION:The Leelanau School\, 1 Old Homestead Road\, Glen Arbor\, Michigan\, 49636
CATEGORIES:Community Events,Kids + Family Friendly,Music,Recreation
ATTACH;FMTTYPE=image/jpeg:https://www.visitglenarbor.com/wp-content/uploads/2020/03/Beach-Bards-06-e1587065585761.jpg
END:VEVENT
BEGIN:VEVENT
DTSTART;TZID=America/Detroit:20190718T183000
DTEND;TZID=America/Detroit:20190718T203000
DTSTAMP:20260424T085935
CREATED:20190705T234908Z
LAST-MODIFIED:20200309T054956Z
UID:10004054-1563474600-1563481800@www.visitglenarbor.com
SUMMARY:Car Show/Cruise Night
DESCRIPTION:Car show/Cruise Nights in Glen Arbor\n \nThursday nights at Northwoods Hardware store. From 6:30-8:30pm\, July 11 through August. 
URL:https://www.visitglenarbor.com/event/car-show-cruise-night/
LOCATION:Northwoods Hardware Home + Garden\, 6053 S. Glen Lake Rd\, (Off of M-22)\, Glen Arbor\, MI\, 49636\, United States
CATEGORIES:Recreation
ATTACH;FMTTYPE=image/jpeg:https://www.visitglenarbor.com/wp-content/uploads/2020/03/2019-classic-car-show-Cruise-Nights-in-Glen-Arbor.jpg
END:VEVENT
BEGIN:VEVENT
DTSTART;VALUE=DATE:20190719
DTEND;VALUE=DATE:20190721
DTSTAMP:20260424T085935
CREATED:20190716T232030Z
LAST-MODIFIED:20200309T054959Z
UID:10004071-1563494400-1563667199@www.visitglenarbor.com
SUMMARY:Empire Anchor Days
DESCRIPTION:Friday & Saturday\, July 19th & 20th EMPIRE AREA COMMUNITY CENTER brings their annual “Anchor Day” activities to kids\, families\, community members and visitors. \nFRIDAY\, JULY 19th\nMovie –  ‘Anchor Recovery’\nTribute to Doug Manning.\n7:30 pm  •  Empire Town Hall\nSponsored by the Empire Area Museum\n \nSATURDAY\, JULY 20th \nAnchor Day Fun Run\nStarting at Empire Beach Pavilion\n8:45 am Registration  •  9:00 am Race Time\nDarby Trapp\, Coordinator\nSponsored by Empire Area Community Center (EACC) \nAnchor Day Parade\nFront Street\, Empire\, MI\nParticipants line up between 1 and 1:30 pm at Johnson Park\n11570 Reynolds St.\, Empire\nParade begins 2 pm — through Empire\nSponsored by Empire Area Community Center (EACC) \nLions Club BBQ Chicken Dinner\nEmpire Town Hall  •  1:00 – 7:00 pm\nAdults $13  •  Children under 10 years old $6\nGrilled Chicken\, Baked Beans\, Coleslaw\, Potato’s  & Shortcake\nSponsored by Empire Lions \nStreet Dance \nDoc Probes\, the Music Doctor  &  David Goodwin\, Professional Drummer\nEmpire Town Hall Porch  •  8 pm – 11 pm\nBYOB  •  Chair  •  Dancing Shoes  . . . and friends!\nSponsored by Empire Area Community Centert (EACC)
URL:https://www.visitglenarbor.com/event/empire-anchor-days-2019/
LOCATION:Empire\, MI\, Empire\, MI\, 49630\, United States
CATEGORIES:Community Events,Education,Kids + Family Friendly,Race,Recreation
ATTACH;FMTTYPE=image/png:https://www.visitglenarbor.com/wp-content/uploads/2020/03/Anchor-Day-Activities-Empire-Commnity-center-events.png
END:VEVENT
BEGIN:VEVENT
DTSTART;TZID=America/Detroit:20190723T090000
DTEND;TZID=America/Detroit:20190723T100000
DTSTAMP:20260424T085935
CREATED:20190409T015801Z
LAST-MODIFIED:20200309T054924Z
UID:10002837-1563872400-1563876000@www.visitglenarbor.com
SUMMARY:Running Bear Run/Walk 2019
DESCRIPTION:The 13th Annual Glen Arbor Women’s Club Running Bear 5K Walk/Run and 1/2 Mile Kid’s Run is going to be on Tuesday\, July 23\, 2019.  9:00 am at Cherry Republic Glen Arbor.  $18/$20 day of race $5 Kids.   More info:  www.runningbearrun.com
URL:https://www.visitglenarbor.com/event/running-bear-run-walk-2019/
LOCATION:Cherry Republic
CATEGORIES:Community Events,Kids + Family Friendly,Race,Recreation
ATTACH;FMTTYPE=image/jpeg:https://www.visitglenarbor.com/wp-content/uploads/2020/03/Running-Bear-Run-Glen-Arbor.jpg
END:VEVENT
BEGIN:VEVENT
DTSTART;TZID=America/Detroit:20190725T183000
DTEND;TZID=America/Detroit:20190725T203000
DTSTAMP:20260424T085935
CREATED:20190705T235013Z
LAST-MODIFIED:20190705T235013Z
UID:10004055-1564079400-1564086600@www.visitglenarbor.com
SUMMARY:Car Show/Cruise Night
DESCRIPTION:Car show/Cruise Nights in Glen Arbor\n \nThursday nights at Northwoods Hardware store. From 6:30-8:30pm\, July 11 through August. 
URL:https://www.visitglenarbor.com/event/car-show-cruise-night-2/
LOCATION:Northwoods Hardware Home + Garden\, 6053 S. Glen Lake Rd\, (Off of M-22)\, Glen Arbor\, MI\, 49636\, United States
CATEGORIES:Recreation
ATTACH;FMTTYPE=:
END:VEVENT
BEGIN:VEVENT
DTSTART;TZID=America/Detroit:20190726T200000
DTEND;TZID=America/Detroit:20190726T220000
DTSTAMP:20260424T085935
CREATED:20190521T205920Z
LAST-MODIFIED:20200309T054927Z
UID:10003250-1564171200-1564178400@www.visitglenarbor.com
SUMMARY:Beach Bards: July 26 2019
DESCRIPTION:The Beach Bards – Glen Arbor – “By heart” storytelling\, poetry\, and music on the beach. Friday evenings starting at 8pm with Children’s Hour. \n2019 Beach Bards Summer Schedule \nFriday\, June 28th\, 2019\nFriday\, July 12th\, 2019\nFriday\, July 26th\, 2019\nFriday\, August 9th\, 2019 \nLocated at The Leelanau School Fire Circle\, One Old Homestead Rd.\, Glen Arbor\n(231)334-5800 and leelanau.org
URL:https://www.visitglenarbor.com/event/beach-bards-july-26-2019/
LOCATION:The Leelanau School\, 1 Old Homestead Road\, Glen Arbor\, Michigan\, 49636
CATEGORIES:Community Events,Kids + Family Friendly,Music,Recreation
ATTACH;FMTTYPE=image/jpeg:https://www.visitglenarbor.com/wp-content/uploads/2020/03/Beach-Bards-06-e1587065585761.jpg
END:VEVENT
BEGIN:VEVENT
DTSTART;TZID=America/Detroit:20190729T093000
DTEND;TZID=America/Detroit:20190729T110000
DTSTAMP:20260424T085935
CREATED:20190724T053141Z
LAST-MODIFIED:20200309T055003Z
UID:10004096-1564392600-1564398000@www.visitglenarbor.com
SUMMARY:Mornings in the Garden 9:30 - 11 am
DESCRIPTION:Join our Master Gardeners at the Olsen Farm during their morning tending\, to learn about heirloom plants\, companion planting\, and more in our vegetable and perennial gardens.  You can even dig in and get your hands dirty to help them if you like! For all ages. Kids can discover what’s growing in season\, practice historic planting techniques\, go on an insect safari or explore the wild world of soil! \nMondays\, June 24 – August 19
URL:https://www.visitglenarbor.com/event/mornings-in-the-garden-930-11-am/
LOCATION:Port Oneida Heritage Center\, 3164 W. Harbor Hwy.\, Maple City\, Michigan\, 49630
CATEGORIES:Education,Kids + Family Friendly,Recreation
ATTACH;FMTTYPE=image/jpeg:https://www.visitglenarbor.com/wp-content/uploads/2020/03/FullSizeRender.jpg
END:VEVENT
END:VCALENDAR