BEGIN:VCALENDAR
VERSION:2.0
PRODID:-//Glen Lake Chamber of Commerce - ECPv6.15.20//NONSGML v1.0//EN
CALSCALE:GREGORIAN
METHOD:PUBLISH
X-ORIGINAL-URL:https://www.visitglenarbor.com
X-WR-CALDESC:Events for Glen Lake Chamber of Commerce
REFRESH-INTERVAL;VALUE=DURATION:PT1H
X-Robots-Tag:noindex
X-PUBLISHED-TTL:PT1H
BEGIN:VTIMEZONE
TZID:America/Detroit
BEGIN:DAYLIGHT
TZOFFSETFROM:-0500
TZOFFSETTO:-0400
TZNAME:EDT
DTSTART:20200308T070000
END:DAYLIGHT
BEGIN:STANDARD
TZOFFSETFROM:-0400
TZOFFSETTO:-0500
TZNAME:EST
DTSTART:20201101T060000
END:STANDARD
BEGIN:DAYLIGHT
TZOFFSETFROM:-0500
TZOFFSETTO:-0400
TZNAME:EDT
DTSTART:20210314T070000
END:DAYLIGHT
BEGIN:STANDARD
TZOFFSETFROM:-0400
TZOFFSETTO:-0500
TZNAME:EST
DTSTART:20211107T060000
END:STANDARD
BEGIN:DAYLIGHT
TZOFFSETFROM:-0500
TZOFFSETTO:-0400
TZNAME:EDT
DTSTART:20220313T070000
END:DAYLIGHT
BEGIN:STANDARD
TZOFFSETFROM:-0400
TZOFFSETTO:-0500
TZNAME:EST
DTSTART:20221106T060000
END:STANDARD
END:VTIMEZONE
BEGIN:VEVENT
DTSTART;TZID=America/Detroit:20210811T180000
DTEND;TZID=America/Detroit:20210811T210000
DTSTAMP:20260424T185822
CREATED:20210709T181814Z
LAST-MODIFIED:20210712T140643Z
UID:10004337-1628704800-1628715600@www.visitglenarbor.com
SUMMARY:GLEN ARBOR ARTS CENTER HOSTS THE TRAVERSE CITY DANCE PROJECT AT THORESON FARM
DESCRIPTION:The Glen Arbor Arts Center will be hosting the Traverse City Dance Project [TCDP] and the Traverse City Orchestra string quartet for an evening of orchestral music and dance at its Thoreson Farm campus on August 11\, 7 pm. \nThis free program will feature Vivaldi’s Four Seasons as performed by the Traverse Symphony Orchestra. The performance is choreographed by Brent Whitney and Jennifer McQuiston Lott\, TCDP artistic directors; and guest choreographers: Alyssa Myers\, and Traverse City natives Maddy Falconer and Madison Vomastek.  \nThe community is invited to pack a picnic and BYOB for this collaborative event. Chairs will be provided. \nDoors open at 6 pm. The performance begins at 7 pm followed by an artist Q&A. Thoreson Farm is located at 3694 S. Thoreson Road\, Maple City. In case of rain the concert will be held on August 12. \nAdvanced registration is required. Space is limited. Reservations may be made online: https://tcdpcommunitytourglenarbor.bpt.me./  For more information go to GlenArborArt.org/EVENTS.
URL:https://www.visitglenarbor.com/event/glen-arbor-arts-center-hosts-the-traverse-city-dance-project-at-thoreson-farm/
LOCATION:MI
CATEGORIES:Art/Gallery/Exhibit,Music
ATTACH;FMTTYPE=image/jpeg:https://www.visitglenarbor.com/wp-content/uploads/2021/07/TCDP2021_Webslide.jpg
ORGANIZER;CN="Glen Arbor Arts Center":MAILTO:director@glenarborart.org
END:VEVENT
END:VCALENDAR