BEGIN:VCALENDAR
VERSION:2.0
PRODID:-//Glen Lake Chamber of Commerce - ECPv6.15.19//NONSGML v1.0//EN
CALSCALE:GREGORIAN
METHOD:PUBLISH
X-WR-CALNAME:Glen Lake Chamber of Commerce
X-ORIGINAL-URL:https://www.visitglenarbor.com
X-WR-CALDESC:Events for Glen Lake Chamber of Commerce
REFRESH-INTERVAL;VALUE=DURATION:PT1H
X-Robots-Tag:noindex
X-PUBLISHED-TTL:PT1H
BEGIN:VTIMEZONE
TZID:America/Detroit
BEGIN:DAYLIGHT
TZOFFSETFROM:-0500
TZOFFSETTO:-0400
TZNAME:EDT
DTSTART:20230312T070000
END:DAYLIGHT
BEGIN:STANDARD
TZOFFSETFROM:-0400
TZOFFSETTO:-0500
TZNAME:EST
DTSTART:20231105T060000
END:STANDARD
BEGIN:DAYLIGHT
TZOFFSETFROM:-0500
TZOFFSETTO:-0400
TZNAME:EDT
DTSTART:20240310T070000
END:DAYLIGHT
BEGIN:STANDARD
TZOFFSETFROM:-0400
TZOFFSETTO:-0500
TZNAME:EST
DTSTART:20241103T060000
END:STANDARD
BEGIN:DAYLIGHT
TZOFFSETFROM:-0500
TZOFFSETTO:-0400
TZNAME:EDT
DTSTART:20250309T070000
END:DAYLIGHT
BEGIN:STANDARD
TZOFFSETFROM:-0400
TZOFFSETTO:-0500
TZNAME:EST
DTSTART:20251102T060000
END:STANDARD
END:VTIMEZONE
BEGIN:VEVENT
DTSTART;TZID=America/Detroit:20240411T080000
DTEND;TZID=America/Detroit:20240411T170000
DTSTAMP:20260420T010523
CREATED:20240411T182819Z
LAST-MODIFIED:20240411T182855Z
UID:10005419-1712822400-1712854800@www.visitglenarbor.com
SUMMARY:Mother's Day Brunch
DESCRIPTION:Sit back and relax and celebrate this special day! Enjoy a Mother’s Day Brunch\, featuring Eggs Benedict\, Pork Belly Eggs Benedict\, Coffee Cake French Toast\, Egg Scrambles\, Biscuits & Gravy\, and other brunch favorites! Sunday\, May 12\, there will be seatings at 10am\, 11:30am\, and 1pm.  Reservations are required. Please call 231-228-8869 to reserve your seat or discuss menus.
URL:https://www.visitglenarbor.com/event/mothers-day-brunch-2/
LOCATION:Broomstack Kitchen & Taphouse\, 172 W Burdickville Rd\, Maple City\, MI\, 49664
CATEGORIES:Food/Dining Event,Kids + Family Friendly,Local Business Event
ATTACH;FMTTYPE=image/png:https://www.visitglenarbor.com/wp-content/uploads/2024/04/Screenshot-2024-04-09-at-1.31.56-PM.png
END:VEVENT
END:VCALENDAR