BEGIN:VCALENDAR
VERSION:2.0
PRODID:-//Glen Lake Chamber of Commerce - ECPv6.15.20//NONSGML v1.0//EN
CALSCALE:GREGORIAN
METHOD:PUBLISH
X-ORIGINAL-URL:https://www.visitglenarbor.com
X-WR-CALDESC:Events for Glen Lake Chamber of Commerce
REFRESH-INTERVAL;VALUE=DURATION:PT1H
X-Robots-Tag:noindex
X-PUBLISHED-TTL:PT1H
BEGIN:VTIMEZONE
TZID:America/Detroit
BEGIN:DAYLIGHT
TZOFFSETFROM:-0500
TZOFFSETTO:-0400
TZNAME:EDT
DTSTART:20210314T070000
END:DAYLIGHT
BEGIN:STANDARD
TZOFFSETFROM:-0400
TZOFFSETTO:-0500
TZNAME:EST
DTSTART:20211107T060000
END:STANDARD
BEGIN:DAYLIGHT
TZOFFSETFROM:-0500
TZOFFSETTO:-0400
TZNAME:EDT
DTSTART:20220313T070000
END:DAYLIGHT
BEGIN:STANDARD
TZOFFSETFROM:-0400
TZOFFSETTO:-0500
TZNAME:EST
DTSTART:20221106T060000
END:STANDARD
BEGIN:DAYLIGHT
TZOFFSETFROM:-0500
TZOFFSETTO:-0400
TZNAME:EDT
DTSTART:20230312T070000
END:DAYLIGHT
BEGIN:STANDARD
TZOFFSETFROM:-0400
TZOFFSETTO:-0500
TZNAME:EST
DTSTART:20231105T060000
END:STANDARD
END:VTIMEZONE
BEGIN:VEVENT
DTSTART;TZID=America/Detroit:20220611T100000
DTEND;TZID=America/Detroit:20220611T150000
DTSTAMP:20260425T172651
CREATED:20220610T151101Z
LAST-MODIFIED:20220610T151101Z
UID:10004639-1654941600-1654959600@www.visitglenarbor.com
SUMMARY:OPEN HOUSE AT THE GLEN LAKE MANOR
DESCRIPTION:Please join us for an Open House at The Glen Lake Manor. Enjoy refreshments on the huge front porch with view of Little Glen Lake and The Dune Climb. Stay and chat for a meet and greet with the next generation of ownership. As we are planning the re-use of The Glen Lake Manor we are seeking valuable input from our community. We look forward to seeing you at The Glen Lake Manor!
URL:https://www.visitglenarbor.com/event/open-house-at-the-glen-lake-manor/
LOCATION:The Manor on Glen Lake\, 7345 W Glenmere Rd\, Empire\, MI\, United States
CATEGORIES:Local Business Event
ATTACH;FMTTYPE=image/jpeg:https://www.visitglenarbor.com/wp-content/uploads/2022/06/TheGLMANOR.jpg
END:VEVENT
BEGIN:VEVENT
DTSTART;TZID=America/Detroit:20220615T170000
DTEND;TZID=America/Detroit:20220615T190000
DTSTAMP:20260425T172651
CREATED:20220519T161358Z
LAST-MODIFIED:20220519T161733Z
UID:10003226-1655312400-1655319600@www.visitglenarbor.com
SUMMARY:Art After Hours In Glen Arbor
DESCRIPTION:Nine Glen Arbor galleries and artists studios will keep the night light burning this summer as part of Art After Hours. \nArt After Hours takes place June 15\, July 20\, and August 17\, 5-7 pm. It offers visitors a chance to take a self-guided walking tour of galleries located in Glen Arbor’s art district – a five-block area from Lake Street to M-22 to M-109 West. Participating galleries are: Arbor Gallery\, Center Gallery\, Forest Gallery\, Glen Arbor Artisans\, Glen Arbor Arts Center\, Glen Lake Artists Gallery\, Margo Burian Fine Art\, North Gallery\, and Synchronicity Gallery. \nFor more information\, gallery locations and more\, go to GlenArborArt.org / EVENTS; or call Synchronicity Gallery\, 231/334-4732.
URL:https://www.visitglenarbor.com/event/art-after-hours-in-glen-arbor/
LOCATION:Downtown Glen Arbor\, Glen Arbor\, MI\, 49636\, United States
CATEGORIES:Art/Gallery/Exhibit,Community Events,Local Business Event,Wine/Beer or Tasting Event
ATTACH;FMTTYPE=image/jpeg:https://www.visitglenarbor.com/wp-content/uploads/2022/05/AfterHours_2022_FB-e1659377146815.jpg
ORGANIZER;CN="Glen Arbor Arts Center":MAILTO:director@glenarborart.org
END:VEVENT
BEGIN:VEVENT
DTSTART;TZID=America/Detroit:20220616T170000
DTEND;TZID=America/Detroit:20220616T190000
DTSTAMP:20260425T172651
CREATED:20220504T173916Z
LAST-MODIFIED:20220504T180133Z
UID:10004584-1655398800-1655406000@www.visitglenarbor.com
SUMMARY:Chamber Connect: Summer Sipper
DESCRIPTION:Members of local businesses and organizations are invited to connect with the Glen Lake Chamber in a social hour from 5-7pm. From learning about business updates and meeting new people\, Chamber Connect is a chance to cultivate conversations and support each other. \nFree to attend. Open to Chamber and Non-Chamber members. Already a member? You’re encouraged to attend and invite a non-member\, neighbor\, friend\, or colleague. Four events are planned throughout the 2022 season: \n\n\nSpring Fling on May 12th at Cherry Republic (Winery in Glen Arbor)\nSummer Sipper on June 16th at DeVette & Ford in Glen Arbor\nFall Roundup on September 15th at M22 Wine Patio\nThat’s a Wrap on October 20th at La Becasse restaurant in Burdickville
URL:https://www.visitglenarbor.com/event/chamber-connect-summer-sipper/
LOCATION:Devette & Ford Insurance Agency\, 6669 W Western Ave\, Glen Arbor\, MI\, 49636\, United States
CATEGORIES:Chamber Events,Local Business Event
ATTACH;FMTTYPE=image/jpeg:https://www.visitglenarbor.com/wp-content/uploads/2022/05/social-hour-cheers-photo.jpeg
END:VEVENT
END:VCALENDAR