BEGIN:VCALENDAR
VERSION:2.0
PRODID:-//Glen Lake Chamber of Commerce - ECPv6.15.19//NONSGML v1.0//EN
CALSCALE:GREGORIAN
METHOD:PUBLISH
X-WR-CALNAME:Glen Lake Chamber of Commerce
X-ORIGINAL-URL:https://www.visitglenarbor.com
X-WR-CALDESC:Events for Glen Lake Chamber of Commerce
REFRESH-INTERVAL;VALUE=DURATION:PT1H
X-Robots-Tag:noindex
X-PUBLISHED-TTL:PT1H
BEGIN:VTIMEZONE
TZID:America/Detroit
BEGIN:DAYLIGHT
TZOFFSETFROM:-0500
TZOFFSETTO:-0400
TZNAME:EDT
DTSTART:20160313T070000
END:DAYLIGHT
BEGIN:STANDARD
TZOFFSETFROM:-0400
TZOFFSETTO:-0500
TZNAME:EST
DTSTART:20161106T060000
END:STANDARD
BEGIN:DAYLIGHT
TZOFFSETFROM:-0500
TZOFFSETTO:-0400
TZNAME:EDT
DTSTART:20170312T070000
END:DAYLIGHT
BEGIN:STANDARD
TZOFFSETFROM:-0400
TZOFFSETTO:-0500
TZNAME:EST
DTSTART:20171105T060000
END:STANDARD
BEGIN:DAYLIGHT
TZOFFSETFROM:-0500
TZOFFSETTO:-0400
TZNAME:EDT
DTSTART:20180311T070000
END:DAYLIGHT
BEGIN:STANDARD
TZOFFSETFROM:-0400
TZOFFSETTO:-0500
TZNAME:EST
DTSTART:20181104T060000
END:STANDARD
END:VTIMEZONE
BEGIN:VEVENT
DTSTART;TZID=America/Detroit:20171124T060000
DTEND;TZID=America/Detroit:20171124T090000
DTSTAMP:20260422T185853
CREATED:20171109T233641Z
LAST-MODIFIED:20200309T054835Z
UID:10002987-1511503200-1511514000@www.visitglenarbor.com
SUMMARY:Pajama Party ~ Shopping Event in Glen Arbor
DESCRIPTION:“Better than Black Friday” shopping in Glen Arbor happens annually at participating restaurants and retailers from 6-9am on Friday\, Nov. 24th\, 2017.  Join the community for this fun holiday shopping event in your pajamas.  \nLike\, Share & RSVP to the Event on Facebook! \nDon’t miss: \nLater that evening is the Tree Lighting/Caroling and on Saturday Nov 25th is also Glen Arbor’s Holiday Marketplace!
URL:https://www.visitglenarbor.com/event/pajama-party-shopping-event-in-glen-arbor/
LOCATION:Downtown Glen Arbor\, Glen Arbor\, MI\, 49636\, United States
CATEGORIES:Chamber Events,Community Events,Food/Dining Event,Local Business Event
ATTACH;FMTTYPE=image/jpeg:https://www.visitglenarbor.com/wp-content/uploads/2020/03/Glen-Arbor-Pajama-Party_Better-than-black-friday-shopping-2017-e1510252592506.jpg
END:VEVENT
END:VCALENDAR