BEGIN:VCALENDAR
VERSION:2.0
PRODID:-//Glen Lake Chamber of Commerce - ECPv6.15.20//NONSGML v1.0//EN
CALSCALE:GREGORIAN
METHOD:PUBLISH
X-WR-CALNAME:Glen Lake Chamber of Commerce
X-ORIGINAL-URL:https://www.visitglenarbor.com
X-WR-CALDESC:Events for Glen Lake Chamber of Commerce
REFRESH-INTERVAL;VALUE=DURATION:PT1H
X-Robots-Tag:noindex
X-PUBLISHED-TTL:PT1H
BEGIN:VTIMEZONE
TZID:America/Detroit
BEGIN:DAYLIGHT
TZOFFSETFROM:-0500
TZOFFSETTO:-0400
TZNAME:EDT
DTSTART:20160313T070000
END:DAYLIGHT
BEGIN:STANDARD
TZOFFSETFROM:-0400
TZOFFSETTO:-0500
TZNAME:EST
DTSTART:20161106T060000
END:STANDARD
BEGIN:DAYLIGHT
TZOFFSETFROM:-0500
TZOFFSETTO:-0400
TZNAME:EDT
DTSTART:20170312T070000
END:DAYLIGHT
BEGIN:STANDARD
TZOFFSETFROM:-0400
TZOFFSETTO:-0500
TZNAME:EST
DTSTART:20171105T060000
END:STANDARD
BEGIN:DAYLIGHT
TZOFFSETFROM:-0500
TZOFFSETTO:-0400
TZNAME:EDT
DTSTART:20180311T070000
END:DAYLIGHT
BEGIN:STANDARD
TZOFFSETFROM:-0400
TZOFFSETTO:-0500
TZNAME:EST
DTSTART:20181104T060000
END:STANDARD
END:VTIMEZONE
BEGIN:VEVENT
DTSTART;TZID=America/Detroit:20170801T150000
DTEND;TZID=America/Detroit:20170801T160000
DTSTAMP:20260424T200837
CREATED:20170708T021757Z
LAST-MODIFIED:20200309T054830Z
UID:10002692-1501599600-1501603200@www.visitglenarbor.com
SUMMARY:Tuesday Tea and Talk Series Aug 1
DESCRIPTION:Tuesday Tea and Talk Series\nExplore the backgrounds of unique gemstones while enjoying tea in Becky’s garden.\nBring a friend and join us\, this is a free event.  \nTuesday afternoons at 3pm from July 11-August 8th. \nBecky Thatcher Designs\nin Glen Arbor\, Michigan  \nR.S.V.P. (231) 334-3826
URL:https://www.visitglenarbor.com/event/tuesday-tea-and-talk-series-aug-1/
LOCATION:Becky Thatcher Designs\, 5795 Lake Street\, Glen Arbor\, MI\, 49636\, United States
CATEGORIES:Art/Gallery/Exhibit,Local Business Event,Recreation
END:VEVENT
BEGIN:VEVENT
DTSTART;TZID=America/Detroit:20170804T110000
DTEND;TZID=America/Detroit:20170810T150000
DTSTAMP:20260424T200837
CREATED:20170616T220255Z
LAST-MODIFIED:20200309T054822Z
UID:10002647-1501844400-1502377200@www.visitglenarbor.com
SUMMARY:Center Gallery Home + Table Show
DESCRIPTION:Center Gallery hosts the Home + Table Show Aug. 4-10 at the gallery\, 6023 S. Lake St.\, Glen Arbor. A reception to open this group show is Aug. 4\, 6-8 p.m. \nHome is where the art is\, and Home + Table celebrates artist-made objects for the abode – from artisan cutting board\, hand built ceramic tableware\, hand-pulled woodblock and fish prints\, to forged barbecue and picnic implements\, and paper ornaments. The exhibition features work by studio artists represented by Lake Street Studios\, and invited friends. A list of exhibitors is at www.lakestreetstudiosglenarbor.com. \nAs part of the show\, exhibiting potter John Huston will conduct a raku firing on Sunday\, Aug. 6\, 1 p.m. on the gallery’s side yard. Raku is an ancient Japanese method of firing clay objects using natural materials — paper\, dried vegetation – to fuel the fire. A raku firing is underscored by centuries of tradition and ritual\, making it a full-senses experience. For more information\, please call Center Gallery\, 231/334-3179.
URL:https://www.visitglenarbor.com/event/center-gallery-home-table-show/
LOCATION:Center Gallery at Lake Street Studios
CATEGORIES:Art/Gallery/Exhibit,Local Business Event
ATTACH;FMTTYPE=image/jpeg:https://www.visitglenarbor.com/wp-content/uploads/2020/03/Northern-Home-Table-Show_August-4th-10th-2017.jpg
END:VEVENT
BEGIN:VEVENT
DTSTART;TZID=America/Detroit:20170808T150000
DTEND;TZID=America/Detroit:20170808T160000
DTSTAMP:20260424T200837
CREATED:20170708T021246Z
LAST-MODIFIED:20200309T054830Z
UID:10002691-1502204400-1502208000@www.visitglenarbor.com
SUMMARY:Tuesday Tea and Talk Series Aug 8
DESCRIPTION:Tuesday Tea and Talk Series\nExplore the backgrounds of unique gemstones while enjoying tea in Becky’s garden.\nBring a friend and join us\, this is a free event.  \nTuesday afternoons at 3pm from July 11-August 8th. \nBecky Thatcher Designs\nin Glen Arbor\, Michigan  \nR.S.V.P. (231) 334-3826
URL:https://www.visitglenarbor.com/event/tuesday-tea-and-talk-series-aug-8/
LOCATION:Becky Thatcher Designs\, 5795 Lake Street\, Glen Arbor\, MI\, 49636\, United States
CATEGORIES:Art/Gallery/Exhibit,Local Business Event,Recreation
END:VEVENT
END:VCALENDAR