BEGIN:VCALENDAR
VERSION:2.0
PRODID:-//Glen Lake Chamber of Commerce - ECPv6.15.20//NONSGML v1.0//EN
CALSCALE:GREGORIAN
METHOD:PUBLISH
X-WR-CALNAME:Glen Lake Chamber of Commerce
X-ORIGINAL-URL:https://www.visitglenarbor.com
X-WR-CALDESC:Events for Glen Lake Chamber of Commerce
REFRESH-INTERVAL;VALUE=DURATION:PT1H
X-Robots-Tag:noindex
X-PUBLISHED-TTL:PT1H
BEGIN:VTIMEZONE
TZID:America/Detroit
BEGIN:DAYLIGHT
TZOFFSETFROM:-0500
TZOFFSETTO:-0400
TZNAME:EDT
DTSTART:20160313T070000
END:DAYLIGHT
BEGIN:STANDARD
TZOFFSETFROM:-0400
TZOFFSETTO:-0500
TZNAME:EST
DTSTART:20161106T060000
END:STANDARD
BEGIN:DAYLIGHT
TZOFFSETFROM:-0500
TZOFFSETTO:-0400
TZNAME:EDT
DTSTART:20170312T070000
END:DAYLIGHT
BEGIN:STANDARD
TZOFFSETFROM:-0400
TZOFFSETTO:-0500
TZNAME:EST
DTSTART:20171105T060000
END:STANDARD
BEGIN:DAYLIGHT
TZOFFSETFROM:-0500
TZOFFSETTO:-0400
TZNAME:EDT
DTSTART:20180311T070000
END:DAYLIGHT
BEGIN:STANDARD
TZOFFSETFROM:-0400
TZOFFSETTO:-0500
TZNAME:EST
DTSTART:20181104T060000
END:STANDARD
END:VTIMEZONE
BEGIN:VEVENT
DTSTART;TZID=America/Detroit:20170711T150000
DTEND;TZID=America/Detroit:20170711T160000
DTSTAMP:20260425T065956
CREATED:20170708T015842Z
LAST-MODIFIED:20200309T054830Z
UID:10002686-1499785200-1499788800@www.visitglenarbor.com
SUMMARY:Tuesday Tea and Talk Series July 11
DESCRIPTION:Tuesday Tea and Talk Series\nExplore the backgrounds of unique gemstones while enjoying tea in Becky’s garden.\nBring a friend and join us\, this is a free event.  \nTuesday afternoons at 3pm from July 11-August 8th. \nBecky Thatcher Designs\nin Glen Arbor\, Michigan  \nR.S.V.P. (231) 334-3826
URL:https://www.visitglenarbor.com/event/tea-and-talk-series-july-11/
LOCATION:Becky Thatcher Designs\, 5795 Lake Street\, Glen Arbor\, MI\, 49636\, United States
CATEGORIES:Art/Gallery/Exhibit,Local Business Event,Recreation
END:VEVENT
BEGIN:VEVENT
DTSTART;TZID=America/Detroit:20170718T150000
DTEND;TZID=America/Detroit:20170718T160000
DTSTAMP:20260425T065956
CREATED:20170708T020321Z
LAST-MODIFIED:20200309T054830Z
UID:10002688-1500390000-1500393600@www.visitglenarbor.com
SUMMARY:Tuesday Tea and Talk Series July 18
DESCRIPTION:Tuesday Tea and Talk Series\nExplore the backgrounds of unique gemstones while enjoying tea in Becky’s garden.\nBring a friend and join us\, this is a free event.  \nTuesday afternoons at 3pm from July 11-August 8th. \nBecky Thatcher Designs\nin Glen Arbor\, Michigan  \nR.S.V.P. (231) 334-3826
URL:https://www.visitglenarbor.com/event/tuesday-tea-and-talk-july-18/
LOCATION:Becky Thatcher Designs\, 5795 Lake Street\, Glen Arbor\, MI\, 49636\, United States
CATEGORIES:Art/Gallery/Exhibit,Local Business Event,Recreation
END:VEVENT
BEGIN:VEVENT
DTSTART;TZID=America/Detroit:20170725T150000
DTEND;TZID=America/Detroit:20170725T160000
DTSTAMP:20260425T065956
CREATED:20170708T020545Z
LAST-MODIFIED:20200309T054830Z
UID:10002690-1500994800-1500998400@www.visitglenarbor.com
SUMMARY:Tuesday Tea and Talk Series July 25
DESCRIPTION:Tuesday Tea and Talk Series\nExplore the backgrounds of unique gemstones while enjoying tea in Becky’s garden.\nBring a friend and join us\, this is a free event.  \nTuesday afternoons at 3pm from July 11-August 8th. \nBecky Thatcher Designs\nin Glen Arbor\, Michigan  \nR.S.V.P. (231) 334-3826
URL:https://www.visitglenarbor.com/event/tuesday-tea-and-talk-series-july-25/
LOCATION:Becky Thatcher Designs\, 5795 Lake Street\, Glen Arbor\, MI\, 49636\, United States
CATEGORIES:Art/Gallery/Exhibit,Local Business Event,Recreation
END:VEVENT
END:VCALENDAR