BEGIN:VCALENDAR
VERSION:2.0
PRODID:-//Glen Lake Chamber of Commerce - ECPv6.15.19//NONSGML v1.0//EN
CALSCALE:GREGORIAN
METHOD:PUBLISH
X-WR-CALNAME:Glen Lake Chamber of Commerce
X-ORIGINAL-URL:https://www.visitglenarbor.com
X-WR-CALDESC:Events for Glen Lake Chamber of Commerce
REFRESH-INTERVAL;VALUE=DURATION:PT1H
X-Robots-Tag:noindex
X-PUBLISHED-TTL:PT1H
BEGIN:VTIMEZONE
TZID:America/Detroit
BEGIN:DAYLIGHT
TZOFFSETFROM:-0500
TZOFFSETTO:-0400
TZNAME:EDT
DTSTART:20240310T070000
END:DAYLIGHT
BEGIN:STANDARD
TZOFFSETFROM:-0400
TZOFFSETTO:-0500
TZNAME:EST
DTSTART:20241103T060000
END:STANDARD
BEGIN:DAYLIGHT
TZOFFSETFROM:-0500
TZOFFSETTO:-0400
TZNAME:EDT
DTSTART:20250309T070000
END:DAYLIGHT
BEGIN:STANDARD
TZOFFSETFROM:-0400
TZOFFSETTO:-0500
TZNAME:EST
DTSTART:20251102T060000
END:STANDARD
BEGIN:DAYLIGHT
TZOFFSETFROM:-0500
TZOFFSETTO:-0400
TZNAME:EDT
DTSTART:20260308T070000
END:DAYLIGHT
BEGIN:STANDARD
TZOFFSETFROM:-0400
TZOFFSETTO:-0500
TZNAME:EST
DTSTART:20261101T060000
END:STANDARD
END:VTIMEZONE
BEGIN:VEVENT
DTSTART;TZID=America/Detroit:20250815T090000
DTEND;TZID=America/Detroit:20251023T150000
DTSTAMP:20260423T131608
CREATED:20250731T174617Z
LAST-MODIFIED:20250731T174617Z
UID:10008236-1755248400-1761231600@www.visitglenarbor.com
SUMMARY:HIStory / HERstory: Whose Story?
DESCRIPTION:PRESS RELEASE\nContact:\nScott Bouma\nExecutive Director\nGlen Arbor Arts Center\n231 334 6112\ndirector@glenarborart.org \nHIStory / HERstory: Whose Story? [August 15 – October 23\, 2025] \nThe Glen Arbor Arts Center takes on the question of history and voice in its next exhibition. HIStory/HERstory: Whose Story? is an exhibition that explores the idea that the victors have written history. This version of history has often been told from one perspective — while other histories have been ignored\, deleted\, denied\, left out of the official record. The exhibition opens August 15\, 5 pm with a reception in the GAAC Main Gallery. \nWhether it’s visual art\, literature\, film\, sports\, science\, politics\, education\, animal\, mineral\, real or imagined history\, this exhibition asks:  \n•	Who’s telling what stories?\n•	Who’s included in the official record?\n•	Who’s excluded? Omitted? Erased? \nTwenty-four exhibitors take on these questions\, and answer them with work about what’s included in the art historical canon; a fractured telling of Native American history; the voices inside a mom’s head; and other topics. Read more about the exhibit\, and exhibition companion programs. View it online at GlenArborArt.org / EXHIBITS. HIStory / HERstory runs through October 23.
URL:https://www.visitglenarbor.com/event/history-herstory-whose-story/
LOCATION:Glen Arbor Arts Center\, 6031 S. Lake Street\, Glen Arbor\, MI\, 49636
CATEGORIES:Art/Gallery/Exhibit,Community Events,Kids + Family Friendly
ATTACH;FMTTYPE=image/jpeg:https://www.visitglenarbor.com/wp-content/uploads/2025/07/2018_Member-Exhibition_1.jpg
END:VEVENT
BEGIN:VEVENT
DTSTART;VALUE=DATE:20251011
DTEND;VALUE=DATE:20251013
DTSTAMP:20260423T131608
CREATED:20251014T152033Z
LAST-MODIFIED:20251014T152033Z
UID:10008429-1760140800-1760313599@www.visitglenarbor.com
SUMMARY:Leaf Days
DESCRIPTION:Come Join Us for Our Leaf Days Event in Glen Arbor! Fall Fun for All Ages: Games\, kids’ activities\, pumpkin painting and more\nLive Music: Saturday\, Oct. 11 1-4pm with Luke Woltanski & John Piatek\nPumpkin Carving: Sunday\, Oct. 1 1-3pm Lord of the Gourd will be carving special pumpkins\nFood & Drink Specials: Unique fall avors available all weekend long!
URL:https://www.visitglenarbor.com/event/leaf-days/
LOCATION:Cherry Public House\, 6026 South Lake Street\, Glen Arbor\, MI\, 49636
CATEGORIES:Community Events,Food/Dining Event,Kids + Family Friendly
ATTACH;FMTTYPE=image/png:https://www.visitglenarbor.com/wp-content/uploads/2025/10/Screenshot-2025-10-06-at-1.36.00-PM.png
ORGANIZER;CN="Cherry Republic":MAILTO:experience@cherryrepublic.com
END:VEVENT
BEGIN:VEVENT
DTSTART;TZID=America/Detroit:20251012T110000
DTEND;TZID=America/Detroit:20251012T140000
DTSTAMP:20260423T131608
CREATED:20251003T170624Z
LAST-MODIFIED:20251003T172803Z
UID:10008396-1760266800-1760277600@www.visitglenarbor.com
SUMMARY:Fall Flannel Festival at Glen Lake Schools
DESCRIPTION:Glen Lake Community School’s second annual Fall Flannel Festival – Sunday\, October 12th from 11am-2pm. This family friendly event offers something for everyone: Games\, Touch-a-Truck\, bounce houses\, face painting and hair tinsel\, mum and pumpkin sales\, taco truck\, and much more!\n\n$5/person\n$20/family
URL:https://www.visitglenarbor.com/event/fall-flannel-festival-at-glen-lake-schools/
LOCATION:MI
CATEGORIES:Community Events,Kids + Family Friendly
ATTACH;FMTTYPE=image/jpeg:https://www.visitglenarbor.com/wp-content/uploads/2025/10/fall-flannel-festival-glen-lake-schools-2025.jpg
END:VEVENT
END:VCALENDAR