BEGIN:VCALENDAR
VERSION:2.0
PRODID:-//Glen Lake Chamber of Commerce - ECPv6.15.19//NONSGML v1.0//EN
CALSCALE:GREGORIAN
METHOD:PUBLISH
X-ORIGINAL-URL:https://www.visitglenarbor.com
X-WR-CALDESC:Events for Glen Lake Chamber of Commerce
REFRESH-INTERVAL;VALUE=DURATION:PT1H
X-Robots-Tag:noindex
X-PUBLISHED-TTL:PT1H
BEGIN:VTIMEZONE
TZID:America/Detroit
BEGIN:DAYLIGHT
TZOFFSETFROM:-0500
TZOFFSETTO:-0400
TZNAME:EDT
DTSTART:20230312T070000
END:DAYLIGHT
BEGIN:STANDARD
TZOFFSETFROM:-0400
TZOFFSETTO:-0500
TZNAME:EST
DTSTART:20231105T060000
END:STANDARD
BEGIN:DAYLIGHT
TZOFFSETFROM:-0500
TZOFFSETTO:-0400
TZNAME:EDT
DTSTART:20240310T070000
END:DAYLIGHT
BEGIN:STANDARD
TZOFFSETFROM:-0400
TZOFFSETTO:-0500
TZNAME:EST
DTSTART:20241103T060000
END:STANDARD
BEGIN:DAYLIGHT
TZOFFSETFROM:-0500
TZOFFSETTO:-0400
TZNAME:EDT
DTSTART:20250309T070000
END:DAYLIGHT
BEGIN:STANDARD
TZOFFSETFROM:-0400
TZOFFSETTO:-0500
TZNAME:EST
DTSTART:20251102T060000
END:STANDARD
END:VTIMEZONE
BEGIN:VEVENT
DTSTART;VALUE=DATE:20240607
DTEND;VALUE=DATE:20240809
DTSTAMP:20260421T220731
CREATED:20240514T181204Z
LAST-MODIFIED:20240514T181204Z
UID:10004234-1717718400-1723161599@www.visitglenarbor.com
SUMMARY:GAAC Members Create Returns
DESCRIPTION:An annual tradition returns to the Glen Arbor Arts Center. Members Create\, an exhibition showcasing GAAC members’ talent\, opens in the GAAC Main Gallery with a reception June 7\, 5- 8 pm. The exhibit features the work of 41 current members\, in an array of work: 2D + 3D media including: clay\, collage\, fiber\, mixed media\, painting\, printmaking\, photography\, sculpture\, and more.\nThe evening is rounded out with a performance by the Fivemind Reeds Quintet\, 7-8 pm on the GAAC Front Porch Stage. The Los Angeles-based reed quintet\, part of the Interlochen Center for the Arts’ Sound Garden project and the GAAC’s Mantiou Music series\, will perform a program of revitalized chamber music. Concertgoers are encouraged to bring their own seating\, and refreshments. In the event of inclement weather\, the concert will be cancelled.\n Members Create may also be viewed online. The virtual version may be found at: GlenArborArt.org/EXHIBITS. Members Create is on display through August 8. The GAAC is located at 6031 S. Lake St.\, Glen Arbor.
URL:https://www.visitglenarbor.com/event/gaac-members-create-returns/
LOCATION:Glen Arbor Arts Center\, 6031 S. Lake Street\, Glen Arbor\, MI\, 49636
CATEGORIES:Art/Gallery/Exhibit,Community Events,Kids + Family Friendly
ATTACH;FMTTYPE=image/jpeg:https://www.visitglenarbor.com/wp-content/uploads/2024/05/MembersCreateB2024_Webslide-002.jpg
ORGANIZER;CN="Glen Arbor Arts Center":MAILTO:director@glenarborart.org
END:VEVENT
BEGIN:VEVENT
DTSTART;TZID=America/Detroit:20240704T120000
DTEND;TZID=America/Detroit:20240704T140000
DTSTAMP:20260421T220731
CREATED:20240301T195313Z
LAST-MODIFIED:20240702T170042Z
UID:10005376-1720094400-1720101600@www.visitglenarbor.com
SUMMARY:Glen Arbor 4th of July Parade 2024
DESCRIPTION:“Stan Brubaker’s” Celebrate America – 4th of July Parade\, 2024\nCelebrate America on the 4th of July with floats and vintage cars\, as they parade from Glen Haven to Glen Arbor at 12 Noon.\nJim Dorsey will be honored as our Grand Marshall for the 4th of July Parade this year. Jim\, an Empire treasure\, is enjoying his 100 th year on Glen Lake. His service as Empire postmaster for 28 years and his first-hand recall of local events during the past century is cherished by all his friends and acquaintances.  \nThis annual community parade is open to anyone who wants to celebrate the founding of our great country on its birthday. Parade vehicles will gather in Glen Haven early Thursday morning at 10:30am and will proceed towards Glen Arbor at Noon. Walkers are asked not to join the parade until the last vehicle passes the Christian Science Church\, via Forest Haven Rd. \nThis is all of our parade! Please help keep yourself and others safe. Many stretches are very crowded. Please keep children away from entering the street and follow the guidance from the “broom crew” which is comprised of many volunteers who “broom” candy from the street. Water balloons and squirt guns are prohibited\, and we ask you to spread the word to all our spectators. Anyone is welcome to participate. No registration is required. \nPlease contact the Township office at (231)334-3539 if you can help with the “broom crew.”  More helpers are always welcome. Flagging tape linking orange cones emphasize the boundary for parents and their children. 
URL:https://www.visitglenarbor.com/event/4th-of-july-parade-2024/
LOCATION:Downtown Glen Arbor\, Glen Arbor\, MI\, 49636\, United States
CATEGORIES:Chamber Events,Community Events,Kids + Family Friendly,Local Business Event
ATTACH;FMTTYPE=image/jpeg:https://www.visitglenarbor.com/wp-content/uploads/2024/02/Stan-Brubakers-4th-of-July-Parade-e1719250292544.jpg
END:VEVENT
BEGIN:VEVENT
DTSTART;TZID=America/Detroit:20240704T143000
DTEND;TZID=America/Detroit:20240704T163000
DTSTAMP:20260421T220731
CREATED:20240701T230138Z
LAST-MODIFIED:20240701T230138Z
UID:10005853-1720103400-1720110600@www.visitglenarbor.com
SUMMARY:Live Music with Luke Woltanski
DESCRIPTION:Live Music with Luke Woltanski at Bel Lago Vineyard from 2:30-4:30pm on Thursday July 4\, 2024
URL:https://www.visitglenarbor.com/event/live-music-with-luke-woltanski/
LOCATION:Bel Lago\, 6530 S LAKE SHORE DR\, CEDAR\, MI\, 49621-9615\, United States
CATEGORIES:Kids + Family Friendly,Music,Wine/Beer or Tasting Event
ORGANIZER;CN="Bel Lago":MAILTO:info@bellago.com
END:VEVENT
BEGIN:VEVENT
DTSTART;TZID=America/Detroit:20240704T190000
DTEND;TZID=America/Detroit:20240704T210000
DTSTAMP:20260421T220731
CREATED:20240717T181412Z
LAST-MODIFIED:20240910T013948Z
UID:10005539-1720119600-1720126800@www.visitglenarbor.com
SUMMARY:River Club Glen Arbor
DESCRIPTION:Enjoy Live Music on the lawn at River Club in Glen Arbor\, every Thursday – Saturday in September. We invite you to check out our website for the performer’s schedule. \nhttps://www.rcglenarbor.com/live-music
URL:https://www.visitglenarbor.com/event/river-club-glen-arbor/2024-07-04/
LOCATION:River Club Glen Arbor\, 5963 S. Oak Street\, Glen Arbor\, 49636\, United States
CATEGORIES:Food/Dining Event,Kids + Family Friendly,Music
ATTACH;FMTTYPE=image/jpeg:https://www.visitglenarbor.com/wp-content/uploads/2024/07/river-club-summer-2024-IMG_8731.jpeg
END:VEVENT
END:VCALENDAR