BEGIN:VCALENDAR
VERSION:2.0
PRODID:-//Glen Lake Chamber of Commerce - ECPv6.15.19//NONSGML v1.0//EN
CALSCALE:GREGORIAN
METHOD:PUBLISH
X-WR-CALNAME:Glen Lake Chamber of Commerce
X-ORIGINAL-URL:https://www.visitglenarbor.com
X-WR-CALDESC:Events for Glen Lake Chamber of Commerce
REFRESH-INTERVAL;VALUE=DURATION:PT1H
X-Robots-Tag:noindex
X-PUBLISHED-TTL:PT1H
BEGIN:VTIMEZONE
TZID:America/Detroit
BEGIN:DAYLIGHT
TZOFFSETFROM:-0500
TZOFFSETTO:-0400
TZNAME:EDT
DTSTART:20230312T070000
END:DAYLIGHT
BEGIN:STANDARD
TZOFFSETFROM:-0400
TZOFFSETTO:-0500
TZNAME:EST
DTSTART:20231105T060000
END:STANDARD
BEGIN:DAYLIGHT
TZOFFSETFROM:-0500
TZOFFSETTO:-0400
TZNAME:EDT
DTSTART:20240310T070000
END:DAYLIGHT
BEGIN:STANDARD
TZOFFSETFROM:-0400
TZOFFSETTO:-0500
TZNAME:EST
DTSTART:20241103T060000
END:STANDARD
BEGIN:DAYLIGHT
TZOFFSETFROM:-0500
TZOFFSETTO:-0400
TZNAME:EDT
DTSTART:20250309T070000
END:DAYLIGHT
BEGIN:STANDARD
TZOFFSETFROM:-0400
TZOFFSETTO:-0500
TZNAME:EST
DTSTART:20251102T060000
END:STANDARD
END:VTIMEZONE
BEGIN:VEVENT
DTSTART;TZID=America/Detroit:20240511T110000
DTEND;TZID=America/Detroit:20240511T120000
DTSTAMP:20260422T235418
CREATED:20240508T113554Z
LAST-MODIFIED:20240508T113554Z
UID:10005430-1715425200-1715428800@www.visitglenarbor.com
SUMMARY:MUSIC: BY FOOT!
DESCRIPTION:Pete Farmer\, founder and owner of Farmer Foot Drums\, brings his menagerie of hand- and foot-operated percussion instruments and music to the Glen Arbor Arts Center\, May 11\, for a family-friendly program. This concert of interactive songs begins at 11 am. The program is free. No registration is required. Children must be accompanied by adults.\nFarmer will bring his instrument petting zoo to the May 11 program. Participants will be able to try out several of Farmer’s inventive\, and unexpected hand-built instruments following his performance.\nA Leelanau County resident\, Farmer performs at the GAAC as part of By Hand\, a project exploring the creativity of human hand work in a techno-centric age. By Hand continues through May 30\, and is supported by Michigan Humanities. For more information go to GlenArborArt.org / EVENTS.
URL:https://www.visitglenarbor.com/event/music-by-foot-2/
LOCATION:Glen Arbor Arts Center\, 6031 S. Lake Street\, Glen Arbor\, MI\, 49636
CATEGORIES:Community Events,Kids + Family Friendly,Music
ATTACH;FMTTYPE=image/jpeg:https://www.visitglenarbor.com/wp-content/uploads/2024/04/pete-farmer.jpg
ORGANIZER;CN="Glen Arbor Arts Center":MAILTO:director@glenarborart.org
END:VEVENT
BEGIN:VEVENT
DTSTART;TZID=America/Detroit:20240511T110000
DTEND;TZID=America/Detroit:20240511T130000
DTSTAMP:20260422T235418
CREATED:20240508T113549Z
LAST-MODIFIED:20240625T155711Z
UID:10005429-1715425200-1715432400@www.visitglenarbor.com
SUMMARY:MUSIC: BY FOOT!
DESCRIPTION:Pete Farmer\, founder and owner of Farmer Foot Drums\, brings his menagerie of hand- and foot-operated percussion instruments and music to the Glen Arbor Arts Center\, May 11\, for a family-friendly program. This concert of interactive songs begins at 11 am. The program is free. No registration is required. Children must be accompanied by adults. \nFarmer will bring his instrument petting zoo to the May 11 program. Participants will be able to try out several of Farmer’s inventive\, and unexpected hand-built instruments following his performance. \nA Leelanau County resident\, Farmer performs at the GAAC as part of By Hand\, a project exploring the creativity of human hand work in a techno-centric age. By Hand continues through May 30\, and is supported by Michigan Humanities. For more information go to GlenArborArt.org / EVENTS.
URL:https://www.visitglenarbor.com/event/music-by-foot/
LOCATION:Glen Arbor Arts Center\, 6031 S. Lake Street\, Glen Arbor\, MI\, 49636
CATEGORIES:Art/Gallery/Exhibit,Community Events,Kids + Family Friendly
ATTACH;FMTTYPE=image/jpeg:https://www.visitglenarbor.com/wp-content/uploads/2024/04/Burian_BeachRunFinLoRez.jpg
ORGANIZER;CN="Glen Arbor Arts Center":MAILTO:director@glenarborart.org
END:VEVENT
END:VCALENDAR