BEGIN:VCALENDAR
VERSION:2.0
PRODID:-//Glen Lake Chamber of Commerce - ECPv6.15.19//NONSGML v1.0//EN
CALSCALE:GREGORIAN
METHOD:PUBLISH
X-WR-CALNAME:Glen Lake Chamber of Commerce
X-ORIGINAL-URL:https://www.visitglenarbor.com
X-WR-CALDESC:Events for Glen Lake Chamber of Commerce
REFRESH-INTERVAL;VALUE=DURATION:PT1H
X-Robots-Tag:noindex
X-PUBLISHED-TTL:PT1H
BEGIN:VTIMEZONE
TZID:America/Detroit
BEGIN:DAYLIGHT
TZOFFSETFROM:-0500
TZOFFSETTO:-0400
TZNAME:EDT
DTSTART:20220313T070000
END:DAYLIGHT
BEGIN:STANDARD
TZOFFSETFROM:-0400
TZOFFSETTO:-0500
TZNAME:EST
DTSTART:20221106T060000
END:STANDARD
BEGIN:DAYLIGHT
TZOFFSETFROM:-0500
TZOFFSETTO:-0400
TZNAME:EDT
DTSTART:20230312T070000
END:DAYLIGHT
BEGIN:STANDARD
TZOFFSETFROM:-0400
TZOFFSETTO:-0500
TZNAME:EST
DTSTART:20231105T060000
END:STANDARD
BEGIN:DAYLIGHT
TZOFFSETFROM:-0500
TZOFFSETTO:-0400
TZNAME:EDT
DTSTART:20240310T070000
END:DAYLIGHT
BEGIN:STANDARD
TZOFFSETFROM:-0400
TZOFFSETTO:-0500
TZNAME:EST
DTSTART:20241103T060000
END:STANDARD
END:VTIMEZONE
BEGIN:VEVENT
DTSTART;TZID=America/Detroit:20230719T100000
DTEND;TZID=America/Detroit:20230719T160000
DTSTAMP:20260422T204402
CREATED:20230209T213115Z
LAST-MODIFIED:20230714T150034Z
UID:10004781-1689760800-1689782400@www.visitglenarbor.com
SUMMARY:51st Annual Glen Lake Woman's Club Art Fair
DESCRIPTION:2023 marks the 51st annual Glen Lake Woman’s Club Art Fair\, a juried Art Fair with over 90 artists carefully selected to represent a wide variety of one-of-a-kind art pieces for sale at the Glen Arbor Township Hall. The Art Fair features artisans in many mediums including pottery\, painting\, textiles\, woodworking\, and jewelry. Each year\, thousands of people shop for that unique piece of art\, either for themselves or for a special gift. The event takes place at the Glen Arbor Township Hall from 10am to 4pm. \nMeg DeJager\, Art Fair co-chair states\, “I am involved in the Glen Lake Woman’s Club Art Fair because of the high quality art provided by the juried vendors during such a fun day for the entire community. With free admission\, the vendors offer a wide variety of styles and price points for every shopper.” \nRuthy Bolton\, co-chair of the Art Fair\, volunteers for this special event because the Art Fair provides scholarships for Glen Lake High School students as they continue their education at Northwestern Michigan College in Traverse City. DeJager also noted that vendor booth rentals\, popcorn and bake sales\, lunch\, Club jewelry booth\, and auction items all provide funds for the student scholarship fund. \nThe Art Fair is a popular event in the community\, often making this the busiest day of the year in Glen Arbor. Many shoppers return to visit the booths of their favorite artists or to explore the artwork of new vendors. Dozens of Glen Lake Woman’s Club members\, supported by family friends and members of the Empire Lions Club all volunteer to make sure the day runs smoothly for both vendors and community members. \nSince 1980\, the Glen Lake Woman’s Club has awarded $307\,110 to 240 students with both 1st\, 2nd\, and 3rd year scholarships to Northwestern Michigan College. The scholarships are announced at the Glen Lake High School Honors Night in May.
URL:https://www.visitglenarbor.com/event/51st-annual-glen-lake-womans-club-art-fair/
LOCATION:Glen Arbor Township Hall
CATEGORIES:Art/Gallery/Exhibit,Community Events,Kids + Family Friendly
ATTACH;FMTTYPE=image/jpeg:https://www.visitglenarbor.com/wp-content/uploads/2023/02/IMG_7876-2-scaled.jpg
END:VEVENT
BEGIN:VEVENT
DTSTART;TZID=America/Detroit:20230719T173000
DTEND;TZID=America/Detroit:20230719T183000
DTSTAMP:20260422T204402
CREATED:20211004T141427Z
LAST-MODIFIED:20211004T141427Z
UID:10004474-1689787800-1689791400@www.visitglenarbor.com
SUMMARY:Yen Yoga at Nature
DESCRIPTION:Join us in an inspiring space for a community yoga class\, held weekly on Wednesday’s at 5:30 pm. Hosted at Nature in Maple City by Yen Yoga & Fitness. \nThis ia an all-level yoga flow class. Please bring your own yoga mat and practice social distancing. \nSign up to participate is required at yenyogafitness.com  You may sign up online up to 8 days in advance\, or feel free to call us at 231-421-5496
URL:https://www.visitglenarbor.com/event/yen-yoga-at-nature/2023-07-19/
LOCATION:Nature\, 2988 W Burdickville Rd\, Maple City\, MI\, 49664\, United States
CATEGORIES:Community Events,Kids + Family Friendly,Recreation
ATTACH;FMTTYPE=image/png:https://www.visitglenarbor.com/wp-content/uploads/2021/03/Green-Inspirational-Spring-Quote-Facebook-Post.png
ORGANIZER;CN="Nature - A Michigan Retreat":MAILTO:admin@naturemichigan.com
END:VEVENT
BEGIN:VEVENT
DTSTART;TZID=America/Detroit:20230719T220000
DTEND;TZID=America/Detroit:20230719T235900
DTSTAMP:20260422T204402
CREATED:20230224T182331Z
LAST-MODIFIED:20230224T182405Z
UID:10003935-1689804000-1689811140@www.visitglenarbor.com
SUMMARY:Lanphier Observatory Public Viewing
DESCRIPTION:See the sky! The public is welcome to attend “Lanphier Observatory Public Viewings” on Wednesday & Thursday nights from 10 pm-Midnight (clear sky permitting!) at Leelanau School Beach\, June 21st-August 24th. \nDonation Students $4\, Adults $5. \nVisitors may park in any Leelanau School lot and walk down the scenic boardwalk\, across the Crystal River\, to the  Lanphier Observatory boardwalk.
URL:https://www.visitglenarbor.com/event/lanphier-observatory-public-viewing/2023-07-19/
LOCATION:Leelanau School\, 1 Old Homestead Rd\, Glen Arbor\, MI\, 49636\, United States
CATEGORIES:Community Events,Kids + Family Friendly,Recreation
ATTACH;FMTTYPE=image/jpeg:https://www.visitglenarbor.com/wp-content/uploads/2020/03/Observatory-Night-1-e1532113488695.jpg
END:VEVENT
END:VCALENDAR